BEGIN:VCALENDAR
VERSION:2.0
PRODID:-//wp-events-plugin.com//7.2.3.1//EN
TZID:Europe/Vienna
X-WR-TIMEZONE:Europe/Vienna
BEGIN:VEVENT
UID:103@insidetouch.de
DTSTART;TZID=Europe/Vienna:20260120T190000
DTEND;TZID=Europe/Vienna:20260120T220000
DTSTAMP:20260107T221453Z
URL:https://www.insidetouch.de/events/yoniverse-offene-frauengruppe/
SUMMARY:Yoniverse mit Nirmala - Wir feiern die Schwesternschaft
DESCRIPTION:✨ Yoniverse ist back – und der Schwesternkreis öffnet wied
 er seine Arme ✨\nDem Ort\, an dem Frauen gemeinsam atmen\, fühlen\, lac
 hen\, sich halten – und manchmal auch herausfinden\, dass in ihnen viel 
 mehr Leuchten steckt\, als sie dachten.Schwesternschaft zum Reinfallen. Ve
 rbindung zum Auftanken.\nIm geschützten Kreis erschaffen wir einen Raum f
 ür Heilung\, Inspiration und tiefe Begegnung.Wir tauchen ein in die weibl
 iche Welt – mit Bewegung\, Berührung\, Ritualen\, Austausch und heilsam
 er Körperarbeit.Warm. Echt. Ungefiltert. So wie es unter Schwestern eben 
 ist.\n\nRahmen:\n• Ort: FGZ Regensburg (genaue Adresse bei Anmeldung)•
  Teilnehmerinnen: max. 15• Ausgleich: Spendenbasis 30–50 € nach Selb
 steinschätzung/Einkommen\, bei momentan finanziell ungünstiger Lage spri
 ch uns gerne an\, wir finden eine Lösung. Barzahlung vor Ort.&nbsp\;
ATTACH;FMTTYPE=image/jpeg:https://www.insidetouch.de/wp-content/uploads/20
 23/10/lustschule_700_700.jpg
CATEGORIES:Frauen Seminare,offene Frauengruppe,Yoniverse
LOCATION:FGZ - Frauengesundheitszentrum Regensburg\, Grasgasse 10\, Hinterh
 of rechts\, Regensburg\, 93047\, Deutschland
X-APPLE-STRUCTURED-LOCATION;VALUE=URI;X-ADDRESS=Grasgasse 10\, Hinterhof re
 chts\, Regensburg\, 93047\, Deutschland;X-APPLE-RADIUS=100;X-TITLE=FGZ - F
 rauengesundheitszentrum Regensburg:geo:0,0
END:VEVENT
BEGIN:VTIMEZONE
TZID:Europe/Vienna
X-LIC-LOCATION:Europe/Vienna
BEGIN:STANDARD
DTSTART:20251026T020000
TZOFFSETFROM:+0200
TZOFFSETTO:+0100
TZNAME:CET
END:STANDARD
END:VTIMEZONE
END:VCALENDAR