BEGIN:VCALENDAR
VERSION:2.0
PRODID:-//wp-events-plugin.com//7.2.3.1//EN
TZID:Europe/Vienna
X-WR-TIMEZONE:Europe/Vienna
BEGIN:VEVENT
UID:296@insidetouch.de
DTSTART;TZID=Europe/Vienna:20260302T190000
DTEND;TZID=Europe/Vienna:20260302T220000
DTSTAMP:20260301T230037Z
URL:https://www.insidetouch.de/events/yoniverse-mit-nirmala-wir-feiern-die
 -schwesternschaft/
SUMMARY:Yoniverse mit Nirmala - „Zwischen Wildfrau & Prinzessin – und w
 o wohnt eigentlich der innere Mann?“
DESCRIPTION:✨ Yoniverse ist back – und der Schwesternkreis öffnet wied
 er seine Arme ✨\nDem Ort\, an dem Frauen gemeinsam atmen\, fühlen\, lac
 hen\, sich halten – und manchmal auch herausfinden\, dass in ihnen viel 
 mehr Leuchten steckt\, als sie dachten.Schwesternschaft zum Reinfallen. Ve
 rbindung zum Auftanken.\nIm geschützten Kreis erschaffen wir einen Raum f
 ür Heilung\, Inspiration und tiefe Begegnung.Wir tauchen ein in die weibl
 iche Welt – mit Bewegung\, Berührung\, Ritualen\, Austausch und heilsam
 er Körperarbeit.Warm. Echt. Ungefiltert. So wie es unter Schwestern eben 
 ist.\nThema:\n„Zwischen Wildfrau &amp\; Prinzessin – und wo wohnt eige
 ntlich der innere Mann?“🫅🏼💪🏼💃🏼🕺🏼&nbsp\;\n\nKenns
 t du das?\n\nMal willst du stark\, klar und durchsetzungsfähig sein – u
 nd im nächsten Moment weich\, hingebungsvoll und einfach nur gehalten wer
 den.\n\nUnd irgendwo dazwischen sitzt eine innere Stimme und fragt: „Dar
 f ich das alles sein?“\n\nAn diesem Abend erforschen wir unsere inneren 
 Bilder von Weiblichkeit und Männlichkeit.\n\nWelche Rollen haben wir gele
 rnt? Welche dienen uns noch – und welche dürfen liebevoll in Rente gehe
 n?\n\nWir begegnen der Kriegerin\, der Liebenden\, der Macherin\, der Sanf
 ten … und vielleicht auch dem inneren Mann\, der schon viel zu lange Üb
 erstunden macht 😉\n\nEin Raum für Frauen\, die neugierig sind\, sich s
 elbst näher kommen wollen – und Lust haben\, sich ein Stück freier\, w
 ahrhaftiger und lebendiger zu fühlen.\n\nKeine Vorkenntnisse nötig. Nur 
 du. In all deinen Facetten. 💃✨\n\nWir freuen uns auf Euch!&nbsp\;\n\n
 Nirmala\, Fanny &amp\; Rebecca 🌸\nRahmen:\n• Ort: FGZ Regensburg (gen
 aue Adresse bei Anmeldung)• Teilnehmerinnen: max. 16• Ausgleich: Spend
 enbasis 30–50 € nach Selbsteinschätzung/Einkommen\, bei momentan fina
 nziell ungünstiger Lage sprich uns gerne an\, wir finden eine Lösung. Ba
 rzahlung vor Ort.&nbsp\;
ATTACH;FMTTYPE=image/jpeg:https://www.insidetouch.de/wp-content/uploads/20
 23/10/lustschule_700_700.jpg
CATEGORIES:Frauen Seminare,offene Frauengruppe,Yoniverse
LOCATION:FGZ - Frauengesundheitszentrum Regensburg\, Grasgasse 10\, Hinterh
 of rechts\, Regensburg\, 93047\, Deutschland
X-APPLE-STRUCTURED-LOCATION;VALUE=URI;X-ADDRESS=Grasgasse 10\, Hinterhof re
 chts\, Regensburg\, 93047\, Deutschland;X-APPLE-RADIUS=100;X-TITLE=FGZ - F
 rauengesundheitszentrum Regensburg:geo:0,0
END:VEVENT
BEGIN:VTIMEZONE
TZID:Europe/Vienna
X-LIC-LOCATION:Europe/Vienna
BEGIN:STANDARD
DTSTART:20251026T020000
TZOFFSETFROM:+0200
TZOFFSETTO:+0100
TZNAME:CET
END:STANDARD
END:VTIMEZONE
END:VCALENDAR