BEGIN:VCALENDAR
VERSION:2.0
PRODID:-//wp-events-plugin.com//7.2.3.1//EN
TZID:Europe/Vienna
X-WR-TIMEZONE:Europe/Vienna
BEGIN:VEVENT
UID:297@insidetouch.de
DTSTART;TZID=Europe/Vienna:20260325T190000
DTEND;TZID=Europe/Vienna:20260325T220000
DTSTAMP:20260126T145649Z
URL:https://www.insidetouch.de/events/yoniverse-mit-nirmala-wir-feiern-die
 -schwesternschaft-2/
SUMMARY:Yoniverse mit Nirmala - "Optimierung geschlossen – wir fühlen je
 tzt"
DESCRIPTION:✨ Yoniverse ist back – und der Schwesternkreis öffnet wied
 er seine Arme ✨\nDem Ort\, an dem Frauen gemeinsam atmen\, fühlen\, lac
 hen\, sich halten – und manchmal auch herausfinden\, dass in ihnen viel 
 mehr Leuchten steckt\, als sie dachten.Schwesternschaft zum Reinfallen. Ve
 rbindung zum Auftanken.\nIm geschützten Kreis erschaffen wir einen Raum f
 ür Heilung\, Inspiration und tiefe Begegnung.Wir tauchen ein in die weibl
 iche Welt – mit Bewegung\, Berührung\, Ritualen\, Austausch und heilsam
 er Körperarbeit.Warm. Echt. Ungefiltert. So wie es unter Schwestern eben 
 ist.\nThema:\n"Optimierung geschlossen – wir fühlen jetzt" (Ein Abend g
 egen Selbstoptimierung und für mehr Körperlust)\nWas wäre\, wenn dein K
 örper kein Projekt mehr wäre\, sondern dein Zuhause?Wenn du aufhörst\, 
 ihn zu bewerten – und anfängst\, ihn zu bewohnen.\nViele von uns haben 
 gelernt\, sich selbst von außen zu betrachten. Der Kapitalismus freut sic
 h\, wir zahlen den Preis. Dieser Frauenkreis lädt ein zum spielerischen F
 orschen: Wie kommen wir raus aus der Selbstobjektifizierung und zurück in
 s Spüren? Was wird frei\, wenn Selbstoptimierung Pause macht?\nEin Abend 
 zum Neugierig-Sein\, Fühlen\, Lachen – und dazu\, dich selbst und ander
 e Frauen mit neuen Augen zu sehen. ✨\n\nRahmen:\n• Ort: FGZ Regensburg
  (genaue Adresse bei Anmeldung)• Teilnehmerinnen: max. 16• Ausgleich: 
 Spendenbasis 30–50 € nach Selbsteinschätzung/Einkommen\, bei momentan
  finanziell ungünstiger Lage sprich uns gerne an\, wir finden eine Lösun
 g. Barzahlung vor Ort.&nbsp\;
ATTACH;FMTTYPE=image/jpeg:https://www.insidetouch.de/wp-content/uploads/20
 23/10/lustschule_700_700.jpg
CATEGORIES:Frauen Seminare,offene Frauengruppe,Yoniverse
LOCATION:FGZ - Frauengesundheitszentrum Regensburg\, Grasgasse 10\, Hinterh
 of rechts\, Regensburg\, 93047\, Deutschland
X-APPLE-STRUCTURED-LOCATION;VALUE=URI;X-ADDRESS=Grasgasse 10\, Hinterhof re
 chts\, Regensburg\, 93047\, Deutschland;X-APPLE-RADIUS=100;X-TITLE=FGZ - F
 rauengesundheitszentrum Regensburg:geo:0,0
END:VEVENT
BEGIN:VTIMEZONE
TZID:Europe/Vienna
X-LIC-LOCATION:Europe/Vienna
BEGIN:STANDARD
DTSTART:20251026T020000
TZOFFSETFROM:+0200
TZOFFSETTO:+0100
TZNAME:CET
END:STANDARD
END:VTIMEZONE
END:VCALENDAR