BEGIN:VCALENDAR
VERSION:2.0
PRODID:-//wp-events-plugin.com//7.2.3.1//EN
TZID:Europe/Vienna
X-WR-TIMEZONE:Europe/Vienna
BEGIN:VEVENT
UID:138@insidetouch.de
DTSTART;TZID=Europe/Vienna:20250517T110000
DTEND;TZID=Europe/Vienna:20250517T213000
DTSTAMP:20250515T060632Z
URL:https://www.insidetouch.de/events/von-om-bis-ohlala/
SUMMARY:Von Om bis Ohlala
DESCRIPTION:ein Tag voller tantrischer Rituale für Menschen mit Erfahrung\
 nDu hast Tantra-Erfahrung und Lust auf einen Tag voller Begegnung\, Leicht
 igkeit und Tiefe mit Menschen die\, wie Du\, schon Tantra -Erfahrung haben
 ? Dann bist du hier genau richtig!\n\nAn diesem besonderen Tag nehmen wir 
 uns erst einmal Zeit\, einander wirklich zu begegnen – mit offenen Herze
 n\, neugierigen Blicken und ganz viel Präsenz.\n\nGemeinsam erkunden wir 
 die Dynamik von männlicher und weiblicher Energie. Alles natürlich in de
 inem Tempo\, mit viel Raum für deine persönlichen Grenzen.\n\nDen Großt
 eil des Tages verbringen wir mit tantrischen Begegnungsritualen. Hier kann
 st du genießen\, dich fallen lassen und vielleicht sogar neue\, korrigier
 ende Erfahrungen machen – alles in einer Atmosphäre von Leichtigkeit un
 d Respekt.\n\nWas brauchst du? Nur dich\, deine Bereitschaft und die Lust 
 auf einen Tag voller Sinnlichkeit\, Wärme und echter Verbindung.\n\n&nbsp
 \;\n\nTANTRA\nist sein\, wer und wie du bist\ndich berühren lassen und be
 rühren\ndich annehmen wie du bist\ndeine Ganzheit leben und anerkennen\nd
 einen Sex\, deine Liebe und dein Bewusstsein miteinander verweben\ndie Hoc
 hzeit deines inneren Mannes und deiner inneren Frau\ndich mit der Existenz
  verbunden fühlen\ndich und andere nicht bewerten\, sondern erleben\nSEIN
 \nTun aus der Stille des Seins\nNichts müssen oder sollen\ngeschehen lass
 en\nmit allen Sinnen fühlen und spielen\nAlles durch dich hindurch lassen
 \, nichts festhalten\nHingabe mit Selbst - Bewusstsein\nnach Hause kommen\
 ndich mit anderen Menschen verbinden können\nheilige und heilende Erotik\
 naus der Quelle trinken\nnackt geborgen sein\nstill und ekstatisch\nein Ta
 nz\, ein Weg\neine Reise in deine Mitte\nohne Anfang und ohne Ende\ndu bis
 t schon unterwegs!\n\n-Saleem Matthias Riek-\n\n&nbsp\;\n\nWir - Nirmala H
 eld (HP Psych Traumatherapie und Sexualberatung) -\n\nund JJ Gruber (Erwac
 hsenenbildung) laden DICH sehr herzlich ein\, diesen Tag mit uns zu verbri
 ngen.\n\nAssistenz-Team: Angela H\, Arunima P.\, Martin P.&nbsp\;\n\n&nbsp
 \;\n\nSeminarzeiten:\n\nSamstag von 11:00 bis 21:30 Uhr&nbsp\;\n\nDieses S
 eminar ist nur für Menschen mit Erfahrung geeignet. (es wird keine Einfü
 hrung/Demo für die Rituale geben)\n\nDie Gruppe ist offen für Frauen\, M
 änner\, Divers\, Paare\n\n&nbsp\;\n\nFrühbucher bis 05.04.2025
ATTACH;FMTTYPE=image/jpeg:https://www.insidetouch.de/wp-content/uploads/20
 23/10/lustschule.jpg
CATEGORIES:offener Workshop,Workshop
LOCATION:Das Loft - Triftern\, nähe Pfarrkichen\, Triftern\, Bayern\, 8437
 1\, Deutschland
X-APPLE-STRUCTURED-LOCATION;VALUE=URI;X-ADDRESS=nähe Pfarrkichen\, Trifter
 n\, Bayern\, 84371\, Deutschland;X-APPLE-RADIUS=100;X-TITLE=Das Loft - Tri
 ftern:geo:0,0
END:VEVENT
BEGIN:VTIMEZONE
TZID:Europe/Vienna
X-LIC-LOCATION:Europe/Vienna
BEGIN:DAYLIGHT
DTSTART:20250330T030000
TZOFFSETFROM:+0100
TZOFFSETTO:+0200
TZNAME:CEST
END:DAYLIGHT
END:VTIMEZONE
END:VCALENDAR