BEGIN:VCALENDAR
VERSION:2.0
PRODID:-//wp-events-plugin.com//7.2.3.1//EN
TZID:Europe/Vienna
X-WR-TIMEZONE:Europe/Vienna
BEGIN:VEVENT
UID:295@insidetouch.de
DTSTART;TZID=Europe/Vienna;VALUE=DATE:20261228
DTEND;TZID=Europe/Vienna;VALUE=DATE:20270104
DTSTAMP:20260413T080325Z
URL:https://www.insidetouch.de/events/touching-transition-26-27/
SUMMARY:Touching Transition 26/27
DESCRIPTION:Silvester-Seminar&nbsp\;\n"Touching-Transition" - ein berühren
 d\, exstatischer Übergang ins neue Jahr\nin Gemeinschaft mit wundervollen
  Menschen\, gutem Essen\, Sauna\, Luxus und dem geilsten Blick\, den man s
 ich vorstellen kann!\nSo werden wir würdig das alte Jahr beenden und in e
 inem Ritual am Meer\, nicht mehr dienliches verabschieden und fürs neue J
 ahr ALLES manifestieren was uns glücklich\, freudig und frei macht!\nGeme
 insam werden wir unsere Absichten für das kommende Jahr setzen\, unsere T
 räume und Ziele teilen und Energie in die Manifestation unseres Glücks f
 ließen lassen. Es wird auch viele Momente der Stille und Reflexion geben\
 , damit jeder die Möglichkeit hat\, sich auf sich selbst zu besinnen und 
 zu entspannen.\n\nEs wird Raum geben für deine eigenen wertvollen persön
 lichen Entwicklungsprozesse\, für gehaltene\, liebevolle Erfahrungen in d
 er Gruppe \, sowie liebevollen und sinnlichen Körperkontakt.&nbsp\;\n\nDu
 rch die kleine Gruppengröße von nur 14-16 Teilnehmer wirst du sehr indiv
 iduell und intensiv von uns betreut.&nbsp\;\nDer Blick auf die Gruppe und 
 Deine Prozesse ist natürlich von meiner trauma-therapeutischen Erfahrung 
 geprägt.&nbsp\;\n\nEs wird viel Zeit geben zum integrieren\, vertiefen\, 
 spazieren\, lecker Essen\, die Gegend erkunden\, lesen\, spielen\, in die 
 Sauna gehen…. Einfach SEIN!!!\n\nWir legen großen Wert auf Gemeinschaft
 sprozesse und dass du dich in die Gemeinschaft einbringst (durch dein Sein
 \, aber auch durch Aufgaben wie kochen oder Tisch decken die du zum Wohle 
 Aller übernimmst)\n\nWir freuen uns\, wenn DU dabei bist!\n\n&nbsp\;\n\nZ
 usätzlich zum Selbsterfahrungs-Seminar ist folgendes im Preis enthalten:\
 n\n* Übernachtung mit reichhaltigem Frühstück (von uns zubereitet)\n\n*
  sowie Wasser\, Säfte\, Tee und Kaffee ganztags\n\n* ein Mittagssnack\, d
 en du dir selber zubereiten kannst\n\n* sowie ein gemeinschaftlich zuberei
 tetes Abendessen\n\nNicht enthalten: alkoholische Getränke und ein Abende
 ssen im Restaurant (optional)\n\n&nbsp\;\n\nEs besteht kein Anspruch auf e
 in bestimmtes Zimmer. Wir versuchen aber deine Zimmerbuchung zu berücksic
 htigen.\n\nDas Seminar startet am Montag um 18:30 Uhr mit dem Abendessen u
 nd dauert bis Sonntag 14:00 Uhr. Wir wünschen uns dass du verbindlich bis
  zum Ende des Seminars bleiben kannst.&nbsp\; Eine Verlängerung bis Monta
 g Vormittag (10:00 Uhr) mit einem Aufpreis von 45\,-€\, ohne Seminarprog
 ramm und Verpflegung (Reste-Essen)\, ist möglich.\n\nDieses Seminar ist a
 uch für Menschen ohne Vorerfahrung geeignet. (bist du unsicher? Dann schr
 eib uns gerne eine email an: nirmala@insidetouch.de). Mit Menschen die wir
  nicht kennen\, gibt es vorab einen Kennenlerntermin über Zoom.\n\nWir ac
 hten nicht auf ein ausgewogenes Mann-Frau-Verhältnis\, da wir davon ausge
 hen\, dass das Universum dafür sorgt\, dass genau die richtigen Menschen 
 miteinander diese Zeit verbringen werden. Wir&nbsp\;heißen Menschen aller
  Geschlechtsidentitäten\, Körperformen und sexuellen Orientierungen&nbsp
 \;zwischen 18 und 99 sehr willkommen.&nbsp\;\n\n&nbsp\;\n\nDieses Seminar 
 ist für dich geeignet\, wenn du….\n\n- authentische Begegnungen suchst 
 und bereit bist dich authentisch zu zeigen\n\n- Freude daran hast\, Neues 
 an dir und anderen zu entdecken\n\n- bereit bist\, dich mit deinen Gefühl
 en und Schatten auseinanderzusetzen\n\n- Lust auf gemeinschaftliches Erleb
 en hast\n\n- ein grundsätzliches Einverständnis hast mit Menschen aller 
 Geschlechter forschen zu wollen\n\n&nbsp\;\n\nDieses Seminar ist nicht das
  Richtige für dich\, wenn du….\n\n- „nur“ auf der Suche nach schnel
 lem Sex\, zielorientiertem Körperkontakt oder einer Partner:in bist\n\n- 
 dich nicht auf Neues einlassen möchtest\n\n- wenn du keine ausreichende S
 elbstregulationsfähigkeit besitzt oder dich sehr schwer tust Deine Grenze
 n wahrzunehmen und diese zu setzen\n\n- unter keinen Umständen Menschen g
 leichen oder eines anderen Geschlechts berühren willst\,&nbsp\;\n\n- dich
  nicht mit deinen inneren Themen und Schatten auseinandersetzen möchtest\
 n\n- weißt oder vermutest\, dass du schwere (sexuelle) Traumata hast\, od
 er an einer schwerwiegenden psychischen Erkrankung leidest\n\n&nbsp\;\n\nV
 ideo: Wir freuen uns auf Dich in Istrien!\n\nWir empfehlen den Abschluss e
 ine Seminarversicherung\, Informationen dazu findest Du hier: Seminarversi
 cherung\n\nFrühbucherpreis bis 05.10.2026\n\n&nbsp\;\n&nbsp\;\n\n[ngg src
 ="galleries" ids="3" display="basic_thumbnail" thumbnail_crop="0"]
ATTACH;FMTTYPE=image/jpeg:https://www.insidetouch.de/wp-content/uploads/20
 23/11/istrien_silvester_700_700.jpg
CATEGORIES:Ferienworkshops,offene Ferienwoche,Silvester
LOCATION:Villa Ananda Istrien\, Mali Kosi 5H\, Labin - Kroatien\, 52220\, K
 roatien
X-APPLE-STRUCTURED-LOCATION;VALUE=URI;X-ADDRESS=Mali Kosi 5H\, Labin - Kroa
 tien\, 52220\, Kroatien;X-APPLE-RADIUS=100;X-TITLE=Villa Ananda Istrien:ge
 o:0,0
END:VEVENT
BEGIN:VTIMEZONE
TZID:Europe/Vienna
X-LIC-LOCATION:Europe/Vienna
BEGIN:STANDARD
DTSTART:20261025T020000
TZOFFSETFROM:+0200
TZOFFSETTO:+0100
TZNAME:CET
END:STANDARD
END:VTIMEZONE
END:VCALENDAR