BEGIN:VCALENDAR
VERSION:2.0
PRODID:-//wp-events-plugin.com//7.2.3.1//EN
TZID:Europe/Vienna
X-WR-TIMEZONE:Europe/Vienna
BEGIN:VEVENT
UID:125@insidetouch.de
DTSTART;TZID=Europe/Vienna;VALUE=DATE:20251227
DTEND;TZID=Europe/Vienna;VALUE=DATE:20260103
DTSTAMP:20251218T133102Z
URL:https://www.insidetouch.de/events/touching-transition-25-26/
SUMMARY:Touching Transition 25/26
DESCRIPTION:\n 	Silvester-Seminar&nbsp\;\n\n"Touching-Transition" - ein ber
 ührend\, exstatischer Übergang ins neue Jahr\nin Gemeinschaft mit wunder
 vollen Menschen\, gutem Essen\, Sauna\, Luxus und dem geilsten Blick\, den
  man sich vorstellen kann!\nSo werden wir würdig das alte Jahr beenden un
 d in einem Ritual am Meer\, nicht mehr dienliches verabschieden und fürs 
 neue Jahr ALLES manifestieren was uns glücklich\, freudig und frei macht!
 \nGemeinsam werden wir unsere Absichten für das kommende Jahr setzen\, un
 sere Träume und Ziele teilen und Energie in die Manifestation unseres Gl
 ücks fließen lassen. Es wird auch viele Momente der Stille und Reflexion
  geben\, damit jeder die Möglichkeit hat\, sich auf sich selbst zu besinn
 en und zu entspannen.\n\nEs wird Raum geben für deine eigenen wertvollen 
 persönlichen Entwicklungsprozesse\, für gehaltene\, liebevolle Erfahrung
 en in der Gruppe \, sowie liebevollen und sinnlichen Körperkontakt.&nbsp\
 ;\n\nDurch die kleine Gruppengröße von nur 14-16 Teilnehmer wirst du seh
 r individuell und intensiv von uns betreut.&nbsp\;\nDer Blick auf die Grup
 pe und Deine Prozesse ist natürlich von meiner trauma-therapeutischen Erf
 ahrung geprägt.&nbsp\;\n\nEs wird viel Zeit geben zum integrieren\, verti
 efen\, spazieren\, lecker Essen\, die Gegend erkunden\, lesen\, spielen\, 
 in die Sauna gehen…. Einfach SEIN!!!\n\nWir legen großen Wert auf Gemei
 nschaftsprozesse und dass du dich in die Gemeinschaft einbringst (durch de
 in Sein\, aber auch durch Aufgaben wie kochen oder Tisch decken die du zum
  Wohle Aller übernimmst)\n\nWir freuen uns\, wenn DU dabei bist!\n\n&nbsp
 \;\n\nZusätzlich zum Selbsterfahrungs-Seminar ist folgendes im Preis enth
 alten:\n\n* Übernachtung mit reichhaltigem Frühstück (von uns zubereite
 t)\n\n* sowie Wasser\, Säfte\, Tee und Kaffee ganztags\n\n* ein Mittagssn
 ack\, den du dir selber zubereiten kannst\n\n* sowie ein gemeinschaftlich 
 zubereitetes Abendessen\n\nNicht enthalten: alkoholische Getränke und ein
  Abendessen im Restaurant (optional)\n\n&nbsp\;\n\nEs besteht kein Anspruc
 h auf ein bestimmtes Zimmer. Wir versuchen aber deine Zimmerbuchung zu ber
 ücksichtigen.\n\nDas Seminar startet am Samstag um 18:30 Uhr mit dem Aben
 dessen und dauert bis Freitag 14:00 Uhr. Wir wünschen uns dass du verbind
 lich bis zum Ende des Seminars bleiben kannst.&nbsp\; Eine Verlängerung b
 is Samstag Vormittag (10:00 Uhr) mit einem Aufpreis von 45\,-€\, ohne Se
 minarprogramm und Verpflegung (Reste-Essen)\, ist möglich.\n\nDieses Semi
 nar ist auch für Menschen ohne Vorerfahrung geeignet. (bist du unsicher? 
 Dann schreib uns gerne eine email an: nirmala@insidetouch.de). Mit Mensche
 n die wir nicht kennen\, gibt es vorab einen Kennenlerntermin über Zoom.\
 n\nWir achten nicht auf ein ausgewogenes Mann-Frau-Verhältnis\, da wir da
 von ausgehen\, dass das Universum dafür sorgt\, dass genau die richtigen 
 Menschen miteinander diese Zeit verbringen werden. Wir&nbsp\;heißen Mensc
 hen aller Geschlechtsidentitäten\, Körperformen und sexuellen Orientieru
 ngen&nbsp\;zwischen 18 und 99 sehr willkommen.&nbsp\;\n\n&nbsp\;\n\nDieses
  Seminar ist für dich geeignet\, wenn du….\n\n- authentische Begegnunge
 n suchst und bereit bist dich authentisch zu zeigen\n\n- Freude daran hast
 \, Neues an dir und anderen zu entdecken\n\n- bereit bist\, dich mit deine
 n Gefühlen und Schatten auseinanderzusetzen\n\n- Lust auf gemeinschaftlic
 hes Erleben hast\n\n- ein grundsätzliches Einverständnis hast mit Mensch
 en aller Geschlechter forschen zu wollen\n\n&nbsp\;\n\nDieses Seminar ist 
 nicht das Richtige für dich\, wenn du….\n\n- „nur“ auf der Suche na
 ch schnellem Sex\, zielorientiertem Körperkontakt oder einer Partner:in b
 ist\n\n- dich nicht auf Neues einlassen möchtest\n\n- wenn du keine ausre
 ichende Selbstregulationsfähigkeit besitzt oder dich sehr schwer tust Dei
 ne Grenzen wahrzunehmen und diese zu setzen\n\n- unter keinen Umständen M
 enschen gleichen oder eines anderen Geschlechts berühren willst\,&nbsp\;\
 n\n- dich nicht mit deinen inneren Themen und Schatten auseinandersetzen m
 öchtest\n\n- weißt oder vermutest\, dass du schwere (sexuelle) Traumata 
 hast\, oder an einer schwerwiegenden psychischen Erkrankung leidest\n\n&nb
 sp\;\n\nVideo: Wir freuen uns auf Dich in Istrien!\n\nWir empfehlen den Ab
 schluss eine Seminarversicherung\, Informationen dazu findest Du hier: Sem
 inarversicherung\n\nFrühbucherpreis bis 04.10.2025\n\n&nbsp\;\nMomentan i
 st dieses Seminar ausgebucht. Solltest du Interesse haben\, melde dich seh
 r gerne unter nirmala@insidetouch.de\, dann setzen wir dich auf die Wartel
 iste.&nbsp\;\n\n[ngg src="galleries" ids="3" display="basic_thumbnail" thu
 mbnail_crop="0"]
ATTACH;FMTTYPE=image/jpeg:https://www.insidetouch.de/wp-content/uploads/20
 23/11/istrien_silvester_700_700.jpg
CATEGORIES:Ferienworkshops,offene Ferienwoche,Silvester
LOCATION:Villa Ananda Istrien\, Mali Kosi 5H\, Labin - Kroatien\, 52220\, K
 roatien
X-APPLE-STRUCTURED-LOCATION;VALUE=URI;X-ADDRESS=Mali Kosi 5H\, Labin - Kroa
 tien\, 52220\, Kroatien;X-APPLE-RADIUS=100;X-TITLE=Villa Ananda Istrien:ge
 o:0,0
END:VEVENT
BEGIN:VTIMEZONE
TZID:Europe/Vienna
X-LIC-LOCATION:Europe/Vienna
BEGIN:STANDARD
DTSTART:20251026T020000
TZOFFSETFROM:+0200
TZOFFSETTO:+0100
TZNAME:CET
END:STANDARD
END:VTIMEZONE
END:VCALENDAR