BEGIN:VCALENDAR
VERSION:2.0
PRODID:-//wp-events-plugin.com//7.2.3.1//EN
TZID:Europe/Vienna
X-WR-TIMEZONE:Europe/Vienna
BEGIN:VEVENT
UID:65@insidetouch.de
DTSTART;TZID=Europe/Vienna;VALUE=DATE:20241228
DTEND;TZID=Europe/Vienna;VALUE=DATE:20250104
DTSTAMP:20241208T232104Z
URL:https://www.insidetouch.de/events/touching-transition-24-25/
SUMMARY:Touching Transition 24/25
DESCRIPTION:Silvester-Seminar&nbsp\;\n"Touching-Transition" - ein berühren
 d\, exstatischer Übergang ins neue Jahr\nin Gemeinschaft mit wundervollen
  Menschen\, gutem Essen\, Sauna\, Luxus und dem geilsten Blick\, den man s
 ich vorstellen kann!\nSo werden wir würdig das alte Jahr beenden und in e
 inem Ritual am Meer\, nicht mehr dienliches verabschieden und fürs neue J
 ahr ALLES manifestieren was uns glücklich\, freudig und frei macht!\nGeme
 insam werden wir unsere Absichten für das kommende Jahr setzen\, unsere T
 räume und Ziele teilen und Energie in die Manifestation unseres Glücks f
 ließen lassen. Es wird auch viele Momente der Stille und Reflexion geben\
 , damit jeder die Möglichkeit hat\, sich auf sich selbst zu besinnen und 
 zu entspannen.\n\nEs wird Raum geben für deine eigenen wertvollen persön
 lichen Entwicklungsprozesse\, für gehaltene\, liebevolle Erfahrungen in d
 er Gruppe \, sowie liebevollen und sinnlichen Körperkontakt.&nbsp\;\n\nDu
 rch die kleine Gruppengröße von nur 12-16 Teilnehmer wirst du sehr indiv
 iduell und intensiv von uns betreut.&nbsp\;\nDer Blick auf die Gruppe und 
 Deine Prozesse ist natürlich von meiner trauma-therapeutischen Erfahrung 
 geprägt.&nbsp\;\n\nEs wird viel Zeit geben zum integrieren\, vertiefen\, 
 spazieren\, lecker Essen\, die Gegend erkunden\, lesen\, spielen\, in die 
 Sauna gehen…. Einfach SEIN!!!\n\nWir legen großen Wert auf Gemeinschaft
 sprozesse und dass du dich in die Gemeinschaft einbringst (durch dein Sein
 \, aber auch durch Aufgaben wie kochen\, die du zum Wohle Aller übernimms
 t)\n\nWir freuen uns\, wenn DU dabei bist!\n\n&nbsp\;\n\nZusätzlich zum S
 elbsterfahrungs-Seminar ist folgendes im Preis enthalten:\n\n* Übernachtu
 ng mit reichhaltigem Frühstück (von uns zubereitet)\n\n* sowie Wasser\, 
 Säfte\, Tee und Kaffee ganztags\n\n* ein Mittagssnack\, den du dir selber
  zubereiten kannst\n\n* sowie ein gemeinschaftlich zubereitetes Abendessen
 \n\nNicht enthalten: alkoholische Getränke und ein Abendessen im Restaura
 nt (optional)\n\n&nbsp\;\n\nEs besteht kein Anspruch auf ein bestimmtes Zi
 mmer. Wir versuchen aber deine Zimmerbuchung zu berücksichtigen.\n\nDas S
 eminar startet am Samstag um 18:30 Uhr mit dem Abendessen und dauert bis F
 reitag 13:30 Uhr. Wir wünschen uns dass du verbindlich bis zum Ende des S
 eminars bleiben kannst.&nbsp\; Eine Verlängerung bis Samstag Vormittag (1
 0:00 Uhr) mit einem Aufpreis von 40\,-€\, ohne Seminarprogramm und Verpf
 legung (Reste-Essen)\, ist möglich.\n\nDas Silvester-Seminar ist momentan
  ausgebucht. Du kannst dich aber gerne auf die Warteliste setzen lassen. S
 chreibe uns dafür ein email an: nirmala@insidetouch.de\n\nWir achten nich
 t auf ein ausgewogenes Mann-Frau-Verhältnis\, da wir davon ausgehen\, das
 s das Universum dafür sorgt\, dass genau die richtigen Menschen miteinand
 er diese Zeit verbringen werden.\n\nVideo: Wir freuen uns auf Dich in Istr
 ien!\n\nWir empfehlen den Abschluss eine Seminarversicherung\, Information
 en dazu findest Du hier: Seminarversicherung\n\nFrühbucherpreis bis 28.10
 .2024\n\nAssistenz: Michaela T. und Nina K.&nbsp\;\n\nMomentan ist das Sem
 inar leider ausgebucht. Sehr gerne können wir dich auf die Warteliste set
 zen - schreib uns dafür sehr gerne eine mail an : nirmala@insidetouch.de&
 nbsp\;\n\n&nbsp\;\n\n[ngg src="galleries" ids="3" display="basic_thumbnail
 " thumbnail_crop="0"]
ATTACH;FMTTYPE=image/jpeg:https://www.insidetouch.de/wp-content/uploads/20
 23/11/istrien_silvester_700_700.jpg
CATEGORIES:Ferienworkshops,offene Ferienwoche,Silvester
LOCATION:Villa Ananda Istrien\, Mali Kosi 5H\, Labin - Kroatien\, 52220\, K
 roatien
X-APPLE-STRUCTURED-LOCATION;VALUE=URI;X-ADDRESS=Mali Kosi 5H\, Labin - Kroa
 tien\, 52220\, Kroatien;X-APPLE-RADIUS=100;X-TITLE=Villa Ananda Istrien:ge
 o:0,0
END:VEVENT
BEGIN:VTIMEZONE
TZID:Europe/Vienna
X-LIC-LOCATION:Europe/Vienna
BEGIN:STANDARD
DTSTART:20241027T020000
TZOFFSETFROM:+0200
TZOFFSETTO:+0100
TZNAME:CET
END:STANDARD
END:VTIMEZONE
END:VCALENDAR