BEGIN:VCALENDAR
VERSION:2.0
PRODID:-//wp-events-plugin.com//7.2.3.1//EN
TZID:Europe/Vienna
X-WR-TIMEZONE:Europe/Vienna
BEGIN:VEVENT
UID:135@insidetouch.de
DTSTART;TZID=Europe/Vienna:20250712T110000
DTEND;TZID=Europe/Vienna:20250712T220000
DTSTAMP:20250708T201056Z
URL:https://www.insidetouch.de/events/touch-me-baby/
SUMMARY:No swipe - just Vibe!
DESCRIPTION:Das etwas andere Dating- für Singles 50+\, die "mehr" wollen\n
 \n\n\n\n\n\n\nIn diesem besonderen Kennenlern-Format richten wir uns an Si
 ngles im Alter von etwa 50 bis 65 Jahren\, die mehr suchen als nur oberfl
 ächliche Begegnungen. Weniger Blabla\, mehr echte Verbindungen – hier k
 ommst du auf unkomplizierte Weise in Kontakt mit anderen.\n\nHast du Lust\
 , neue Menschen kennenzulernen und dabei deine gewohnten Strategien beisei
 tezulegen? \n\nDann bist du hier genau richtig!\n\nErlebe Begegnungen in d
 er Tiefe deines Wesens – ganz ohne Show\, Performance oder Abchecken. Wi
 r bieten einen Raum\, in dem du dich auf eine neue\, tiefere Art des Kenne
 nlernens einlassen kannst. Es geht um echte Verbindungen\, authentische Ge
 spräche und das Entdecken gemeinsamer Interessen.\n\nLass dich auf eine a
 ndere Art der Begegnung ein und entdecke\, wie Offenheit\, Neugier und Sin
 nlichkeit neue Verbindungen schaffen können. In angeleiteten Begegnungsst
 rukturen hast du die Möglichkeit\, alle anwesenden Menschen näher kennen
 zulernen und herauszufinden\, wohin dein Interesse geht. Im Anschluss kann
 st du in einem frei gestalteten Forschungsraum noch einige Menschen vertie
 ft kennenlernen.\n\n&nbsp\;\n\n\n\n\n\n\n\nDas Hauptaugenmerk dieses Tages
  liegt darauf neue\, spannende Menschen kennenzulernen\, viele Begegnung z
 u erleben und\, wenn gewünscht\, auch Körperkontakt und Nähe zu erfahre
 n!&nbsp\;\n\nAuch wenn du an diesem Tag vielleicht nicht deine:n Traum-Par
 tner:in gefunden hast - du selbst hast dich sicher besser kennengelernt&nb
 sp\;\nFinde dich selbst... bevor dich Jemand anderer findet\nSeminarzeiten
 :\n\nSamstag von 11:00 Uhr bis 22:00 Uhr\n\n&nbsp\;\n\nWir -&nbsp\;Nirmala
  Held (HP Psych Traumatherapie und Sexualberatung) - und JJ Gruber&nbsp\; 
 (Erwachsenenbildung)\n\nladen DICH sehr herzlich ein\, diesen Tag mit uns 
 zu verbringen.\n\nAssistenz-Team: Alex M.\, Markus K.\, Angela H.\n\n&nbsp
 \;\n\nDieses Seminar ist für Einsteiger:innen geeignet\n\nDie Gruppe ist 
 offen für Singles und Polys - für Frauen\, Männer\, Divers\n\nFrühbuch
 erpreis bis 31.05.2025
ATTACH;FMTTYPE=image/jpeg:https://www.insidetouch.de/wp-content/uploads/20
 24/11/No_Swipe_700_700.jpg
CATEGORIES:offener Workshop,Single,Workshop
LOCATION:Das Loft - Triftern\, nähe Pfarrkichen\, Triftern\, Bayern\, 8437
 1\, Deutschland
X-APPLE-STRUCTURED-LOCATION;VALUE=URI;X-ADDRESS=nähe Pfarrkichen\, Trifter
 n\, Bayern\, 84371\, Deutschland;X-APPLE-RADIUS=100;X-TITLE=Das Loft - Tri
 ftern:geo:0,0
END:VEVENT
BEGIN:VTIMEZONE
TZID:Europe/Vienna
X-LIC-LOCATION:Europe/Vienna
BEGIN:DAYLIGHT
DTSTART:20250330T030000
TZOFFSETFROM:+0100
TZOFFSETTO:+0200
TZNAME:CEST
END:DAYLIGHT
END:VTIMEZONE
END:VCALENDAR