BEGIN:VCALENDAR
VERSION:2.0
PRODID:-//wp-events-plugin.com//7.2.3.1//EN
TZID:Europe/Vienna
X-WR-TIMEZONE:Europe/Vienna
BEGIN:VEVENT
UID:127@insidetouch.de
DTSTART;TZID=Europe/Vienna:20251025T103000
DTEND;TZID=Europe/Vienna:20251025T213000
DTSTAMP:20250928T202843Z
URL:https://www.insidetouch.de/events/tantra-for-beginners-3/
SUMMARY:Tantra for Beginners
DESCRIPTION:Tantra for Beginners "Sinnlichkeit erLeben"\nFür uns bedeutet 
 Tantra: Sein mit dem was ist. Anzunehmen was sich hier und jetzt in diesem
  Moment zeigt. Freude\, Scham\, Trauer\, Nicht-Fühlen\, Widerstand und un
 d und….\nAlles ist willkommen\, alles darf da sein! DU bist Willkommen!\
 nSehnst Du Dich nach mehr Verbundenheit\, Kontakt und Leidenschaft in Dein
 em Leben? Danach Deine Sexualität mit Deinem Herzen zu verbinden?\nWas un
 terstützt Dich\, den Zauber der Intimität zu leben?\nWir werden uns an d
 iesem Tag intensiv mit unserer Sinnlichkeit in ihren verschiedenen Facette
 n beschäftigen: Wir können Sinnlichkeit mit Anderen und uns erleben - ge
 nießen\, uns verwöhnen und verwöhnen lassen mit all unserem Wahrnehmung
 svermögen. Es geht dabei weder um sexuelle Praktiken noch um Vereinigung.
 \nVielleicht magst Du auch Deine Grenzen achtsam erkunden? In der Gruppe f
 indest Du ein gutes Übungsfeld um immer mehr Verantwortung für Deine Bed
 ürfnisse\, Deine Sinnlichkeit und für DICH zu übernehmen.\nWir bieten D
 ir einen Raum in dem Du Deine Lebendigkeit neu entdecken und Deine ungeleb
 ten Anteile von Sanftheit bis Wildheit erfahren kannst.\nDieser 1-Tages-Wo
 rkshop ist eine gute Gelegenheit für Schon-Immer-Interessierte\, Einsteig
 er:Innen und Zögernde die sich nicht gleich für ein ganzes Wochenendsemi
 nar entscheiden können… und für Alle\, die schon immer mal wissen woll
 ten\, was sich hinter dem magischen Wort Tantra eigentlich verbirgt. (auf 
 jeden Fall nicht\, Sex mit Räucherstäbchen \;-))\n\n&nbsp\;\n\nWir - Nir
 mala Held (HP Psych Traumatherapie und Sexualberatung) -\n\nund JJ Gruber 
 (Erwachsenenbildung) laden DICH sehr herzlich ein\, diesen Tag mit uns zu 
 verbringen.\n\nAssistenz-Team: Rebecca G. und Tobias B.\n\n&nbsp\;\n\n&nbs
 p\;\n\nSeminarzeiten:\n\nSamstag von 10:30 (!!) bis 21:30 Uhr&nbsp\;\n\nDi
 eses Seminar ist für Einsteiger:innen geeignet\n\nDie Gruppe ist offen f
 ür Frauen\, Männer\, Divers\, Paare\n\n&nbsp\;\n\nFrühbucher bis 21.09.
 2025
ATTACH;FMTTYPE=image/jpeg:https://www.insidetouch.de/wp-content/uploads/20
 23/10/tantra_for_beginners_700_700.jpg
CATEGORIES:offener Workshop,Workshop
LOCATION:Das Loft - Triftern\, nähe Pfarrkichen\, Triftern\, Bayern\, 8437
 1\, Deutschland
X-APPLE-STRUCTURED-LOCATION;VALUE=URI;X-ADDRESS=nähe Pfarrkichen\, Trifter
 n\, Bayern\, 84371\, Deutschland;X-APPLE-RADIUS=100;X-TITLE=Das Loft - Tri
 ftern:geo:0,0
END:VEVENT
BEGIN:VTIMEZONE
TZID:Europe/Vienna
X-LIC-LOCATION:Europe/Vienna
BEGIN:DAYLIGHT
DTSTART:20250330T030000
TZOFFSETFROM:+0100
TZOFFSETTO:+0200
TZNAME:CEST
END:DAYLIGHT
END:VTIMEZONE
END:VCALENDAR