BEGIN:VCALENDAR
VERSION:2.0
PRODID:-//wp-events-plugin.com//7.2.3.1//EN
TZID:Europe/Vienna
X-WR-TIMEZONE:Europe/Vienna
BEGIN:VEVENT
UID:259@insidetouch.de
DTSTART;TZID=Europe/Vienna:20260105T110000
DTEND;TZID=Europe/Vienna:20260105T213000
DTSTAMP:20251227T134250Z
URL:https://www.insidetouch.de/events/sinnlicher-jahresbeginn-2026/
SUMMARY:Sinnlicher Jahresbeginn 2026
DESCRIPTION:Dein lustvoll\, sinnlicher Start ins neue Jahr.\nBist du einges
 timmt auf zwölf Monate voller sinnlicher Genüsse und bewusster Erfahrung
 en?\n\nDie nächsten 365 Tage bieten unendlich viele Möglichkeiten für e
 in Jahr voller sinnlicher Erlebnisse. Doch kennst du deine sinnlichen Wün
 sche? Bist du dir darüber im Klaren\, welche intensiven Erfahrungen du in
  diesem Jahr erleben möchtest?\n\nGemeinsam nutzen wir den Tag\, um mit u
 nseren Sinnen zu spielen und dabei sinnliche Wünsche für das neue Jahr z
 u formulieren. Von Konzertbesuchen bis zu erotischen Massagen – alles ka
 nn ein sinnliches Erlebnis sein und die kommende Zeit zu einer lebendigen\
 , sinnlichen Reise werden lassen.\n\nEin besonderer Fokus an diesem Tag li
 egt auf tantrischen Ritualen\, die dich mit einer besonderen Energie in di
 eses neue Jahr starten lassen... ein Jahr voller Erfüllung\, bewusster Si
 nnlichkeit und leidenschaftlicher Lebensfreude!\n\n&nbsp\;\n\nDieses Semin
 ar ist für Einsteiger:innen geeignet\n\nDie Gruppe ist offen für Frauen\
 , Männer\, Divers\, Paare\n\nBitte beachten: der Seminartag ist ein Monta
 g!!\n\nDer Frühbucher-Preis gilt bis 24.11.2025\, dann 130\,-€\n\n&nbsp
 \;\n\nWir - Nirmala Held (HP Psych Traumatherapie und Sexualberatung) -\n\
 nund JJ Gruber (Erwachsenenbildung) laden DICH sehr herzlich ein\, diesen 
 Tag mit uns zu verbringen.\n\nAssistenz-Team: Arunima P. \, Martin P.
ATTACH;FMTTYPE=image/jpeg:https://www.insidetouch.de/wp-content/uploads/20
 23/10/sinnlicher_jahresbeginn_700_700.jpg
CATEGORIES:offener Workshop,Workshop
LOCATION:Das Loft - Triftern\, Prehof 1\, Triftern\, Bayern\, 84371\, Deuts
 chland
X-APPLE-STRUCTURED-LOCATION;VALUE=URI;X-ADDRESS=Prehof 1\, Triftern\, Bayer
 n\, 84371\, Deutschland;X-APPLE-RADIUS=100;X-TITLE=Das Loft - Triftern:geo
 :0,0
END:VEVENT
BEGIN:VTIMEZONE
TZID:Europe/Vienna
X-LIC-LOCATION:Europe/Vienna
BEGIN:STANDARD
DTSTART:20251026T020000
TZOFFSETFROM:+0200
TZOFFSETTO:+0100
TZNAME:CET
END:STANDARD
END:VTIMEZONE
END:VCALENDAR