BEGIN:VCALENDAR
VERSION:2.0
PRODID:-//wp-events-plugin.com//7.2.3.1//EN
TZID:Europe/Vienna
X-WR-TIMEZONE:Europe/Vienna
BEGIN:VEVENT
UID:53@insidetouch.de
DTSTART;TZID=Europe/Vienna;VALUE=DATE:20240602
DTEND;TZID=Europe/Vienna;VALUE=DATE:20240609
DTSTAMP:20240428T194848Z
URL:https://www.insidetouch.de/events/selbsterfahrungs-reise/
SUMMARY:Gemeinsam zu mir - Selbsterfahrungs-Reise
DESCRIPTION:"Gemeinsam zu mir" - Selbsterfahrungs-Woche in Kroatien\nEine W
 oche Luxus pur&nbsp\;für Dich\, Deine Seele\, Dein Wachstum&nbsp\;in der 
 Villa Ananda in Istrien/Kroatien.\nIm Spannungsfeld zwischen der eigenen E
 ntwicklung\, Individualisierung und Selbstverwirklichung einerseits und de
 m Wunsch nach Gemeinschaft und Zugehörigkeit andererseits\, werden wir im
 mer wieder mit unseren ureigensten Themen konfrontiert.\nBin ich in der La
 ge für mich zu sorgen\, für meine Wünsche und Bedürfnisse einzustehen\
 , Selbstfürsorge zu betreiben und kann trotzdem ein Teil einer Gemeinscha
 ft sein? Oder missachte ich meine Grenzen und verliere mich in der Aufgabe
  die Gemeinschaft zu stärken?\n"Gemeinsam zu mir" ist eine Woche in der e
 s viele Möglichkeiten geben wird in diesem Spannungsfeld zu üben. Die An
 gst etwas zu verpassen\, wenn ich mich aus der Gruppe nehme\, um für mich
  zu sorgen\, oder die Freude gemeinsam etwas zu schaffen und zu erleben\, 
 sind nur zwei Beispiele für die Vielfalt an Erfahrungen die Du in dieser 
 Woche machen kannst.\nWir werden gemeinsame Morgenmeditationen erleben\, d
 en Sonnenaufgang bewundern oder Essen zubereiten\, aber auch immer wieder 
 jeder für sich alleine Übungen machen\, die Dich ein Stück näher zu Di
 r bringen werden.\nBring die Bereitschaft mit\, Dich auf Neues einzulassen
 \, die Neugierde täglich eine Überraschung zu erleben und durch die Verb
 indung in der Gemeinschaft Momente des Glücks zu erleben.\n\nDiese Woche 
 Luxus in Istrien\, gibt Dir Impulse\, den nächsten Schritt am Weg zu Dir 
 selbst zu gehen.\nFreu Dich auf Erlebnisse unter der Sonne Istriens\, die 
 Du so schnell nicht vergessen wirst!\nWir werden uns in diesem Seminar lie
 bevoll erforschen und uns unseren Themen widmen\, mit Methoden aus der Kö
 rper- und Gestaltarbeit\,&nbsp\; aus dem Neo-Tantra und auch einem&nbsp\; 
 "Special"- Angebot. Wir freuen uns auf viel Freude und Leichtigkeit!\nDurc
 h die kleine Gruppengröße von nur 14-17 Teilnehmer wirst du sehr individ
 uell und intensiv von uns betreut. Es ist Raum für deine ganz eigenen wer
 tvollen Prozesse und auch für gehaltene\, liebevolle Erfahrungen in der G
 ruppe.\nDer Blick auf die Gruppe und Deine Prozesse ist natürlich von mei
 ner trauma-therapeutischen Erfahrung geprägt.\nEs wird viel Zeit geben zu
 m integrieren\, vertiefen\, schwimmen\, spazieren\, lecker Essen\, die Geg
 end erkunden\, lesen\, spielen\, in die Sauna gehen…. Einfach SEIN!!!\nW
 ir legen großen Wert auf Gemeinschaftsprozesse und dass du dich in die Ge
 meinschaft einbringst (durch dein Sein\, aber auch durch Aufgaben wie koch
 en\, die du zum Wohle Aller übernimmst)\nWir freuen uns\, wenn DU dabei b
 ist!\n&nbsp\;\n\nZusätzlich zum Selbsterfahrungs-Seminar ist folgendes im
  Preis enthalten:\n\n* Übernachtung mit reichhaltigem Frühstück (von un
 s zubereitet)\n\n* sowie Wasser\, Säfte\, Tee und Kaffee ganztags\n\n* ei
 n Mittagssnack\, den du dir selber zubereiten kannst\n\n* sowie ein gemein
 schaftlich zubereitetes Abendessen\n\nNicht enthalten: alkoholische Geträ
 nke und ein Abendessen im Restaurant (optional)\n\n&nbsp\;\n\nDie Zimmer v
 ergeben wir in der Reihenfolge der Anmeldung.&nbsp\;\n\nEs besteht kein An
 spruch auf ein bestimmtes Zimmer\, du kannst deinen Zimmerwunsch aber gern
 e buchen\, wir setzen uns dann mit Dir in Verbindung ob wir deinen Wunsch 
 berücksichtigen können.\nFrühbucherpreis gilt bis 3 Monate vor Seminarb
 eginn.\n\nDas Seminar beginnt am Sonntag um 18:30 Uhr mit dem Abendessen u
 nd dauert bis Samstag 13:30 Uhr. Wir wünschen uns dass du verbindlich bis
  zum Ende des Seminars bleiben kannst. Eine Verlängerung bis Sonntag Vorm
 ittag (10:00 Uhr) mit einem Aufpreis von 40\,-€\, ohne Seminarprogramm u
 nd Verpflegung (Reste-Essen)\, ist möglich.\n\nDieses Seminar ist für Ei
 nsteiger:innen geeignet\n\nWir achten nicht auf ein ausgewogenes Mann-Frau
 -Verhältnis\, da wir davon ausgehen\, dass das Universum dafür sorgt\, d
 ass genau die richtigen Menschen miteinander diese Zeit verbringen werden.
 \n\n&nbsp\;\n\nWir - Nirmala Held (HP Psych. Traumatherapie und Sexualbera
 tung) -\n\nund JJ Gruber (Erwachsenenbildung) laden DICH sehr herzlich ein
 \, diesen Tag mit uns zu verbringen.\n\nAssistenz: Fanny R.\n\n&nbsp\;\n\n
 Video: Wir freuen uns auf Dich in Istrien!\n\nHier gehts zum Seminarhaus V
 illa Ananda\n\nWir empfehlen den Abschluss eine Seminarversicherung\, Info
 rmationen dazu findest Du hier: Seminarversicherung\n\nFrühbucherpreis bi
 s 02.03.2024
ATTACH;FMTTYPE=image/jpeg:https://www.insidetouch.de/wp-content/uploads/20
 23/10/offen_istrien_700_700.jpg
CATEGORIES:Ferienworkshops,offene Ferienwoche
LOCATION:Villa Ananda Istrien\, Mali Kosi 5H\, Labin - Kroatien\, 52220\, K
 roatien
X-APPLE-STRUCTURED-LOCATION;VALUE=URI;X-ADDRESS=Mali Kosi 5H\, Labin - Kroa
 tien\, 52220\, Kroatien;X-APPLE-RADIUS=100;X-TITLE=Villa Ananda Istrien:ge
 o:0,0
END:VEVENT
BEGIN:VTIMEZONE
TZID:Europe/Vienna
X-LIC-LOCATION:Europe/Vienna
BEGIN:DAYLIGHT
DTSTART:20240331T030000
TZOFFSETFROM:+0100
TZOFFSETTO:+0200
TZNAME:CEST
END:DAYLIGHT
END:VTIMEZONE
END:VCALENDAR