BEGIN:VCALENDAR
VERSION:2.0
PRODID:-//wp-events-plugin.com//7.2.3.1//EN
TZID:Europe/Vienna
X-WR-TIMEZONE:Europe/Vienna
BEGIN:VEVENT
UID:152@insidetouch.de
DTSTART;TZID=Europe/Vienna;VALUE=DATE:20250905
DTEND;TZID=Europe/Vienna;VALUE=DATE:20250908
DTSTAMP:20250406T204136Z
URL:https://www.insidetouch.de/events/rebirth-willkommen-im-leben-2-0-2/
SUMMARY:Rebirth: Willkommen im Leben 2.0
DESCRIPTION:Vom ersten Atemzug an Willkommen - Eine Reise in ein liebevolle
 s Hier und Jetzt\nFühlst du dich oft nicht wirklich willkommen im Leben?\
 n\nHast du manchmal das Gefühl\, die Welt sei ein unsicherer\, bedrohlich
 er Ort?\n\nBist du oft unmäßig wütend\, fühlst dich hilflos oder einfa
 ch "anders"?\n\nFällt es dir schwer\, deine Gefühle wahrzunehmen\, und h
 ast du das Empfinden\, nicht richtig „zuhause“ in deinem Körper zu se
 in?\n\n... dann könnten alle Ereignisse rund um deine Geburt damit zusamm
 enhängen...\n\nUnsere ersten 9 Monate im Mutterleib und die Geburt gehör
 en zu den prägendsten Erlebnissen in unserem Leben.\n\nMan geht heute dav
 on\, dass die Schwangerschaft\, die Geburt\, der Prozess der Selbstanbindu
 ng und das Willkommen Sein in den ersten Lebensminuten bei sehr vielen Men
 schen oft nicht sehr unterstützend verlaufen sind\, was tiefgehende Auswi
 rkungen auf unser heutiges Lebensgefühl haben kann.\n\nIn diesem Seminar 
 wirst du neue\, korrigierende praktische Erfahrungen machen\, die dir helf
 en können\, deinen Platz im Leben mit mehr Offenheit und Sicherheit einzu
 nehmen.\n\nIn diesem geschützten Raum wirst du die Möglichkeit haben\, d
 en Prozess der Geburt und des Willkommen-Seins zu überschreiben. Neben in
 tensiven praktischen Übungen erwartet dich auch wertvolles theoretisches 
 Wissen\, das erklärt\, warum die Schwangerschaft und der Geburtsprozess e
 ntscheidend für unser weiteres Leben sind.\n\nMache dich auf den Weg in e
 in liebevolles Hier und Jetzt – vom ersten Atemzug an Willkommen.\n\nWen
 n Du Lust hast\, Dich neu zu entdecken und einen Blick hinter die eigenen 
 Muster und Prägungen zu werfen\, dann erwarten Dich berührende Tage in j
 eder Hinsicht.\nLass uns (selber und einander) kennenlernen!\n\nDie Inhalt
 e sind Angebote an Dich\, Du entscheidest jedes mal worauf Du Dich einlass
 en möchtest und wo Du nicht mitmachst. Du erhältst Unterstützung durch 
 uns und durch die Gruppe und handelst immer nach dem Motto...\n\nAlles ist
  willkommen\, alles darf da sein!\n\nDer Blick auf die Gruppe und Deine Pr
 ozesse ist natürlich von meiner Trauma-therapeutischen Erfahrung geprägt
 .\n\nDa die Prozesse erfahrungsgemäß sehr intensiv sind nehmen wir nur 1
 4 Menschen in diese Gruppe.\n\nSeminarzeiten:\n\nFreitag von 19:00 Uhr bis
  22:00 Uhr\n\nSamstag von 11:00 Uhr - 21:30 Uhr\n\nSonntag von 10:00 Uhr b
 is 18:00 Uhr\n\n&nbsp\;\n\nWir - Nirmala Held (HP Psych Traumatherapie und
  Sexualberatung) -\n\nund JJ Gruber (Erwachsenenbildung) laden DICH sehr h
 erzlich ein\, diesen Tag mit uns zu verbringen.\n\nAssistenz-Team: Niki V.
  Und Vladimir B.&nbsp\;\n\n&nbsp\;\n\nDieses Seminar ist für Menschen gee
 ignet\, die Erfahrung haben mit Selbsterforschungs-Prozessen\n\nDie Gruppe
  ist offen für Frauen\, Männer\, Divers\, Paare\n\nFrühbucher bis 25.07
 .2025
ATTACH;FMTTYPE=image/jpeg:https://www.insidetouch.de/wp-content/uploads/20
 23/10/lebendig_lieben_700_700.jpg
CATEGORIES:offener Workshop,Workshop
LOCATION:Das Loft - Triftern\, nähe Pfarrkichen\, Triftern\, Bayern\, 8437
 1\, Deutschland
X-APPLE-STRUCTURED-LOCATION;VALUE=URI;X-ADDRESS=nähe Pfarrkichen\, Trifter
 n\, Bayern\, 84371\, Deutschland;X-APPLE-RADIUS=100;X-TITLE=Das Loft - Tri
 ftern:geo:0,0
END:VEVENT
BEGIN:VTIMEZONE
TZID:Europe/Vienna
X-LIC-LOCATION:Europe/Vienna
BEGIN:DAYLIGHT
DTSTART:20250330T030000
TZOFFSETFROM:+0100
TZOFFSETTO:+0200
TZNAME:CEST
END:DAYLIGHT
END:VTIMEZONE
END:VCALENDAR