BEGIN:VCALENDAR
VERSION:2.0
PRODID:-//wp-events-plugin.com//7.2.3.1//EN
TZID:Europe/Vienna
X-WR-TIMEZONE:Europe/Vienna
BEGIN:VEVENT
UID:129@insidetouch.de
DTSTART;TZID=Europe/Vienna;VALUE=DATE:20250918
DTEND;TZID=Europe/Vienna;VALUE=DATE:20250922
DTSTAMP:20250520T074426Z
URL:https://www.insidetouch.de/events/plaisir-concave-plus/
SUMMARY:Wilde Weiblichkeit - mehr Lust\, mehr Leben
DESCRIPTION:\n\n\n\n\n\nFrauen-Seminar "Wilde Weiblichkeit"\nDieses Seminar
  ist für Frauen geeignet\, die an der Weiterentwicklung ihrer Weiblichkei
 t und Sexualität interessiert sind.&nbsp\;\n\nIn einem sicheren Raum unte
 r gleichgesinnten Frauen werden wir unser Wissen zur weiblichen Anatomie\,
  Sexualität und Lust gerne mit Euch teilen. Ein Schwerpunkt ist dabei das
  indianische Wissen\, wir nutzen aber auch viele andere Quellen.\n\nWenn D
 u mehr über Deine Erregungs- und Orgasmusfähigkeit herausfinden möchtes
 t\, bist Du in diesem Seminar genau richtig. Wir wollen Verbindung aufnehm
 en zur ursprünglichen erotischen Intelligenz unseres Körpers und das erk
 ennen und loslassen\, was uns hindert\, unser volles Potential zu leben. W
 ir werden uns auch mit den persönlichen und kollektiven Schattenthemen\, 
 Tabus und Unverständlichkeiten im Bereich der Sexualität auseinandersetz
 en und unser Wachstumspotential voll ausschöpfen.\n\nFinde heraus\, was D
 ir gut tut\, Dich lebendig macht und Deine Selbstliebe steigert. Erlebe mi
 t uns erfüllte Tage\, die Deine Spontanität\, Dein natürliches sinnlich
 es Erleben\, Deine Kraft und Deine innere weibliche Weisheit stärken. Wir
  werden auch Zeit in der Natur am wunderbaren Ort des Seminarhauses verbri
 ngen. Es wird auch Raum für Deine ganz persönlichen Fragen geben.\n\n\n\
 n\n\n\n\n\n\n\n\n\n\nSeminarvoraussetzungen\nDas Seminar ist geeignet für
  Frauen jeglicher sexueller Orientierung\, mit und ohne Seminarerfahrung.\
 n\n\n\n\n\n\n\n&nbsp\;\nSeminarleitung\nBirgit Schmidberger&nbsp\;&amp\;&n
 bsp\;Nirmala Held\n\n\n\n\nSeminarhaus Lindenhof\nLindenhof 1\n\n78532 Tut
 tlingen-Möhringen\n\nTelefon 07462/6259\ninfo@seminarhauslindenhof.de\nww
 w.seminarhaus-lindenhof.de\n\n\n\n\nFragen und Anmeldung an: &nbsp\;info@b
 ewusster-lieben.de\n\n\n\n\n\n\n\n
ATTACH;FMTTYPE=image/jpeg:https://www.insidetouch.de/wp-content/uploads/20
 23/10/plaisir_concave_700_700.jpg
CATEGORIES:Frauen Seminare,Frauen Wochenendworkshops
END:VEVENT
BEGIN:VTIMEZONE
TZID:Europe/Vienna
X-LIC-LOCATION:Europe/Vienna
BEGIN:DAYLIGHT
DTSTART:20250330T030000
TZOFFSETFROM:+0100
TZOFFSETTO:+0200
TZNAME:CEST
END:DAYLIGHT
END:VTIMEZONE
END:VCALENDAR