BEGIN:VCALENDAR
VERSION:2.0
PRODID:-//wp-events-plugin.com//7.2.3.1//EN
TZID:Europe/Vienna
X-WR-TIMEZONE:Europe/Vienna
BEGIN:VEVENT
UID:256@insidetouch.de
DTSTART;TZID=Europe/Vienna;VALUE=DATE:20260117
DTEND;TZID=Europe/Vienna;VALUE=DATE:20260119
DTSTAMP:20251218T130854Z
URL:https://www.insidetouch.de/events/offene-jahresgruppe-2026/
SUMMARY:offene Jahresgruppe 2026
DESCRIPTION:"Gemeinsam zu mir"\nWir werden über das Jahr 2026 verteilt 9 i
 ntensive Tage und drei Online-Termine miteinander verbringen.\nDie Termine
 :\n\n 	Samstag 17. und Sonntag 18. Januar 2026\n 	Sonntag 15. Februar 2026
  online\n 	Samstag 14. März 2026\n 	Samstag 02. Mai 2026\n 	Dienstag 09. 
 Juni 2026 online\n 	Samstag 04. und Sonntag 05. Juli 2026\n 	Sonntag 02. A
 ugust 2026 online\n 	Samstag 05. September 2026\n 	Samstag 17. und Sonntag
  18. Oktober 2026\n\nSamstag: 11:00 bis 22:00 Uhr&nbsp\; &nbsp\; &nbsp\;So
 nntag: 09:30/10:00 bis 18:30 Uhr\n\nOnline: 19:00 bis 21:00/21:30 Uhr\n\n&
 nbsp\;\nDer Ort:\nEin großzügiger\, heller Seminarraum\, eingebettet in\
 nwunderbarer Natur\, mit Blick über das Dreimühlental.\nEin Ort zum Wohl
 fühlen und Loslassen.\n\n„Das Loft“\, Prehof 1\, 84371 Triftern\, Nä
 he Pfarrkirchen\nEs besteht die Möglichkeit Fahrgemeinschaften zu bilden\
 n\n&nbsp\;\nDie Kosten:\nSehr bewusst haben wir nach einer Möglichkeit ge
 sucht eine Jahresgruppe anzubieten\, die für alle Interessierten erschwin
 glich ist.\nWir verpflegen uns vor Ort selbst.\n\nNach Rücksprache ist es
  auch möglich an den Wochenenden gegen einen Ausgleich von 10\,-€/Nacht
  im Seminarraum zu übernachten\, oder in einer günstigen Pension/Ferienw
 ohnung in der Nähe. (nähere Infos dazu in der Bestätigungsmail)\nPreis:
  1150\,-€ / Frühbucherrabatt bis 22.11.2025: 1050\,-€\nNach Rückspra
 che besteht auch die Möglichkeit einer Ratenzahlung.\n\nWir - Nirmala Hel
 d (HP Psych Traumatherapie und Sexualberatung) -\n\nund JJ Gruber (Erwachs
 enenbildung) laden DICH sehr herzlich ein\, dieses Jahr mit uns zu forsche
 n.\n\nAssistenz: Marion Sch.\, Helmut G.\,Vladimir B.
ATTACH;FMTTYPE=image/jpeg:https://www.insidetouch.de/wp-content/uploads/20
 23/10/jahresgruppe_700_700.jpg
CATEGORIES:Jahresgruppe Offen,offener Workshop,Workshop
LOCATION:Das Loft - Triftern\, Prehof 1\, Triftern\, Bayern\, 84371\, Deuts
 chland
X-APPLE-STRUCTURED-LOCATION;VALUE=URI;X-ADDRESS=Prehof 1\, Triftern\, Bayer
 n\, 84371\, Deutschland;X-APPLE-RADIUS=100;X-TITLE=Das Loft - Triftern:geo
 :0,0
END:VEVENT
BEGIN:VTIMEZONE
TZID:Europe/Vienna
X-LIC-LOCATION:Europe/Vienna
BEGIN:STANDARD
DTSTART:20251026T020000
TZOFFSETFROM:+0200
TZOFFSETTO:+0100
TZNAME:CET
END:STANDARD
END:VTIMEZONE
END:VCALENDAR