BEGIN:VCALENDAR
VERSION:2.0
PRODID:-//wp-events-plugin.com//7.2.3.1//EN
TZID:Europe/Vienna
X-WR-TIMEZONE:Europe/Vienna
BEGIN:VEVENT
UID:123@insidetouch.de
DTSTART;TZID=Europe/Vienna;VALUE=DATE:20250315
DTEND;TZID=Europe/Vienna;VALUE=DATE:20250317
DTSTAMP:20250120T210304Z
URL:https://www.insidetouch.de/events/offene-jahresgruppe-2025/
SUMMARY:offene Jahresgruppe 2025
DESCRIPTION:"Gemeinsam zu mir"\nWir werden über das Jahr 2025 verteilt 9 i
 ntensive Tage miteinander verbringen.\nDie Termine:\n\n 	Samstag 15. und S
 onntag 16. März 2025\n 	Samstag 03. Mai 2025\n 	Samstag 05. Juli 2025\n 	
 Samstag 13. und Sonntag 14. September 2025\n 	Samstag 18. Oktober 2025\n 	
 Samstag 22. und Sonntag 23. November 2025\n\nSamstag: 11:00 bis 21:30 Uhr&
 nbsp\; &nbsp\; Sonntag: 10:00 bis 18:00 Uhr\n\n&nbsp\;\nDer Ort:\nEin gro
 ßzügiger\, heller Seminarraum\, eingebettet in\nwunderbarer Natur\, mit 
 Blick über das Dreimühlental.\nEin Ort zum Wohlfühlen und Loslassen.\n\
 n„Das Loft“\, Prehof 1\, 84371 Triftern\, Nähe Pfarrkirchen\nEs beste
 ht die Möglichkeit Fahrgemeinschaften zu bilden\n\n&nbsp\;\nDie Kosten:\n
 Sehr bewusst haben wir nach einer Möglichkeit gesucht eine Jahresgruppe a
 nzubieten\, die für alle Interessierten erschwinglich ist.\nWir verpflege
 n uns vor Ort selbst.\n\nNach Rücksprache ist es auch möglich an den Woc
 henenden gegen einen Ausgleich von 10\,-€/Nacht im Seminarraum zu übern
 achten\, oder in einer Pension in der Nähe.\nPreis: 1050\,-€ / Frühbuc
 herrabatt bis 15.01.2025: 900\,-€\nNach Rücksprache besteht auch die M
 öglichkeit einer Ratenzahlung.\n\nWir - Nirmala Held (HP Psych Traumather
 apie und Sexualberatung) -\n\nund JJ Gruber (Erwachsenenbildung) laden DIC
 H sehr herzlich ein\, dieses Jahr mit uns zu forschen.\n\nAssistenz: Helmu
 t G.\, Marion Sch. Mona Nitya Sch.
ATTACH;FMTTYPE=image/jpeg:https://www.insidetouch.de/wp-content/uploads/20
 23/10/jahresgruppe_700_700.jpg
CATEGORIES:Jahresgruppe Offen,offener Workshop,Workshop
LOCATION:Das Loft - Triftern\, nähe Pfarrkichen\, Triftern\, Bayern\, 8437
 1\, Deutschland
X-APPLE-STRUCTURED-LOCATION;VALUE=URI;X-ADDRESS=nähe Pfarrkichen\, Trifter
 n\, Bayern\, 84371\, Deutschland;X-APPLE-RADIUS=100;X-TITLE=Das Loft - Tri
 ftern:geo:0,0
END:VEVENT
BEGIN:VTIMEZONE
TZID:Europe/Vienna
X-LIC-LOCATION:Europe/Vienna
BEGIN:STANDARD
DTSTART:20241027T020000
TZOFFSETFROM:+0200
TZOFFSETTO:+0100
TZNAME:CET
END:STANDARD
END:VTIMEZONE
END:VCALENDAR