BEGIN:VCALENDAR
VERSION:2.0
PRODID:-//wp-events-plugin.com//7.2.3.1//EN
TZID:Europe/Vienna
X-WR-TIMEZONE:Europe/Vienna
BEGIN:VEVENT
UID:308@insidetouch.de
DTSTART;TZID=Europe/Vienna:20261212T000000
DTEND;TZID=Europe/Vienna:20261213T000000
DTSTAMP:20260417T173302Z
URL:https://www.insidetouch.de/events/nachtreffen-der-jahresgruppen/
SUMMARY:Nachtreffen der Jahresgruppen
DESCRIPTION:Wiedersehen. Vertiefen. Lebendig sein.\n\nManche Räume wirken 
 nach.\nManche Begegnungen bleiben im Körper.\nUnd manches in uns möchte 
 weitergehen\, auch wenn die gemeinsame Zeit längst vorbei ist.\n\nDu kenn
 st den Raum – aber nicht\, wer du jetzt darin bist\n\nDieses Nachtreffen
  ist eine Einladung an dich –\nwenn du bereits Teil einer unserer Jahres
 gruppen warst.\n\nEin Raum\, um dich wieder zu verbinden:\nmit dir selbst\
 , mit vertrauten Gesichtern und mit neuen Menschen\,\ndie ähnliche Wege g
 egangen sind wie du.\n\nEin Raum\, in dem du nichts „leisten“ musst 
 –\nund gleichzeitig genau das vertiefen kannst\,\nwas dich damals berüh
 rt und bewegt hat.\n\n&nbsp\;\n\nWas dich erwartet:\n\nWir schaffen gemein
 sam einen lebendigen Erfahrungsraum –\nmit bereits erforschten Elementen
  aus unserer Jahresgruppenarbeit:\n\n 	neue körperorientierte Übungen\, 
 die dich wieder mehr in dich bringen\n 	Begegnungsräume\, in denen echte 
 Verbindung möglich wird\n 	Zeit zum Üben\, Forschen und Vertiefen\n 	Rau
 m für Austausch\, Integration und neue Impulse\n\nUnd genauso wichtig:\nL
 eichtigkeit\, Lachen\, Berührung\, Lebendigkeit.\n\nEin Wiedersehen – u
 nd vielleicht auch ein ganz neues Kennenlernen.\n\nDieses Wochenende ist k
 ein „nochmal das Gleiche“.\nEs ist ein Weitergehen.\nEin Erinnern.\nEi
 n Neu-Erleben auf einer anderen Ebene.\n\n&nbsp\;\n\nFür wen ist das Nach
 treffen?\nFür alle\, die bereits an einer unserer Jahresgruppen teilgenom
 men haben – egal wie lange es her ist\n\n&nbsp\;\n\nWenn du spürst\, da
 ss da etwas in dir „Ja“ sagt –\ndann folge dem.\n\n&nbsp\;\n\nWir fr
 euen uns sehr\, diesen Raum wieder mit dir zu öffnen.\n\nWir - Nirmala He
 ld (HP Psych Traumatherapie und Sexualberatung) -\n\nund JJ Gruber (Erwach
 senenbildung) laden DICH sehr herzlich ein\, diesen Tag mit uns zu verbrin
 gen.\n\nAssistenz-Team:&nbsp\;\n\nSeminarzeiten:\n\nSamstag von 11:00 bis 
 ca. 22:00 Uhr&nbsp\;\n\nSonntag von 10:00 bis ca. 18:00 Uhr\n\nDieses Semi
 nar ist nur für Menschen geeignet\, die schon einmal eine Jahresgruppe ab
 solviert haben. (es wird keine Einführung/Demo für die Rituale geben)\n\
 nDie Gruppe ist offen für Frauen\, Männer\, Divers\, Paare\n\n&nbsp\;\n\
 nFrühbucher bis 31.10.2026\n\n&nbsp\;\n\n&nbsp\;
ATTACH;FMTTYPE=image/jpeg:https://www.insidetouch.de/wp-content/uploads/20
 24/02/yoniverse_840_430.jpg
CATEGORIES:Jahresgruppe Offen,offener Workshop,Workshop
LOCATION:Das Loft - Triftern\, Prehof 1\, Triftern\, Bayern\, 84371\, Deuts
 chland
X-APPLE-STRUCTURED-LOCATION;VALUE=URI;X-ADDRESS=Prehof 1\, Triftern\, Bayer
 n\, 84371\, Deutschland;X-APPLE-RADIUS=100;X-TITLE=Das Loft - Triftern:geo
 :0,0
END:VEVENT
BEGIN:VTIMEZONE
TZID:Europe/Vienna
X-LIC-LOCATION:Europe/Vienna
BEGIN:STANDARD
DTSTART:20261025T020000
TZOFFSETFROM:+0200
TZOFFSETTO:+0100
TZNAME:CET
END:STANDARD
END:VTIMEZONE
END:VCALENDAR