BEGIN:VCALENDAR
VERSION:2.0
PRODID:-//wp-events-plugin.com//7.2.3.1//EN
TZID:Europe/Vienna
X-WR-TIMEZONE:Europe/Vienna
BEGIN:VEVENT
UID:46@insidetouch.de
DTSTART;TZID=Europe/Vienna:20250127T183000
DTEND;TZID=Europe/Vienna:20250127T213000
DTSTAMP:20250119T211506Z
URL:https://www.insidetouch.de/events/lustschule/
SUMMARY:Lustschule
DESCRIPTION:Wie könnte frau die Wintermonate besser nutzen\, als sich und 
 ihre Sinnlichkeit und Sexualität besser kennenzulernen?\n\nWir werden von
  Ende Januar bis Mitte April 5 intensive online Termine von 18:30 bis 21:0
 0/21:30 Uhr miteinander verbringen\, um deine Lust\, deine Sexualität und
  Dein Frau-Sein näher zu erforschen. An 5 Abenden wirst Du Impulse und Ü
 bungsanleitungen bekommen\, mit denen Du Dich zu Hause beschäftigst - daf
 ür solltest Du mindestens 2 mal pro Woche 30 Minuten einplanen. In den er
 sten 3 Wochen täglich 5-10 Minuten.\n\nIn&nbsp\;einem&nbsp\;persönlichen
  Einzel-Coaching&nbsp\;in dieser Zeit erforschen wir\, was speziell Dich n
 och hindert oder stärkt.&nbsp\;\nDie Termine:\n\n 	Montag\, 27. Januar 20
 25\n 	Montag\, 17. Februar 2025\n 	Montag\, 03. März 2025&nbsp\;\n 	Monta
 g\, 17. März 2025&nbsp\;\n 	Montag\, 31. März 2025&nbsp\;\n\nJeweils 18:
 30 bis 21:00/ 21:30 Uhr\nDer Ort:\nOnline über Zoom\nDen Link schicke ich
  dir rechtzeitig vor Beginn zu.&nbsp\;\nDie Kosten:\n295\,-€&nbsp\;\n\nF
 rühbucher: 250\,-€ bis 16.12.2024\n\nim Preis enthalten: Vorgespräch\,
  5 Abend-Einheiten á 2\,5 Stunden\, 1 mal 60 Minuten&nbsp\; Einzelcoachin
 g (Zoom)\, Yonicreme\, Yoniei\, Pjur-Gleitmittel (sende ich dir rechtzeiti
 g vor Beginn per Post zu)\n\nmaximal 5-8 Teilnehmerinnen\n\nRatenzahlung&n
 bsp\; möglich: 3 Monatsraten á&nbsp\; 100\,00€&nbsp\;\nBei finanziell 
 schwieriger Lage kannst du mich sehr gerne ansprechen. Dann finden wir ein
 e Lösung.&nbsp\;\n\nDie Lustschule gibt es auch in Einzelbegleitung zum P
 reis von 790\,-€ (5 Termine)\n\nDieser Kurs ist für Einsteigerinnen gee
 ignet\nWir empfehlen den Abschluss einer Seminarversicherung\nInfo's dazu 
 findest du hier:&nbsp\;Seminarversicherung
ATTACH;FMTTYPE=image/jpeg:https://www.insidetouch.de/wp-content/uploads/20
 23/10/lustschule_700_700.jpg
CATEGORIES:Frauen Seminare,Lustschule
LOCATION:http://www.insidetouch.de/lustschule
END:VEVENT
BEGIN:VTIMEZONE
TZID:Europe/Vienna
X-LIC-LOCATION:Europe/Vienna
BEGIN:STANDARD
DTSTART:20241027T020000
TZOFFSETFROM:+0200
TZOFFSETTO:+0100
TZNAME:CET
END:STANDARD
END:VTIMEZONE
END:VCALENDAR