BEGIN:VCALENDAR
VERSION:2.0
PRODID:-//wp-events-plugin.com//7.2.3.1//EN
TZID:Europe/Vienna
X-WR-TIMEZONE:Europe/Vienna
BEGIN:VEVENT
UID:305@insidetouch.de
DTSTART;TZID=Europe/Vienna:20261021T183000
DTEND;TZID=Europe/Vienna:20261021T213000
DTSTAMP:20260416T070444Z
URL:https://www.insidetouch.de/events/lustschule-4/
SUMMARY:Lustschule
DESCRIPTION:Wir werden von Mitte Oktober bis Mitte Dezember 5 intensive onl
 ine Termine von 18:30 bis 21:00/21:30 Uhr miteinander verbringen\, um dein
 e Lust\, deine Sexualität und Dein Frau-Sein näher zu erforschen. An 5 A
 benden wirst Du Impulse und Übungsanleitungen bekommen\, mit denen Du Dic
 h dann beschäftigst - dafür solltest Du mindestens 2-3 mal pro Woche 30 
 Minuten einplanen\, sowie in den ersten 3 Wochen täglich 5-10 Minuten.\n\
 nIn&nbsp\;einem&nbsp\;persönlichen Einzel-Coaching&nbsp\;in dieser Zeit e
 rforschen wir\, was speziell Dich noch hindert oder stärkt.&nbsp\;\nDie T
 ermine:\n\n 	Mittwoch\, 21. Oktober2026\n 	Donnerstag\, 05. November 2026\
 n 	Mittwoch\, 18. November 2026\n 	Montag\, 30. November 2026\n 	Donnersta
 g\, 10. Dezember 2026\n\nJeweils 18:30 bis 21:00/ 21:30 Uhr (je nach Teiln
 ehmerinnenzahl)\nDer Ort:\nOnline über Zoom\nDen Link schicke ich dir rec
 htzeitig vor Beginn zu.&nbsp\;\nDie Kosten:\n350\,-€ (incl. Material)\n\
 nFrühbucher: 295\,-€ bis 09.09.2026\n\n&nbsp\;\n\nim Preis enthalten: 5
  Abend-Einheiten á 2\,5-3 Stunden\, 1 mal 60 Minuten Einzelcoaching (Zoom
 )\, Yonicreme\, Yoniei\, Pjur-Gleitmittel (sende ich dir rechtzeitig vor B
 eginn per Post zu)\n\nmaximal 8 Teilnehmerinnen\n\nRatenzahlung&nbsp\; mö
 glich: 3 Monatsraten á&nbsp\; 120\,00€&nbsp\;\nBei finanziell schwierig
 er Lage kannst du mich sehr gerne ansprechen. Dann finden wir eine Lösung
 .&nbsp\;\n\nDie Lustschule gibt es auch in Einzelbegleitung zum Preis von 
 900\,-€ (5 Termine á 2 Stunden und incl. Material)\n\nDieser Kurs ist f
 ür Einsteigerinnen geeignet\nWir empfehlen den Abschluss einer Seminarver
 sicherung\nInfo's dazu findest du hier:&nbsp\;Seminarversicherung
ATTACH;FMTTYPE=image/jpeg:https://www.insidetouch.de/wp-content/uploads/20
 23/10/lustschule_700_700.jpg
CATEGORIES:Frauen Seminare,Lustschule
LOCATION:http://www.insidetouch.de/lustschule
END:VEVENT
BEGIN:VTIMEZONE
TZID:Europe/Vienna
X-LIC-LOCATION:Europe/Vienna
BEGIN:DAYLIGHT
DTSTART:20260329T030000
TZOFFSETFROM:+0100
TZOFFSETTO:+0200
TZNAME:CEST
END:DAYLIGHT
END:VTIMEZONE
END:VCALENDAR