BEGIN:VCALENDAR
VERSION:2.0
PRODID:-//wp-events-plugin.com//7.2.3.1//EN
TZID:Europe/Vienna
X-WR-TIMEZONE:Europe/Vienna
BEGIN:VEVENT
UID:258@insidetouch.de
DTSTART;TZID=Europe/Vienna:20260303T183000
DTEND;TZID=Europe/Vienna:20260303T213000
DTSTAMP:20251210T081053Z
URL:https://www.insidetouch.de/events/lustschule-3/
SUMMARY:Lustschule
DESCRIPTION:Wir werden von Anfang März bis Ende April 5 intensive online T
 ermine von 18:30 bis 21:00/21:30 Uhr miteinander verbringen\, um deine Lus
 t\, deine Sexualität und Dein Frau-Sein näher zu erforschen. An 5 Abende
 n wirst Du Impulse und Übungsanleitungen bekommen\, mit denen Du Dich dan
 n beschäftigst - dafür solltest Du mindestens 2 mal pro Woche 30 Minuten
  einplanen\, sowie in den ersten 3 Wochen täglich 5-10 Minuten.\n\nIn&nbs
 p\;einem&nbsp\;persönlichen Einzel-Coaching&nbsp\;in dieser Zeit erforsch
 en wir\, was speziell Dich noch hindert oder stärkt.&nbsp\;\nDie Termine:
 \n\n 	Dienstag\, 03. März 2026\n 	Montag\, 16. März 2026\n 	Donnerstag\,
  26. März 2026\n 	Donnerstag\, 09. April 2026&nbsp\;\n 	Dienstag\, 21. Ap
 ril 2026\n\nJeweils 18:30 bis 21:00/ 21:30 Uhr\nDer Ort:\nOnline über Zoo
 m\nDen Link schicke ich dir rechtzeitig vor Beginn zu.&nbsp\;\nDie Kosten:
 \n350\,-€ (incl. Material)\n\nFrühbucher: 295\,-€ bis 21.01.2026\n\nS
 pecial: bring eine Freundin mit\, dann zahlt ihr zusammen 550\,-€ (Früh
 bucher) oder 650\,-€ (regulär)\n\n&nbsp\;\n\nim Preis enthalten: kurzes
  Vorgespräch (falls wir uns noch nicht kennen)\, 5 Abend-Einheiten á 2\,
 5-3 Stunden\, 1 mal 60 Minuten&nbsp\; Einzelcoaching (Zoom)\, Yonicreme\, 
 Yoniei\, Pjur-Gleitmittel (sende ich dir rechtzeitig vor Beginn per Post z
 u)\n\nmaximal 10 Teilnehmerinnen\n\nRatenzahlung&nbsp\; möglich: 3 Monats
 raten á&nbsp\; 120\,00€&nbsp\;\nBei finanziell schwieriger Lage kannst 
 du mich sehr gerne ansprechen. Dann finden wir eine Lösung.&nbsp\;\n\nDie
  Lustschule gibt es auch in Einzelbegleitung zum Preis von 900\,-€ (5 Te
 rmine á 2 Stunden und incl. Material)\n\nDieser Kurs ist für Einsteigeri
 nnen geeignet\nWir empfehlen den Abschluss einer Seminarversicherung\nInfo
 's dazu findest du hier:&nbsp\;Seminarversicherung
ATTACH;FMTTYPE=image/jpeg:https://www.insidetouch.de/wp-content/uploads/20
 23/10/lustschule_700_700.jpg
CATEGORIES:Frauen Seminare,Lustschule
LOCATION:http://www.insidetouch.de/lustschule
END:VEVENT
BEGIN:VTIMEZONE
TZID:Europe/Vienna
X-LIC-LOCATION:Europe/Vienna
BEGIN:STANDARD
DTSTART:20251026T020000
TZOFFSETFROM:+0200
TZOFFSETTO:+0100
TZNAME:CET
END:STANDARD
END:VTIMEZONE
END:VCALENDAR