BEGIN:VCALENDAR
VERSION:2.0
PRODID:-//wp-events-plugin.com//7.2.3.1//EN
TZID:Europe/Vienna
X-WR-TIMEZONE:Europe/Vienna
BEGIN:VEVENT
UID:159@insidetouch.de
DTSTART;TZID=Europe/Vienna:20250901T183000
DTEND;TZID=Europe/Vienna:20251014T213000
DTSTAMP:20250901T111524Z
URL:https://www.insidetouch.de/events/lustschule-2/
SUMMARY:Lustschule
DESCRIPTION:Wir werden von Anfang September bis Mitte Oktober 5 intensive o
 nline Termine von 18:30 bis 21:00/21:30 Uhr miteinander verbringen\, um de
 ine Lust\, deine Sexualität und Dein Frau-Sein näher zu erforschen. An 5
  Abenden wirst Du Impulse und Übungsanleitungen bekommen\, mit denen Du D
 ich dann beschäftigst - dafür solltest Du mindestens 2 mal pro Woche 30 
 Minuten einplanen\, sowie in den ersten 3 Wochen täglich 5-10 Minuten.\n\
 nIn&nbsp\;einem&nbsp\;persönlichen Einzel-Coaching&nbsp\;in dieser Zeit e
 rforschen wir\, was speziell Dich noch hindert oder stärkt.&nbsp\;\nDie T
 ermine:\n\n 	Montag\, 01. September 2025\n 	Donnerstag\, 11. September 202
 5\n 	Donnerstag\, 25. September 2025&nbsp\;\n 	Mittwoch\, 08. Oktober 2025
 &nbsp\;\n 	Dienstag\, 14. Oktober 2025&nbsp\;\n\nJeweils 18:30 bis 21:00/ 
 21:30 Uhr\nDer Ort:\nOnline über Zoom\nDen Link schicke ich dir rechtzeit
 ig vor Beginn zu.&nbsp\;\nDie Kosten:\n325\,-€ (incl. Material)\n\nFrüh
 bucher: 295\,-€ bis 10.08.2025\n\nSpecial: bring eine Freundin mit\, dan
 n zahlt ihr zusammen 550\,-€ (Frühbucher) oder 600\,-€ (regulär)\n\n
 &nbsp\;\n\nim Preis enthalten: kurzes Vorgespräch (falls wir uns noch nic
 ht kennen)\, 5 Abend-Einheiten á 2\,5-3 Stunden\, 1 mal 60 Minuten&nbsp\;
  Einzelcoaching (Zoom)\, Yonicreme\, Yoniei\, Pjur-Gleitmittel (sende ich 
 dir rechtzeitig vor Beginn per Post zu)\n\nRatenzahlung&nbsp\; möglich: 3
  Monatsraten á&nbsp\; 110\,00€&nbsp\;\nBei finanziell schwieriger Lage 
 kannst du mich sehr gerne ansprechen. Dann finden wir eine Lösung.&nbsp\;
 \n\nDie Lustschule gibt es auch in Einzelbegleitung zum Preis von 900\,-
 € (5 Termine á 2 Stunden und incl. Material)\n\nDieser Kurs ist für Ei
 nsteigerinnen geeignet\nWir empfehlen den Abschluss einer Seminarversicher
 ung\nInfo's dazu findest du hier:&nbsp\;Seminarversicherung
ATTACH;FMTTYPE=image/jpeg:https://www.insidetouch.de/wp-content/uploads/20
 23/10/lustschule_700_700.jpg
CATEGORIES:Frauen Seminare,Lustschule
LOCATION:http://www.insidetouch.de/lustschule
END:VEVENT
BEGIN:VTIMEZONE
TZID:Europe/Vienna
X-LIC-LOCATION:Europe/Vienna
BEGIN:DAYLIGHT
DTSTART:20250330T030000
TZOFFSETFROM:+0100
TZOFFSETTO:+0200
TZNAME:CEST
END:DAYLIGHT
END:VTIMEZONE
END:VCALENDAR