BEGIN:VCALENDAR
VERSION:2.0
PRODID:-//wp-events-plugin.com//7.2.3.1//EN
TZID:Europe/Vienna
X-WR-TIMEZONE:Europe/Vienna
BEGIN:VEVENT
UID:134@insidetouch.de
DTSTART;TZID=Europe/Vienna;VALUE=DATE:20251003
DTEND;TZID=Europe/Vienna;VALUE=DATE:20251005
DTSTAMP:20250907T214431Z
URL:https://www.insidetouch.de/events/love-lab-light-sex-worth-wanting/
SUMMARY:Love Lab Light - Sex worth wanting
DESCRIPTION:Welcher Sex ist es wert für mich gewollt zu werden?\nIn diesem
  Workshop tauchen wir tief in die Frage ein\, was für dich persönlich er
 füllenden\, begehrenswerten und authentischen Sex ausmacht. Im "Love Lab"
  erforschen wir in einer vertrauensvollen Atmosphäre\, was deine individu
 ellen Wünsche und Grenzen sind und wie du sie klarer erkennen und kommuni
 zieren kannst.\n\nWelche Art von Intimität erfüllt dich wirklich? Was ma
 cht Begegnungen für dich besonders? Und wie sieht der Sex aus\, der dir w
 irklich guttut? Gemeinsam begeben wir uns auf eine Entdeckungsreise zu meh
 r Klarheit und Selbstvertrauen in Sachen Lust und Liebe.\n\nDabei erwarten
  dich spielerische Übungen\, Körperarbeit und offene Gesprächsrunden f
 ür einen intensiven Austausch\, sowie auch viel theoretischer Input. Der 
 Workshop ist für dich geeignet\, wenn du deine Sexualität bewusster erle
 ben\, deine Bedürfnisse besser kennenlernen und deine sexuelle Energie al
 s Kraftquelle nutzen möchtest.\n\nWenn Du Lust hast\, Dich neu zu entdeck
 en und einen Blick hinter die eigenen Muster und Prägungen zu werfen\, da
 nn erwarten Dich berührende Tage in jeder Hinsicht.\nLass uns (selber und
  einander) kennenlernen!\n\nDie Inhalte sind Angebote an Dich\, Du entsche
 idest jedes mal worauf Du Dich einlassen möchtest und wo Du nicht mitmach
 st. Du erhältst Unterstützung durch uns und durch die Gruppe und handels
 t immer nach dem Motto...\n\nAlles ist willkommen\, alles darf da sein!\n\
 nDer Blick auf die Gruppe und Deine Prozesse ist natürlich von meiner tra
 uma-therapeutischen Erfahrung geprägt.\n\n&nbsp\;\n\nSeminarzeiten:\n\nFr
 eitag von 11:00 Uhr - ca. 22:00 Uhr&nbsp\;\nSamstag von 10:00 Uhr bis 18:0
 0 Uhr\n\n&nbsp\;\n\nWir - Nirmala Held (HP Psych Traumatherapie und Sexual
 beratung) -\n\nund JJ Gruber (Erwachsenenbildung) laden DICH sehr herzlich
  ein\, diesen Tag mit uns zu verbringen.\n\nAssistenz-Team: Marina F. und 
 Martin P.\n\n&nbsp\;\n\nDieses Seminar ist offen für Menschen mit und ohn
 e Seminar-Erfahrung. Wir setzen Aufgeschlossenheit und Mut voraus\, über 
 Sexualität zu sprechen. Wir wünschen uns Neugierde und Offenheit für si
 nnliche Begegnungen – sexuelle Handlungen sind ausdrücklich ausgeschlos
 sen.&nbsp\;\n\nDie Gruppe ist offen für Frauen\, Männer\, Divers\, Paare
 \n\nFrühbucher bis 23.08.2025
ATTACH;FMTTYPE=image/jpeg:https://www.insidetouch.de/wp-content/uploads/20
 24/11/lovelablight_2_700_700.jpg
CATEGORIES:offener Workshop,Workshop
LOCATION:Das Loft - Triftern\, nähe Pfarrkichen\, Triftern\, Bayern\, 8437
 1\, Deutschland
X-APPLE-STRUCTURED-LOCATION;VALUE=URI;X-ADDRESS=nähe Pfarrkichen\, Trifter
 n\, Bayern\, 84371\, Deutschland;X-APPLE-RADIUS=100;X-TITLE=Das Loft - Tri
 ftern:geo:0,0
END:VEVENT
BEGIN:VTIMEZONE
TZID:Europe/Vienna
X-LIC-LOCATION:Europe/Vienna
BEGIN:DAYLIGHT
DTSTART:20250330T030000
TZOFFSETFROM:+0100
TZOFFSETTO:+0200
TZNAME:CEST
END:DAYLIGHT
END:VTIMEZONE
END:VCALENDAR