BEGIN:VCALENDAR
VERSION:2.0
PRODID:-//wp-events-plugin.com//7.2.3.1//EN
TZID:Europe/Vienna
X-WR-TIMEZONE:Europe/Vienna
BEGIN:VEVENT
UID:161@insidetouch.de
DTSTART;TZID=Europe/Vienna;VALUE=DATE:20260524
DTEND;TZID=Europe/Vienna;VALUE=DATE:20260531
DTSTAMP:20260421T110416Z
URL:https://www.insidetouch.de/events/love-lab-liebe-lust-und-die-richtige
 -mischung/
SUMMARY:Love Lab- Liebe\, Lust und die richtige Mischung
DESCRIPTION:"Love Lab*" - Selbsterfahrungs-Woche in Kroatien\n
ATTACH;FMTTYPE=image/jpeg:https://www.insidetouch.de/wp-content/uploads/20
 25/08/love_lab_700_700.jpg
CATEGORIES:Ferienworkshops,offene Ferienwoche
LOCATION:Villa Ananda Istrien\, Mali Kosi 5H\, Labin - Kroatien\, 52220\, K
 roatien
X-APPLE-STRUCTURED-LOCATION;VALUE=URI;X-ADDRESS=Mali Kosi 5H\, Labin - Kroa
 tien\, 52220\, Kroatien;X-APPLE-RADIUS=100;X-TITLE=Villa Ananda Istrien:ge
 o:0,0
END:VEVENT
BEGIN:VTIMEZONE
TZID:Europe/Vienna
X-LIC-LOCATION:Europe/Vienna
BEGIN:DAYLIGHT
DTSTART:20260329T030000
TZOFFSETFROM:+0100
TZOFFSETTO:+0200
TZNAME:CEST
END:DAYLIGHT
END:VTIMEZONE
END:VCALENDAR