BEGIN:VCALENDAR
VERSION:2.0
PRODID:-//wp-events-plugin.com//7.2.3.1//EN
TZID:Europe/Vienna
X-WR-TIMEZONE:Europe/Vienna
BEGIN:VEVENT
UID:124@insidetouch.de
DTSTART;TZID=Europe/Vienna;VALUE=DATE:20250601
DTEND;TZID=Europe/Vienna;VALUE=DATE:20250608
DTSTAMP:20250202T204028Z
URL:https://www.insidetouch.de/events/love-lab-beziehung-sex-und-alles-daz
 wischen/
SUMMARY:Love Lab- Liebe\, Lust und die richtige Mischung
DESCRIPTION:"Love Lab*" - Selbsterfahrungs-Woche in Kroatien\n*LAB\, das is
 t eine umgangssprachliche Abkürzung für ein Laboratorium\, einen Ort als
 o\, an dem geforscht\, gemessen\, untersucht und experimentiert wird. Ein 
 Labor ist ein Ort der Erkenntnissuche und damit Sinnbild der Forschung sch
 lechthin.\n&nbsp\;\nEine Woche Luxus pur&nbsp\;für Dich\, Deine Seele\, D
 ein Wachstum&nbsp\;in der Villa Ananda in Istrien/Kroatien.\n&nbsp\;\n\nBi
 st du bereit\, deine Liebesfähigkeit\, Sinnlichkeit und Bindungsfähigkei
 t auf neue\, neugierige Weise zu entdecken?\n\nIn diesem Seminar laden wir
  dich ein\, spannende Fragen zu erkunden:\n\nWie prägen deine frühkindli
 chen Bindungserfahrungen deine heutigen Beziehungen? Wir werden unterschie
 dliche Bindungsmuster kennenlernen und verstehen\, welche Dynamiken sich z
 wischen den jeweiligen Bindungstypen entfalten.\n\nLebst du deine Sinnlich
 keit und Sexualität oder orientierst du dich an etablierten Performances?
  Sexualität ist ein erlerntes Verhalten. Wir schaffen Raum\, um deine sin
 nlich-sexuellen Bedürfnisse tiefer zu erkunden und neue\, bereichernde er
 otische Skripte zu entwickeln.\n\nWas ist dein Preis für Liebe? Wir erfor
 schen\, ob du in deinen ( Liebes-)Beziehungen deine eigenen Bedürfnisse k
 lar wahrnehmen kannst und in deiner Authentizität bleibst\, oder deine al
 ten erlernten Bindungsmuster erfordern dass du ein Stück von dir „aufgi
 ebst“ um im Kontakt sein zu können.\n\nWie trennst du Sex\, Herz und Bi
 ndung\, anstatt alles in einem chaotischen Cocktail zu vermischen? Gemeins
 am erarbeiten wir\, wie du diese Aspekte deines Lebens bewusst gestalten u
 nd einzeln ansteuern kannst.\n\nEgal\, ob du Single bist\, in einer Bezieh
 ung lebst oder einfach Lust hast\, dich selbst besser kennenzulernen – d
 ieses Seminar bietet dir spannende Aha-Momente und praktische Tipps für b
 ewusstere Beziehungen in deinem Leben!\n\nDiese Woche Luxus in Istrien\, g
 ibt Dir Impulse\, den nächsten Schritt am Weg zu Dir selbst zu gehen.\nFr
 eu Dich auf Erlebnisse unter der Sonne Istriens\, die Du so schnell nicht 
 vergessen wirst!\nWir werden uns in diesem Seminar liebevoll erforschen un
 d uns unseren Themen widmen\, mit Methoden aus der Körper- und Gestaltarb
 eit\,&nbsp\; aus dem Neo-Tantra und auch einem&nbsp\; "Special"- Angebot. 
 Wir freuen uns auf viel Freude und Leichtigkeit!\nDurch die kleine Gruppen
 größe von nur 14-17 Teilnehmer wirst du sehr individuell und intensiv vo
 n uns betreut. Es ist Raum für deine ganz eigenen wertvollen Prozesse und
  auch für gehaltene\, liebevolle Erfahrungen in der Gruppe.\nDer Blick au
 f die Gruppe und Deine Prozesse ist natürlich von meiner traumatherapeuti
 schen Erfahrung geprägt.\nEs wird viel Zeit geben zum integrieren\, verti
 efen\, schwimmen\, spazieren\, lecker Essen\, die Gegend erkunden\, lesen\
 , spielen\, in die Sauna gehen…. Einfach SEIN!!!\nWir legen großen Wert
  auf Gemeinschaftsprozesse und dass du dich in die Gemeinschaft einbringst
  (durch dein Sein\, aber auch durch Aufgaben wie kochen oder Tisch decken\
 , die du zum Wohle Aller übernimmst)\nWir freuen uns\, wenn DU dabei bist
 !\n&nbsp\;\n\nZusätzlich zum Selbsterfahrungs-Seminar ist folgendes im Pr
 eis enthalten:\n\n* Übernachtung mit reichhaltigem Frühstücksbuffet (vo
 n uns zubereitet)\n\n* sowie Wasser\, Säfte\, Tee und Kaffee ganztags\n\n
 * ein Mittagssnack\, den du dir selber zubereiten kannst\n\n* sowie ein ge
 meinschaftlich zubereitetes Abendessen\n\nNicht enthalten: alkoholische Ge
 tränke und ein Abendessen im Restaurant (optional)\n\n&nbsp\;\n\nDie Zimm
 er vergeben wir in der Reihenfolge der Anmeldung.&nbsp\;\n\nEs besteht kei
 n Anspruch auf ein bestimmtes Zimmer\, du kannst deinen Zimmerwunsch aber 
 gerne buchen\, wir setzen uns dann mit Dir in Verbindung ob wir deinen Wun
 sch berücksichtigen können.\nFrühbucherpreis gilt bis 3 Monate vor Semi
 narbeginn (bis 01.03.2025).\n\nDas Seminar beginnt am Sonntag um 18:30 Uhr
  mit dem Abendessen und dauert bis Samstag 14:00 Uhr. Wir wünschen uns da
 ss du verbindlich bis zum Ende des Seminars bleiben kannst. Eine Verlänge
 rung bis Sonntag Vormittag (10:00 Uhr) mit einem Aufpreis von 45\,-€\, o
 hne Seminarprogramm und Verpflegung (Reste-Essen)\, ist möglich.\n\nDiese
 s Seminar ist für Menschen mit Vorerfahrung geeignet. (bist du unsicher\,
  ob deine Vorerfahrung reicht? Dann sprech uns gerne an). Mit Menschen die
  wir nicht kennen\, gibt es vorab einen Kennenlerntermin über Zoom.\n\nWi
 r achten bei diesem Seminar auf ein halbwegs ausgewogenes Mann-Frau-Verhä
 ltnis. Wir heißen Menschen aller Geschlechtsidentitäten\, Körperformen 
 und sexuellen Orientierungen&nbsp\;zwischen 18 und 99 sehr willkommen.&nbs
 p\;\n\n&nbsp\;\n\nDieses Seminar ist für dich geeignet\, wenn du….\n\n-
  authentische Begegnungen suchst und bereit bist dich authentisch zu zeige
 n\n\n- Freude daran hast\, Neues an dir und anderen zu entdecken\n\n- bere
 it bist\, dich mit deinen Gefühlen und Schatten auseinanderzusetzen\n\n- 
 Lust auf gemeinschaftliches Erleben hast\n\n- ein grundsätzliches Einvers
 tändnis hast mit Menschen aller Geschlechter forschen zu wollen\n\n&nbsp\
 ;\n\nDieses Seminar ist nicht das Richtige für dich\, wenn du….\n\n- 
 „nur“ auf der Suche nach schnellem Sex\, zielorientiertem Körperkonta
 kt oder einer Partner:in bist\n\n- dich nicht auf Neues einlassen möchtes
 t\n\n- wenn du keine ausreichende Selbstregulationsfähigkeit besitzt oder
  dich sehr schwer tust Deine Grenzen wahrzunehmen und diese zu setzen\n\n-
  unter keinen Umständen Menschen gleichen oder eines anderen Geschlechts 
 berühren willst\,&nbsp\;\n\n- dich nicht mit deinen inneren Themen und Sc
 hatten auseinandersetzen möchtest\n\n- weißt oder vermutest\, dass du sc
 hwere (sexuelle) Traumata hast\, oder an einer schwerwiegenden psychischen
  Erkrankung leidest\n\n- noch nie an einem Selbsterfahrungsworkshop teilge
 nommen hast\n\n&nbsp\;\n\nWir - Nirmala Held (HP Psych. Traumatherapie und
  Sexualberatung) -\n\nund JJ Gruber (Erwachsenenbildung) laden DICH sehr h
 erzlich ein\, diese Zeit mit uns zu verbringen.\n\nAssistenz: Fanny R.\, N
 ina K.\n\n&nbsp\;\n\nMomentan ist diese Seminar-Reise ausgebucht. Bei Inte
 resse buche gerne einen Wartelisten-Platz\, wir melden uns sollte noch ein
  Platz frei werden! (der Wartelisten-Platz ist keine verbindliche Buchung)
 \n\n&nbsp\;\n\nVideo: Wir freuen uns auf Dich in Istrien!\n\nHier gehts zu
 m Seminarhaus Villa Ananda\n\nWir empfehlen den Abschluss eine Seminarvers
 icherung\, Informationen dazu findest Du hier: Seminarversicherung\n\n&nbs
 p\;
ATTACH;FMTTYPE=image/jpeg:https://www.insidetouch.de/wp-content/uploads/20
 23/10/offen_istrien_700_700.jpg
CATEGORIES:Ferienworkshops,offene Ferienwoche
LOCATION:Villa Ananda Istrien\, Mali Kosi 5H\, Labin - Kroatien\, 52220\, K
 roatien
X-APPLE-STRUCTURED-LOCATION;VALUE=URI;X-ADDRESS=Mali Kosi 5H\, Labin - Kroa
 tien\, 52220\, Kroatien;X-APPLE-RADIUS=100;X-TITLE=Villa Ananda Istrien:ge
 o:0,0
END:VEVENT
BEGIN:VTIMEZONE
TZID:Europe/Vienna
X-LIC-LOCATION:Europe/Vienna
BEGIN:DAYLIGHT
DTSTART:20250330T030000
TZOFFSETFROM:+0100
TZOFFSETTO:+0200
TZNAME:CEST
END:DAYLIGHT
END:VTIMEZONE
END:VCALENDAR