BEGIN:VCALENDAR
VERSION:2.0
PRODID:-//wp-events-plugin.com//7.2.3.1//EN
TZID:Europe/Vienna
X-WR-TIMEZONE:Europe/Vienna
BEGIN:VEVENT
UID:34@insidetouch.de
DTSTART;TZID=Europe/Vienna;VALUE=DATE:20241101
DTEND;TZID=Europe/Vienna;VALUE=DATE:20241103
DTSTAMP:20241008T211647Z
URL:https://www.insidetouch.de/events/leben-und-lustvoll-lieben/
SUMMARY:Lebendig Lieben und Lustvoll leben
DESCRIPTION:Dein Körper * Dein Erleben * Deine Sinnlichkeit\nEin verlänge
 rter Feiertag an dem wir uns damit auseinandersetzen was es braucht\, um s
 ich dem Leben und der Liebe hinzugeben.\nSind unsere Basisbedürfnisse erf
 üllt und wie bewerten wir diese? Fühle ich mich sicher in Begegnungen? W
 elche Glaubenssätze hindern mich vielleicht an Freude und Leichtigkeit? W
 as bedeutet Lebendigkeit für dich und wie nimmst du diese in deinem Körp
 er wahr?\n\nAuch wirst du Gelegenheit haben\, dich eingehender mit deiner 
 Sexualität und Sinnlichkeit auseinanderzusetzen. Es wird theoretischen In
 put zum Thema "Sexualität als erlerntes Verhalten" geben und wir werden m
 it viel Neugierde unsere eigenen sexuellen Skripte entdecken.\nEin Wochene
 nde der Freude mit viel Berührung\, Leichtigkeit\, nährendem Kontakt und
  spannenden Menschen!\nWenn Du Lust hast\, Dich neu zu entdecken und einen
  Blick hinter die eigene Fassade zu werfen\, dann erwarten Dich berührend
 e Tage in jeder Hinsicht.\nLass uns (selber und einander) kennenlernen!\nD
 ie Inhalte sind Angebote an Dich\, Du entscheidest jedes mal worauf Du Dic
 h einlassen möchtest und wo Du nicht mitmachst. Du erhältst Unterstützu
 ng durch uns und durch die Gruppe und handelst immer nach dem Motto...\n\n
 Alles ist willkommen\, alles darf da sein!\n\nSeminarzeiten:\n\nFreitag vo
 n 11:00 Uhr - 22:00 Uhr (Feiertag)\nSamstag von 10:00 Uhr bis 18:00 Uhr\n\
 n&nbsp\;\n\nWir - Nirmala Held (HP Psych Traumatherapie und Sexualberatung
 ) -\n\nund JJ Gruber (Erwachsenenbildung) laden DICH sehr herzlich ein\, d
 iesen Tag mit uns zu verbringen.\n\nAssistenz-Team: Arunima P.\n\n&nbsp\;\
 n\nDieses Seminar ist für Menschen ohne Vorerfahrung geeignet\n\nDie Grup
 pe ist offen für Frauen\, Männer\, Divers\, Paare\n\nSexuelle Aktivität
 en und intime Berührungen sind nicht Bestandteil in diesem Workshop.\n\nF
 rühbucher bis 20.09.2024
ATTACH;FMTTYPE=image/jpeg:https://www.insidetouch.de/wp-content/uploads/20
 23/10/lebendig_lieben_700_700.jpg
CATEGORIES:offener Workshop,Workshop
LOCATION:Das Loft - Triftern\, nähe Pfarrkichen\, Triftern\, Bayern\, 8437
 1\, Deutschland
X-APPLE-STRUCTURED-LOCATION;VALUE=URI;X-ADDRESS=nähe Pfarrkichen\, Trifter
 n\, Bayern\, 84371\, Deutschland;X-APPLE-RADIUS=100;X-TITLE=Das Loft - Tri
 ftern:geo:0,0
END:VEVENT
BEGIN:VTIMEZONE
TZID:Europe/Vienna
X-LIC-LOCATION:Europe/Vienna
BEGIN:STANDARD
DTSTART:20241027T020000
TZOFFSETFROM:+0200
TZOFFSETTO:+0100
TZNAME:CET
END:STANDARD
END:VTIMEZONE
END:VCALENDAR