BEGIN:VCALENDAR
VERSION:2.0
PRODID:-//wp-events-plugin.com//7.2.3.1//EN
TZID:Europe/Vienna
X-WR-TIMEZONE:Europe/Vienna
BEGIN:VEVENT
UID:35@insidetouch.de
DTSTART;TZID=Europe/Vienna:20241012T110000
DTEND;TZID=Europe/Vienna:20241012T213000
DTSTAMP:20241003T175347Z
URL:https://www.insidetouch.de/events/junge-wilde-2/
SUMMARY:Die Jungen Wilden - Exploring Intimacy
DESCRIPTION:Ein Format für junge Menschen von 18 - ca. 38 Jahre (keine har
 te Altersgrenze)\n\n&nbsp\;\n\n- Du glaubst Sexualität ist angeboren?\n\n
 - Du glaubst dein Partner wird schon wissen was du brauchst?\n\n- Du glaub
 st das mit dem Sex\, wird sich schon fügen mit der Zeit?\n\nUnsere Sexual
 ität ist\, wie so vieles in unserem Leben\, sehr oft eine Ansammlung von 
 Irrtümern\, Glaubenssätzen und der Hoffnung\, wenn ich den oder die Rich
 tige gefunden habe\, dann passt das alles!\n\nStudien zeigen\, dass junge 
 Menschen heutzutage sowohl weniger Sex haben\, als auch weniger Lust versp
 üren als noch vor 30 Jahren.\n\nWoran liegt das? Die Gründe dafür sind 
 wohl vielfältig. - Unlust? Nicht Wissen was ich selber will? Glauben wiss
 en zu müssen was der andere will? Stress in unseren vollen Leben? Perform
 ance-Druck?\n\n&nbsp\;\n\nWir wollen uns an diesem Tag der Frage widmen: "
 Welche Sexualität möchte ich leben?" "Was ist der Sex\, der es wert ist 
 für mich gewollt zu werden?" Welche Faktoren unterstützen mich dabei ein
 e erfüllte Sexualität zu leben?\n\nWir laden dich dazu ein\, herauszufin
 den\, was du persönlich brauchst\, um dich in deiner Sexualität und Inti
 mität sowohl mit dir selbst als auch mit anderen wohlzufühlen.\n\nWie ge
 ht der Weg vom Performance-Sex zu sinnlich-fließender Intimität? Wir wer
 den uns Zeit nehmen diese Qualität näher zu erkunden\, sie zu fühlen un
 d ein bisschen damit zu experimentieren.\n\nAlles ist Einladung... du ents
 cheidest welche Übungsstrukturen du mit der Gruppe machst und wo du liebe
 r für dich alleine forschst.\n\n&nbsp\;\n\nIn diesem Seminar geht es nich
 t um sexuelle Handlungen oder Nacktheit\, sondern vielmehr um die Erforsch
 ung und Entwicklung unserer eigenen Bedürfnisse und Vorlieben in einem un
 terstützenden Umfeld.\n\n&nbsp\;\n\nWir - Nirmala Held (HP Psych Traumath
 erapie und Sexualberatung) -\n\nund JJ Gruber (Erwachsenenbildung) laden D
 ICH sehr herzlich ein\, diesen Tag mit uns zu verbringen.\n\nAssistenz-Tea
 m: Daniel K.\, Melina O.\n\n&nbsp\;\n\nDieses Seminar ist für Einsteiger:
 innen geeignet\n\nDie Gruppe ist offen für Frauen\, Männer\, Divers im A
 lter von 18 bis ca. 38 Jahren (keine harte Altersgrenze)\n\nFrühbucher bi
 s 31.08.2024
ATTACH;FMTTYPE=image/jpeg:https://www.insidetouch.de/wp-content/uploads/20
 23/10/junge_wilde_700_700.jpg
CATEGORIES:offener Workshop,Workshop
LOCATION:Das Loft - Triftern\, nähe Pfarrkichen\, Triftern\, Bayern\, 8437
 1\, Deutschland
X-APPLE-STRUCTURED-LOCATION;VALUE=URI;X-ADDRESS=nähe Pfarrkichen\, Trifter
 n\, Bayern\, 84371\, Deutschland;X-APPLE-RADIUS=100;X-TITLE=Das Loft - Tri
 ftern:geo:0,0
END:VEVENT
BEGIN:VTIMEZONE
TZID:Europe/Vienna
X-LIC-LOCATION:Europe/Vienna
BEGIN:DAYLIGHT
DTSTART:20240331T030000
TZOFFSETFROM:+0100
TZOFFSETTO:+0200
TZNAME:CEST
END:DAYLIGHT
END:VTIMEZONE
END:VCALENDAR