BEGIN:VCALENDAR
VERSION:2.0
PRODID:-//wp-events-plugin.com//7.2.3.1//EN
TZID:Europe/Vienna
X-WR-TIMEZONE:Europe/Vienna
BEGIN:VEVENT
UID:268@insidetouch.de
DTSTART;TZID=Europe/Vienna;VALUE=DATE:20260821
DTEND;TZID=Europe/Vienna;VALUE=DATE:20260824
DTSTAMP:20260221T011506Z
URL:https://www.insidetouch.de/events/insidetouch-summer-vibes/
SUMMARY:InsideTouch Summer Vibes
DESCRIPTION:Ein Wochenende zum Fühlen\, Flirten &amp\; Freuen – wo Somme
 rwärme und Herzenskontakt sich treffen\n\nBeim InsideTouch Sommerknistern
  feiern wir Berührung\, Freude und die kleinen Momente\, die alles verän
 dern.Weil Berührung im Sommer einfach noch besser schmeckt.&nbsp\;\nEin W
 ochenende\, um zusammenzukommen\, zu lachen\, zu tanzen\, zu fühlen – u
 nd das Leben&nbsp\; sinnlich zu feiern.\nEin Fest für Menschen\, denen (S
 elbst)Liebe\, Wertschätzung\, Verbundenheit\, Authentizität und Offenhei
 t selbstverständlich sind. Die Gemeinschaft lieben\, wie wir.&nbsp\;Für 
 alle\, die wissen\, dass das beste Mantra lautet: „An Scheiß muas I.“
  😄\n💛 Freitag – Ankommen &amp\; Eintauchen\n\nAb 16 Uhr öffnen si
 ch die Türen zum Ankommen\, Durchatmen und Wiedersehen.\nNach einem gemei
 nsamen Abendessen lernen wir uns kennen und begegnen uns spielerisch im ta
 ntrischen Speed-Dating – neugierig\, offen und mit viel Herz.\nDanach la
 ssen wir den Abend sinnlich-lustvoll ausklingen: in der Sauna (mit ACDC-Au
 fguß 😄 )\, auf der Matte oder einfach im Miteinander.\n\n💛&nbsp\;Sa
 mstag – Bewegung\, Berührung &amp\; Genuss\n\nDer Tag beginnt mit einer
  Morgen-Wave\, die dich sanft in deinen Körper und den Tag hineinträgt.\
 nNach dem Frühstück darf genossen werden\, was das Herz begehrt. (Chille
 n\, im See baden\, Sauna\, kuscheln….)\nAm Nachmittag zelebrieren wir da
 s Leben in sinnlicher Wonne beim Öl-Ritual – ein Höhepunkt des Wochene
 ndes.\n(Bitte bei der Anmeldung angeben\, wenn du daran teilnehmen möchte
 st.)&nbsp\;\n\nAm Abend öffnet sich der Freudenbazar – ein Ort zum Stau
 nen\, Spielen und Ausprobieren.Hier darf jede*r etwas Eigenes\, Sinnliches
  oder Schräges beisteuern – und sich von den Angeboten der anderen verz
 aubern lassen.Danach wartet der Sommerhimmel – mit Kuscheln\, Liebe und 
 Sternenfunkeln.\n\n💛&nbsp\;&nbsp\;Sonntag – Family\, Flow &amp\; Feue
 r\n\nAm Sonntag dürfen auch deine Kinder mit dabei sein!\nEs gibt ein kle
 ines Kinderprogramm\, während die Großen tanzen\, ratschen\, saunen oder
  einfach das Leben genießen.\nWir starten mit einer bewegten Meditation i
 n den Tag. Am Nachmittag erwartet dich eine Biodanza-Session mit Peter von
  Marschall (Nürnberg)– pures Lebensgefühl in Bewegung – und danach w
 ird in der Werkstatt getanzt! Das Wochenende beschließen wir schließlich
  in einer warmen Abschlussrunde am Feuer – sofern das Wetter uns gewogen
  ist.\n\nWir behalten uns spontane Änderungen im Programm vor.&nbsp\;\n\n
 💛&nbsp\;Übernachtung &amp\; Verpflegung\n\nDu kannst direkt bei Kathi 
 und Vladi im Haus auf Matratzen übernachten&nbsp\; oder auf Matten in der
  Werkstatt (begrenzte Platzanzahl\, auf Spendenbasis). Melde dich bei Inte
 resse bei Kathi: katharinabischer@gmail.com. Alternativ kannst du im Campe
 r oder Auto auf dem Gelände übernachten\, nach Hause fahren oder dich in
  der näheren Umgebung irgendwo einmieten.&nbsp\;\n\nFür unser gemeinsame
 s Buffet bring bitte für alle drei Tage etwas Leckeres zu essen mit. Wir 
 besorgen wie immer Kaffee\, Milch\, Tee. Getränke kannst du selbst mitbri
 ngen oder vor Ort auf Spendenbasis (ca. 1\,50 €) erhalten. (Wasser\, Saf
 t\, alkfreies Bier\, Radler)\n\n💛&nbsp\;Für wen\nFür alle wunderbaren
  Menschen der InsideTouch-Family\, die schon mindestens zwei Workshops (od
 er eine Woche Istrien) mit uns erlebt haben und sich in unseren Ritualen\,
  Werten und der legendären „an Scheiß muas I“-Gelassenheit zuhause f
 ühlen.Egal ob Solo\, zu zweit\, anders verbunden\, egal welches Gender 
 – wir feiern gemeinsam! (Die Plätze sind auf 50 Herzen begrenzt.)\nWenn
  du Lust hast auf Nähe\, Freude\, Spiel\, Leichtigkeit und ein Wiedersehe
 n in vertrauter InsideTouch-Atmosphäre\, dann komm dazu und tanz mit uns 
 in den Sommer.\nUnd am Sonntag wird’s familienbunt:Kinder sind herzlich 
 willkommen – und das kostenfrei!Sag uns bei deiner Anmeldung einfach kur
 z\, ob und wie viele kleine Wirbelwinde dich begleiten.\n💛 Kosten-Betei
 ligung\n\nSonderpreis: 120\,- € Frühbucher für das komplette Wochenend
 e\n(inkl. Programm &amp\; Nutzung der Sauna\, exkl. Übernachtung &amp\; V
 erpflegung)\n\n💛&nbsp\;Wann &amp\; Wo\n\n21. Bis 23.08.2026\nBischer’
 s Paradise – Parkstetten (bei Straubing)\n\nMelde dich jetzt an und sich
 ere dir deinen Platz für ein Sommerwochenende voller Herz\, Humor und Ber
 ührung.\nBitte gib bei der Anmeldung an\, ob du am Öl-Ritual teilnehmen 
 möchtest.\n\n💛&nbsp\; Assistenten/Caretaker\n\nKatharina und Vladimir 
 B.\, Tobias R.\, Nirmala und JJ\,&nbsp\; Fanny R.\, Marina F. (Kinder-Prog
 ramm)\n\n&nbsp\;\n\n&nbsp\;\n\n&nbsp\;
ATTACH;FMTTYPE=image/jpeg:https://www.insidetouch.de/wp-content/uploads/20
 25/10/DSC_9130-scaled.jpg
CATEGORIES:Ferienworkshops,offener Workshop
LOCATION:Bischer´s Paradise\, wird bei Anmeldung bekanntgegeben\, Parkstet
 ten\, 94365\, Deutschland
X-APPLE-STRUCTURED-LOCATION;VALUE=URI;X-ADDRESS=wird bei Anmeldung bekanntg
 egeben\, Parkstetten\, 94365\, Deutschland;X-APPLE-RADIUS=100;X-TITLE=Bisc
 her´s Paradise:geo:0,0
END:VEVENT
BEGIN:VTIMEZONE
TZID:Europe/Vienna
X-LIC-LOCATION:Europe/Vienna
BEGIN:DAYLIGHT
DTSTART:20260329T030000
TZOFFSETFROM:+0100
TZOFFSETTO:+0200
TZNAME:CEST
END:DAYLIGHT
END:VTIMEZONE
END:VCALENDAR