BEGIN:VCALENDAR
VERSION:2.0
PRODID:-//wp-events-plugin.com//7.2.3.1//EN
TZID:Europe/Vienna
X-WR-TIMEZONE:Europe/Vienna
BEGIN:VEVENT
UID:163@insidetouch.de
DTSTART;TZID=Europe/Vienna;VALUE=DATE:20260517
DTEND;TZID=Europe/Vienna;VALUE=DATE:20260524
DTSTAMP:20260408T200832Z
URL:https://www.insidetouch.de/events/im-herzen-barfuss-deine-reise-ins-ki
 nderparadies/
SUMMARY:Im Herzen barfuß – Deine Reise ins Kinderparadies
DESCRIPTION:"Eine Reise ins Kinderparadies" - das Kind in Dir (wieder) entd
 ecken und lieben\nEine Woche für dein inneres Kind – heilsam\, spieleri
 sch\, lebendig\n\nViele Erwachsene tragen ein kleines verletztes Wesen in 
 sich –\nein Kind\, das zu viel allein war\, zu viel verstehen musste\, z
 u wenig spielen durfte.\nEin Kind\, das heute noch in uns lebt\, oft über
 deckt von Funktionieren\, Abwarten\, Kontrolle.\nDoch es sehnt sich.... Na
 ch Geborgenheit. Nach Sicherheit. Nach echter Verbindung.\nNach Freiheit\,
  Leichtigkeit und Gesehenwerden.\n\nDiese Woche in Istrien ist eine Einlad
 ung\, diesem Kind einen neuen Platz zu geben.\nNicht als Konzept oder nett
 e Idee – sondern ganz konkret\, spürbar\, leise und laut.\nWir öffnen 
 einen Raum\, in dem es sein darf. In dem DU sein darfst.\nEin Ort zum Lach
 en\, Weinen\, Toben\, Staunen\, Forschen\, Kuscheln\, Ruhen\, Springen\, A
 rschbomben machen\, Brüllen\, Einhorn reiten\, Tanzen\, Spüren....\n\nEi
 n sicheres\, liebevolles „Kinderparadies“ – für dein inneres Kind.\
 n\nÜber den Körper\, über Berührung und Präsenz öffnen wir sanft die
  Schichten deiner Geschichte – damit dein System Neues erleben darf.\nWi
 r geben dir Impulse und Wissen zu Entwicklungstrauma\, Bindungsmustern und
  Nervensystemregulation.\nDoch vor allem schenken wir dir Zeit. Zeit für 
 Spiel\, für Blödsinn\, für echte Begegnung.\nZeit für korrigierende Er
 fahrungen – in einem Raum\, in dem du nicht zu viel bist\, nicht zu weni
 g\, sondern genau richtig.\n\nBewegung\, Berührung\, Glitzerstaub und lei
 chtes Lachen – alles lädt dein lebendiges Sein ein.\nVielleicht erinner
 st du dich\, wie es ist\, einfach nur da zu sein. Vielleicht zum ersten Ma
 l.\n\nAbends liegen wir unter dem Sternenzelt\,\nstreuen Regenbogenglitzer
  in die Dunkelheit\,\nfeiern das Leben mit bunten Festen\,\ntanzen barfuß
  im nassen Gras\nund lassen unsere Herzen leuchten.\n\nMöge das\, was in 
 dir schwingen will\, Raum finden!\n\n&nbsp\;\n\nDiese Woche Luxus in Istri
 en\, gibt Dir Impulse\, den nächsten Schritt am Weg zu Dir selbst zu gehe
 n.\nFreu Dich auf Erlebnisse unter der Sonne Istriens\, die Du so schnell 
 nicht vergessen wirst!\nWir werden uns in diesem Seminar liebevoll erforsc
 hen und uns unseren Themen widmen\, mit Methoden aus der Körper- und Gest
 altarbeit\,&nbsp\; aus dem Neo-Tantra und auch einem&nbsp\; "Special"- Ang
 ebot. Wir freuen uns auf viel Freude und Leichtigkeit!\nDurch die kleine G
 ruppengröße von nur 14-16 Teilnehmer wirst du sehr individuell und inten
 siv von uns betreut. Es ist Raum für deine ganz eigenen wertvollen Prozes
 se und auch für gehaltene\, liebevolle Erfahrungen in der Gruppe.\nDer Bl
 ick auf die Gruppe und Deine Prozesse ist natürlich von meiner traumather
 apeutischen Erfahrung geprägt.\nEs wird viel Zeit geben zum integrieren\,
  vertiefen\, schwimmen\, spazieren\, lecker Essen\, die Gegend erkunden\, 
 lesen\, spielen\, in die Sauna gehen…. Einfach SEIN!!!\nWir legen große
 n Wert auf Gemeinschaftsprozesse und dass du dich in die Gemeinschaft einb
 ringst (durch dein Sein\, aber auch durch Aufgaben wie kochen oder Tisch d
 ecken\, die du zum Wohle Aller übernimmst)\nWir freuen uns\, wenn DU dabe
 i bist!\n&nbsp\;\n\nZusätzlich zum Selbsterfahrungs-Seminar ist folgendes
  im Preis enthalten:\n\n* Übernachtung mit reichhaltigem Frühstücksbuff
 et (von uns zubereitet)\n\n* sowie Wasser\, Säfte\, Tee und Kaffee ganzta
 gs\n\n* ein Mittagssnack\, den du dir selber zubereiten kannst\n\n* sowie 
 ein gemeinschaftlich zubereitetes Abendessen\n\nNicht enthalten: alkoholis
 che Getränke und ein Abendessen im Restaurant (optional)\n\nLass dich üb
 er das Buchungsformular gerne dein gewünschtes Zimmer buchen. Bedenke dab
 ei\, dass wir die Zimmer gemischtgeschlechtlich vergeben.&nbsp\;\nFrühbuc
 herpreis gilt bis 3 Monate vor Seminarbeginn (bis 17.02.2026).\n\nDas Semi
 nar beginnt am Sonntag um 18:30 Uhr mit dem Abendessen und dauert bis Sams
 tag 14:00 Uhr. Wir wünschen uns dass du verbindlich bis zum Ende des Semi
 nars bleiben kannst. Eine Verlängerung bis Sonntag Vormittag (10:00 Uhr) 
 mit einem Aufpreis von 45\,-€\, ohne Seminarprogramm und Verpflegung (Re
 ste-Essen)\, ist möglich.\n\nDieses Seminar ist für Menschen mit und ohn
 e Vorerfahrung geeignet.&nbsp\;\n\nWir achten bei diesem Seminar nicht auf
  ein ausgewogenes Mann-Frau-Verhältnis. Wir heißen Menschen aller Geschl
 echtsidentitäten\, Körperformen und sexuellen Orientierungen&nbsp\;zwisc
 hen 18 und 99 sehr willkommen.&nbsp\;\n\n&nbsp\;\n\nDieses Seminar ist fü
 r dich geeignet\, wenn du….\n\n- authentische Begegnungen suchst und ber
 eit bist dich authentisch zu zeigen\n\n- Freude daran hast\, Neues an dir 
 und anderen zu entdecken\n\n- bereit bist\, dich mit deinen Gefühlen und 
 Schatten auseinanderzusetzen\n\n- Lust auf gemeinschaftliches Erleben hast
 \n\n- ein grundsätzliches Einverständnis hast mit Menschen aller Geschle
 chter forschen zu wollen\n\n&nbsp\;\n\nDieses Seminar ist nicht das Richti
 ge für dich\, wenn du….\n\n- „nur“ auf der Suche nach schnellem Sex
 \, zielorientiertem Körperkontakt oder einem/einer Partner:in bist\n\n- d
 ich nicht auf Neues einlassen möchtest\n\n- wenn du keine ausreichende Se
 lbstregulationsfähigkeit besitzt oder dich sehr schwer tust Deine Grenzen
  wahrzunehmen und diese zu setzen\n\n- unter keinen Umständen Menschen gl
 eichen oder eines anderen Geschlechts berühren willst\,&nbsp\;\n\n- dich 
 nicht mit deinen inneren Themen und Schatten auseinandersetzen möchtest\n
 \n- weißt oder vermutest\, dass du schwere (sexuelle) Traumata hast\, ode
 r an einer schwerwiegenden psychischen Erkrankung leidest\n\n- du nicht be
 reit bist mit dem Kind in dir in Kontakt zu kommen!\n\n&nbsp\;\n\nWir - Ni
 rmala Held (HP Psych. Traumatherapie und Sexualberatung) -\n\nund JJ Grube
 r (Erwachsenenbildung) laden DICH sehr herzlich ein\, diese Zeit mit uns z
 u verbringen.\n\nAssistenz: Fanny R.&nbsp\;\n\n&nbsp\;\n\nVideo: Wir freue
 n uns auf Dich in Istrien!\n\nHier gehts zum Seminarhaus Villa Ananda\n\nW
 ir empfehlen den Abschluss einer Seminarversicherung\, Informationen dazu 
 findest Du hier: Seminarversicherung\n\n&nbsp\;\n\n&nbsp\;
ATTACH;FMTTYPE=image/jpeg:https://www.insidetouch.de/wp-content/uploads/20
 25/08/kinderparadies_700_700.jpg
CATEGORIES:Ferienworkshops,offene Ferienwoche
LOCATION:Villa Ananda Istrien\, Mali Kosi 5H\, Labin - Kroatien\, 52220\, K
 roatien
X-APPLE-STRUCTURED-LOCATION;VALUE=URI;X-ADDRESS=Mali Kosi 5H\, Labin - Kroa
 tien\, 52220\, Kroatien;X-APPLE-RADIUS=100;X-TITLE=Villa Ananda Istrien:ge
 o:0,0
END:VEVENT
BEGIN:VTIMEZONE
TZID:Europe/Vienna
X-LIC-LOCATION:Europe/Vienna
BEGIN:DAYLIGHT
DTSTART:20260329T030000
TZOFFSETFROM:+0100
TZOFFSETTO:+0200
TZNAME:CEST
END:DAYLIGHT
END:VTIMEZONE
END:VCALENDAR