BEGIN:VCALENDAR
VERSION:2.0
PRODID:-//wp-events-plugin.com//7.2.3.1//EN
TZID:Europe/Vienna
X-WR-TIMEZONE:Europe/Vienna
BEGIN:VEVENT
UID:265@insidetouch.de
DTSTART;TZID=Europe/Vienna:20251112T190000
DTEND;TZID=Europe/Vienna:20251112T213000
DTSTAMP:20250918T065000Z
URL:https://www.insidetouch.de/events/holy-shakti/
SUMMARY:Holy Shakti!
DESCRIPTION:Tantra zum Reinschnuppern für Frauen\nTantra-Einsteigerinnen-S
 eminar an 3 Abenden (feste Gruppe)\nSehnst du dich nach mehr Lebendigkeit\
 , Sinnlichkeit und echter Verbundenheit – mit dir selbst und anderen Fra
 uen? Möchtest du erfahren\, was Tantra wirklich ist (Spoiler: nicht Sex m
 it Räucherstäbchen&nbsp\;😉)\, sondern ein Weg\, der Herz\, Körper un
 d Seele liebevoll vereint?\nDann laden wir dich herzlich ein zu unserer&nb
 sp\;„Holy Shakti!“ – einem tantrischen Einsteigerinnen-Seminar an dr
 ei Abenden\, bei dem du deine Weiblichkeit in all ihren Facetten entdecken
 \, spüren und feiern kannst.\nIm geschützten Kreis von Frauen erschaffen
  wir gemeinsam einen Raum für Heilung\, Inspiration und tiefe Begegnung.\
 nWir tauchen ein in die tantrische Welt – mit Bewegung\, Berührung\, Ri
 tualen\, Austausch und heilsamer Körperarbeit.\n💗&nbsp\;Was dich erwar
 tet:\n– Ein sicherer Raum zum Ausprobieren und Sein\n– Kraftvolle Übu
 ngen &amp\; sanfte Berührungen\n– Sinnliche Selbsterfahrung jenseits vo
 n Leistungsdruck\n– Zeit für deine Bedürfnisse\, Grenzen und deine Wah
 rheit\n– Begegnung mit dir – wild\, weich\, verletzlich\, stark\nHier 
 darf alles da sein: Freude\, Trauer\, Widerstand\, Nicht-Fühlen. Alles is
 t willkommen –&nbsp\;DU bist willkommen.\nDie Termine: Mittwoch 12.11.\,
  Mittwoch 26.11.\, Mittwoch 10.12. jeweils 19:00 - 21:30 Uhr\nFür wen:\nF
 ür alle Frauen\, die neugierig auf Tantra sind und Lust haben\, ihre Sinn
 lichkeit\, Sexualität und Spiritualität achtsam zu erkunden – ohne Vor
 kenntnisse.\nDiese Gruppe ist für Einsteiger:innen geeignet\nDie Gruppe i
 st offen für Frauen&nbsp\;\n\nBuchung hier über das FGZ Regensburg\n\nNi
 rmala Held (HP Psych Traumatherapie und Sexualberatung)&nbsp\;\n\n&nbsp\;
ATTACH;FMTTYPE=image/jpeg:https://www.insidetouch.de/wp-content/uploads/20
 23/10/sinnlicher_jahresbeginn_700_700.jpg
CATEGORIES:offener Workshop,Workshop
LOCATION:FGZ - Frauengesundheitszentrum Regensburg\, Grasgasse 10\, Hinterh
 of rechts\, Regensburg\, 93047\, Deutschland
X-APPLE-STRUCTURED-LOCATION;VALUE=URI;X-ADDRESS=Grasgasse 10\, Hinterhof re
 chts\, Regensburg\, 93047\, Deutschland;X-APPLE-RADIUS=100;X-TITLE=FGZ - F
 rauengesundheitszentrum Regensburg:geo:0,0
END:VEVENT
BEGIN:VTIMEZONE
TZID:Europe/Vienna
X-LIC-LOCATION:Europe/Vienna
BEGIN:STANDARD
DTSTART:20251026T020000
TZOFFSETFROM:+0200
TZOFFSETTO:+0100
TZNAME:CET
END:STANDARD
END:VTIMEZONE
END:VCALENDAR