BEGIN:VCALENDAR
VERSION:2.0
PRODID:-//wp-events-plugin.com//7.2.3.1//EN
TZID:Europe/Vienna
X-WR-TIMEZONE:Europe/Vienna
BEGIN:VEVENT
UID:145@insidetouch.de
DTSTART;TZID=Europe/Vienna:20251108T110000
DTEND;TZID=Europe/Vienna:20251108T213000
DTSTAMP:20251001T073912Z
URL:https://www.insidetouch.de/events/heilsame-selbstliebe/
SUMMARY:Heilsame Selbstliebe
DESCRIPTION:Ein Seminar zur Entfaltung deines Selbstmitgefühls\n\nGeht es 
 dir auch manchmal so? Eine Freundin erzählt dir von einer vermeintlichen 
 Schwäche oder von einem Missgeschick – natürlich kannst du sie voller 
 Mitgefühl trösten und Verständnis zeigen. Doch wenn du selbst in einer 
 ähnlichen Situation bist\, bist du oft hart mit dir und verurteilst dich?
 \n\nDie gute Nachricht ist: Selbstmitgefühl ist eine Fähigkeit\, die du 
 leicht erlernen kannst!\n\nIn diesem Seminar erforschen wir\, wie du durch
  Mitgefühl für dich selbst mehr inneren Frieden finden kannst. Wir nutze
 n inspirierende Übungen\, Meditationen und achtsame Körperarbeit\, um di
 r zu zeigen\, wie du deine innere Haltung verändern und ein neues\, freun
 dlicheres Selbstbild entwickeln kannst.\n\nWarum ist&nbsp\; Selbstmitgefü
 hl wichtig?\nSelbstmitgefühl hat eine tiefe Auswirkung auf dein Wohlbefin
 den und deine Lebensqualität. Es hilft dir\, dich selbst in schwierigen M
 omenten zu unterstützen\, statt dich zu verurteilen. Selbstmitgefühl ist
  der Schlüssel für Heilung und sanftes Wachstum. Der Weg dorthin mag dir
  schwer erscheinen\, aber er lohnt sich – und ist erlernbar!\nEin sanfte
 r Blick auf dein Nervensystem\nWährend wir uns auf das Thema Selbstmitgef
 ühl konzentrieren\, werfen wir auch einen Blick auf die Verbindung zwisch
 en deinem Körper\, deinem Nervensystem und deinen Emotionen. Denn\, wenn 
 du beginnst\, dich selbst liebevoller zu behandeln\, wirst du auch lernen\
 , wie dein Nervensystem auf Stress\, Angst oder Unsicherheit reagiert – 
 und wie du dich selbst in solchen Momenten beruhigen kannst.\nBewegung\, T
 anz\, liebevolle Begegnungen und nährender Körperkontakt werden uns in d
 iesem Workshop dabei unterstützen\, mit allen Sinnen Selbstmitgefühl und
  Freude zu erfahren.\nDenn erst wenn wir ein Ja zu uns haben\, können wir
  aus ganzem Herzen ein Ja zu unseren Liebsten finden.\nBegib dich mit uns 
 auf eine Reise zu deinem Herzen und entdecke die transformative Kraft des 
 Selbstmitgefühls\n\n&nbsp\;\n\nArunima Peter -Dipl.-Sozialpädagogin (FH)
 \, Systemische Beraterin\, Systemische Supervisorin\n\nwww.ursula-peter.de
 \n\nAssistenz-Team: Martin P.\, Johanna G.&nbsp\;\n\n&nbsp\;\n\nDieses Sem
 inar ist für Einsteiger:innen geeignet\n\nDie Gruppe ist offen für Fraue
 n\, Männer\, Divers\, Paare\n\nDer Frühbucher-Rabatt gilt bis 27.09.25\n
 \n&nbsp\;
ATTACH;FMTTYPE=image/jpeg:https://www.insidetouch.de/wp-content/uploads/20
 23/10/heilsame_selbstliebe_700_700.jpg
CATEGORIES:offener Workshop,Workshop
LOCATION:Das Loft - Triftern\, nähe Pfarrkichen\, Triftern\, Bayern\, 8437
 1\, Deutschland
X-APPLE-STRUCTURED-LOCATION;VALUE=URI;X-ADDRESS=nähe Pfarrkichen\, Trifter
 n\, Bayern\, 84371\, Deutschland;X-APPLE-RADIUS=100;X-TITLE=Das Loft - Tri
 ftern:geo:0,0
END:VEVENT
BEGIN:VTIMEZONE
TZID:Europe/Vienna
X-LIC-LOCATION:Europe/Vienna
BEGIN:STANDARD
DTSTART:20251026T020000
TZOFFSETFROM:+0200
TZOFFSETTO:+0100
TZNAME:CET
END:STANDARD
END:VTIMEZONE
END:VCALENDAR