BEGIN:VCALENDAR
VERSION:2.0
PRODID:-//wp-events-plugin.com//7.2.3.1//EN
TZID:Europe/Vienna
X-WR-TIMEZONE:Europe/Vienna
BEGIN:VEVENT
UID:58@insidetouch.de
DTSTART;TZID=Europe/Vienna:20240110T183000
DTEND;TZID=Europe/Vienna:20240110T210000
DTSTAMP:20231130T092154Z
URL:https://www.insidetouch.de/events/handwerkerabend-online/
SUMMARY:Handwerkerabend Online
DESCRIPTION:Handwerkerabend Yonimassage und Kommunikation in der Sexualitä
 t für Männer -&nbsp\;Online\nKompetent an der Frau - weibliche&nbsp\; In
 timmassage und Kommunikation in der Sexualität\nDer Abend ist&nbsp\;aussc
 hließlich für Männer!\n&nbsp\;\n\nDu kannst diese Handwerkerabende auch
  gerne für eine Kleingruppe (z.B. Jungesell*innen-Abschied\, Geburtstag u
 sw\,) oder als Einzeltermin bei mir buchen. Preis auf Nachfrage.&nbsp\;\n\
 n&nbsp\;
ATTACH;FMTTYPE=image/jpeg:https://www.insidetouch.de/wp-content/uploads/20
 23/10/handwerker_700_700.jpg
CATEGORIES:Handwerkerabend
LOCATION:http://www.insidetouch.de/handarbeit
END:VEVENT
BEGIN:VTIMEZONE
TZID:Europe/Vienna
X-LIC-LOCATION:Europe/Vienna
BEGIN:STANDARD
DTSTART:20231029T020000
TZOFFSETFROM:+0200
TZOFFSETTO:+0100
TZNAME:CET
END:STANDARD
END:VTIMEZONE
END:VCALENDAR