BEGIN:VCALENDAR
VERSION:2.0
PRODID:-//wp-events-plugin.com//7.2.3.1//EN
TZID:Europe/Vienna
X-WR-TIMEZONE:Europe/Vienna
BEGIN:VEVENT
UID:151@insidetouch.de
DTSTART;TZID=Europe/Vienna:20250520T190000
DTEND;TZID=Europe/Vienna:20250520T213000
DTSTAMP:20250518T120732Z
URL:https://www.insidetouch.de/events/handwerkerabend-online-3/
SUMMARY:Handwerkerabend Online
DESCRIPTION:Handwerkerabend Yonimassage und Kommunikation in der Sexualitä
 t für Männer -&nbsp\;Online\nKompetent an der Frau - weibliche&nbsp\; In
 timmassage und Kommunikation in der Sexualität\nDer Abend ist&nbsp\;aussc
 hließlich für Männer!\n&nbsp\;\n\nDu kannst diese Handwerkerabende auch
  gerne für eine Kleingruppe (z.B. Jungesell*innen-Abschied\, Geburtstag u
 sw\,) oder als Einzeltermin bei mir buchen. Preis auf Nachfrage.&nbsp\;\n\
 n&nbsp\;
ATTACH;FMTTYPE=image/jpeg:https://www.insidetouch.de/wp-content/uploads/20
 23/10/handwerker_700_700.jpg
CATEGORIES:Handwerkerabend
LOCATION:http://www.insidetouch.de/handarbeit
END:VEVENT
BEGIN:VTIMEZONE
TZID:Europe/Vienna
X-LIC-LOCATION:Europe/Vienna
BEGIN:DAYLIGHT
DTSTART:20250330T030000
TZOFFSETFROM:+0100
TZOFFSETTO:+0200
TZNAME:CEST
END:DAYLIGHT
END:VTIMEZONE
END:VCALENDAR