BEGIN:VCALENDAR
VERSION:2.0
PRODID:-//wp-events-plugin.com//7.2.3.1//EN
TZID:Europe/Vienna
X-WR-TIMEZONE:Europe/Vienna
BEGIN:VEVENT
UID:121@insidetouch.de
DTSTART;TZID=Europe/Vienna:20241118T183000
DTEND;TZID=Europe/Vienna:20241118T210000
DTSTAMP:20240930T142732Z
URL:https://www.insidetouch.de/events/handwerkerabend-in-wenzenbach-fuer-m
 aenner-2/
SUMMARY:Handwerkerabend in Wenzenbach für Männer
DESCRIPTION:Handwerkerabend&nbsp\; -&nbsp\; Yonimassage und sexuelle Kommun
 ikation\n\nKompetent an der Frau - die sinnliche Intimmassage\n\n&nbsp\;\n
 Der Abend ist ausschließlich für Männer!\n&nbsp\;\n\n&nbsp\;
ATTACH;FMTTYPE=image/jpeg:https://www.insidetouch.de/wp-content/uploads/20
 23/10/handwerker_700_700.jpg
CATEGORIES:Handwerkerabend
LOCATION:Insidetouch - Wenzenbach\, genaue Adresse wird bei Anmeldung bekan
 nt gegeben\, Wenzenbach\, 93173\, Deutschland
X-APPLE-STRUCTURED-LOCATION;VALUE=URI;X-ADDRESS=genaue Adresse wird bei Anm
 eldung bekannt gegeben\, Wenzenbach\, 93173\, Deutschland;X-APPLE-RADIUS=1
 00;X-TITLE=Insidetouch - Wenzenbach:geo:0,0
END:VEVENT
BEGIN:VTIMEZONE
TZID:Europe/Vienna
X-LIC-LOCATION:Europe/Vienna
BEGIN:STANDARD
DTSTART:20241027T020000
TZOFFSETFROM:+0200
TZOFFSETTO:+0100
TZNAME:CET
END:STANDARD
END:VTIMEZONE
END:VCALENDAR