BEGIN:VCALENDAR
VERSION:2.0
PRODID:-//wp-events-plugin.com//7.2.3.1//EN
TZID:Europe/Vienna
X-WR-TIMEZONE:Europe/Vienna
BEGIN:VEVENT
UID:150@insidetouch.de
DTSTART;TZID=Europe/Vienna:20250515T190000
DTEND;TZID=Europe/Vienna:20250515T220000
DTSTAMP:20250202T215049Z
URL:https://www.insidetouch.de/events/handarbeitsabend-online-2/
SUMMARY:Handarbeitsabend Online
DESCRIPTION:Handarbeitsabend&nbsp\; -&nbsp\; Lingam- und Prostatamassage On
 line\nKompetent am Mann - die sinnliche Intimmassage\nEin Verwöhnprogramm
  der besonderen Art\, belebt die Beziehung\, und bringt mehr Freude und Ab
 wechslung in Dein Liebesleben. Zuhause übst Du dann\, an wem Du möchtest
 .\nDer Abend ist&nbsp\;ausschließlich für Frauen!\nDu kannst diese Handa
 rbeitsabende auch gerne für eine Kleingruppe (z.B. Jungesell*innen-Abschi
 ed\, Geburtstag usw\,) oder als Einzeltermin bei mir buchen. Preis auf Nac
 hfrage.&nbsp\;
ATTACH;FMTTYPE=image/jpeg:https://www.insidetouch.de/wp-content/uploads/20
 23/10/handarbeit_700_700.jpg
CATEGORIES:Handarbeitsabend
LOCATION:http://www.insidetouch.de/handarbeit
END:VEVENT
BEGIN:VTIMEZONE
TZID:Europe/Vienna
X-LIC-LOCATION:Europe/Vienna
BEGIN:DAYLIGHT
DTSTART:20250330T030000
TZOFFSETFROM:+0100
TZOFFSETTO:+0200
TZNAME:CEST
END:DAYLIGHT
END:VTIMEZONE
END:VCALENDAR