BEGIN:VCALENDAR
VERSION:2.0
PRODID:-//wp-events-plugin.com//7.2.3.1//EN
TZID:Europe/Vienna
X-WR-TIMEZONE:Europe/Vienna
BEGIN:VEVENT
UID:120@insidetouch.de
DTSTART;TZID=Europe/Vienna:20241114T183000
DTEND;TZID=Europe/Vienna:20241114T213000
DTSTAMP:20240930T142528Z
URL:https://www.insidetouch.de/events/handarbeitsabend-in-wenzenbach-fuer-
 frauen-3/
SUMMARY:Handarbeitsabend in Wenzenbach für Frauen
DESCRIPTION:Handarbeitsabend&nbsp\; -&nbsp\; Lingam- und Prostatamassage in
  Wenzenbach (bei Regensburg)\nKompetent am Mann - die sinnliche Intimmassa
 ge\nDer Abend ist&nbsp\;ausschließlich für Frauen!\n&nbsp\;\n\nDu kannst
  diese Handarbeitsabende auch gerne für eine Kleingruppe (z.B. Jungesell*
 innen-Abschied\, Geburtstag usw\,) oder als Einzeltermin bei mir buchen. P
 reis auf Nachfrage.&nbsp\;
ATTACH;FMTTYPE=image/jpeg:https://www.insidetouch.de/wp-content/uploads/20
 23/10/handarbeit_700_700.jpg
CATEGORIES:Handarbeitsabend,Workshop
LOCATION:Insidetouch - Wenzenbach\, genaue Adresse wird bei Anmeldung bekan
 nt gegeben\, Wenzenbach\, 93173\, Deutschland
X-APPLE-STRUCTURED-LOCATION;VALUE=URI;X-ADDRESS=genaue Adresse wird bei Anm
 eldung bekannt gegeben\, Wenzenbach\, 93173\, Deutschland;X-APPLE-RADIUS=1
 00;X-TITLE=Insidetouch - Wenzenbach:geo:0,0
END:VEVENT
BEGIN:VTIMEZONE
TZID:Europe/Vienna
X-LIC-LOCATION:Europe/Vienna
BEGIN:STANDARD
DTSTART:20241027T020000
TZOFFSETFROM:+0200
TZOFFSETTO:+0100
TZNAME:CET
END:STANDARD
END:VTIMEZONE
END:VCALENDAR