BEGIN:VCALENDAR
VERSION:2.0
PRODID:-//wp-events-plugin.com//7.2.3.1//EN
TZID:Europe/Vienna
X-WR-TIMEZONE:Europe/Vienna
BEGIN:VEVENT
UID:131@insidetouch.de
DTSTART;TZID=Europe/Vienna;VALUE=DATE:20251004
DTEND;TZID=Europe/Vienna;VALUE=DATE:20251006
DTSTAMP:20251104T233146Z
URL:https://www.insidetouch.de/events/handarbeit-meets-handwerk/
SUMMARY:Handarbeit meets Handwerk
DESCRIPTION:\nWochenend-Workshop "Handarbeit meets Handwerk live" im Loft\n
 \n\n\nIn diesem intensiven Seminar für Menschen mit Erfahrung werden wir 
 mehr über männliche und weibliche Sexualität erfahren und die Griffe de
 r tantrischen Yoni- und Lingammassage lernen\, die Entspannung\, Erregung 
 und Hingabe perfekt vereinen.\n\nAn diesem Wochenende\, bekommst Du mehr S
 icherheit im sexuellen Kontakt mit Deinem Gegenüber.\nKompetenz macht sel
 bstsicher.\nLerne mit Intim-Massagen sinnliche Berührungen und lustvolle 
 Momente zu schenken. Wir zeigen Dir die einzelnen Griffe und Berührungsar
 ten Schritt für Schritt. Ebenso stellen wir dir die verschiedenen Yoni- u
 nd Lingamtypen aus der indianischen Liebeslehre vor.&nbsp\;\n\nAnmeldung n
 ur als Paar möglich (ihr müßt nicht im täglichen Leben ein Paar sein\,
  es sollte einfach Jemand sein mit dem zusammen du diese Paar-Struktur ger
 ne machen magst und ihr meldet euch gemeinsam an. Solltest du niemanden fi
 nden kannst du dich gerne melden\, vielleicht finden wir ja ein passendes 
 Gegenüber für dich)\n\n&nbsp\;\n\n\nWir - Nirmala Held (HP Psych. Trauma
 therapie und Sexualberatung) - und JJ Gruber (Erwachsenenbildung)\nladen D
 ICH sehr herzlich ein\, diesen Tag mit uns zu verbringen.\n\nAssistenz-Tea
 m: Michaela T. und Karl-Heinz L.\n\n&nbsp\;\n\nSeminarzeiten:\n\nSamstag: 
 11:00 bis 22:00 Uhr\n\nSonntag: 10:00 bis 18:00 Uhr\n\n&nbsp\;\n\nDieses S
 eminar ist nur für Menschen mit Erfahrung geeignet.(solltest du unsicher 
 sein halte gerne Rücksprache mit uns)\n\nDie Gruppe ist offen für Frauen
 \, Männer\, Divers\, Paare\n\nFrühbucherpreis bis 04.10.2025\n\n&nbsp\;\
 n\nChristiane&nbsp\;aus&nbsp\;Regensburg&nbsp\;schrieb am&nbsp\;11. Dezemb
 er 2024&nbsp\;um&nbsp\;11:13\n\n\nLiebe Nirmala\, lieber JJ\,\n\nvon Herze
 n ein großes DANKESCHÖN für die wundervollen Erfahrungen am Wochenende 
 in eurem Kurs "Handarbeit meets Handwerk"\, den ich gemeinsam mit meinem P
 artner besucht habe. Die von Beginn an unheimlich achtsame und einfühlsam
 e Atmosphäre\, die ihr geschaffen habt\, war etwas ganz Besonderes und ha
 ben mich sehr bewegt -\nes war ein sicherer Raum\, in dem ich wirklich bei
  mir selbst ankommen konnte. Ich hab das Gefühl gehabt\, nicht nur meinen
  Körper\, sondern auch mich selbst auf eine ganz tiefe Art und Weise wahr
 zunehmen. Eure sanfte\, aber klare Anleitung haben es mir ermöglicht\, K
 örperlichkeit und Gedanken auf eine ganz neue Weise zu verbinden.\nDas al
 les - neben dem "technischen" KnowHow\, das ihr uns auf sehr vorsichtige u
 nd wohlwollende Art vermittelt habt und das unsere Beziehung sicherlich be
 reichert - war einfach ein rundum wertvolles Wochenende.\nHabt ganz&nbsp\;
 ❤lichen Dank für die tolle Zeit. Ich freue mich auf viele weitere schö
 ne Veranstaltungen und Begegnungen mit euch.\n\n\n&nbsp\;
ATTACH;FMTTYPE=image/jpeg:https://www.insidetouch.de/wp-content/uploads/20
 23/11/handarbeit_meet_handwerk_700_700.jpg
CATEGORIES:Handarbeitsabend,Handwerkerabend,offener Workshop,Workshop
LOCATION:Das Loft - Triftern\, nähe Pfarrkichen\, Triftern\, Bayern\, 8437
 1\, Deutschland
X-APPLE-STRUCTURED-LOCATION;VALUE=URI;X-ADDRESS=nähe Pfarrkichen\, Trifter
 n\, Bayern\, 84371\, Deutschland;X-APPLE-RADIUS=100;X-TITLE=Das Loft - Tri
 ftern:geo:0,0
END:VEVENT
BEGIN:VTIMEZONE
TZID:Europe/Vienna
X-LIC-LOCATION:Europe/Vienna
BEGIN:DAYLIGHT
DTSTART:20250330T030000
TZOFFSETFROM:+0100
TZOFFSETTO:+0200
TZNAME:CEST
END:DAYLIGHT
END:VTIMEZONE
END:VCALENDAR