BEGIN:VCALENDAR
VERSION:2.0
PRODID:-//wp-events-plugin.com//7.2.3.1//EN
TZID:Europe/Vienna
X-WR-TIMEZONE:Europe/Vienna
BEGIN:VEVENT
UID:280@insidetouch.de
DTSTART;TZID=Europe/Vienna:20260630T180000
DTEND;TZID=Europe/Vienna:20260630T223000
DTSTAMP:20260315T073616Z
URL:https://www.insidetouch.de/events/handarbeit-meets-handwerk-3/
SUMMARY:Handarbeit meets Handwerk - Theorie
DESCRIPTION:
ATTACH;FMTTYPE=image/jpeg:https://www.insidetouch.de/wp-content/uploads/20
 23/10/handwerker_700_700.jpg
CATEGORIES:Handarbeitsabend,Handwerkerabend
LOCATION:Insidetouch - Wenzenbach\, genaue Adresse wird bei Anmeldung bekan
 nt gegeben\, Wenzenbach\, 93173\, Deutschland
X-APPLE-STRUCTURED-LOCATION;VALUE=URI;X-ADDRESS=genaue Adresse wird bei Anm
 eldung bekannt gegeben\, Wenzenbach\, 93173\, Deutschland;X-APPLE-RADIUS=1
 00;X-TITLE=Insidetouch - Wenzenbach:geo:0,0
END:VEVENT
BEGIN:VTIMEZONE
TZID:Europe/Vienna
X-LIC-LOCATION:Europe/Vienna
BEGIN:DAYLIGHT
DTSTART:20260329T030000
TZOFFSETFROM:+0100
TZOFFSETTO:+0200
TZNAME:CEST
END:DAYLIGHT
END:VTIMEZONE
END:VCALENDAR