BEGIN:VCALENDAR
VERSION:2.0
PRODID:-//wp-events-plugin.com//7.2.3.1//EN
TZID:Europe/Vienna
X-WR-TIMEZONE:Europe/Vienna
BEGIN:VEVENT
UID:68@insidetouch.de
DTSTART;TZID=Europe/Vienna;VALUE=DATE:20241207
DTEND;TZID=Europe/Vienna;VALUE=DATE:20241209
DTSTAMP:20241102T114937Z
URL:https://www.insidetouch.de/events/handarbeit-meets-handwerk-2/
SUMMARY:Handarbeit meets Handwerk
DESCRIPTION:\nWochenend-Workshop "Handarbeit meets Handwerk live" im Loft\n
 \n\n\nIn diesem intensiven Seminar für Menschen mit Erfahrung werden wir 
 mehr über männliche und weibliche Sexualität erfahren und die Griffe de
 r tantrischen Yoni- und Lingammassage lernen\, die Entspannung\, Erregung 
 und Hingabe perfekt vereinen.\n\nAn diesem Wochenende\, bekommst Du mehr S
 icherheit im sexuellen Kontakt mit Deinem Gegenüber.\nKompetenz macht sel
 bstsicher.\nLerne mit Intim-Massagen sinnliche Berührungen und lustvolle 
 Momente zu schenken. Wir zeigen Dir die einzelnen Griffe und Berührungsar
 ten Schritt für Schritt. Ebenso stellen wir dir die verschiedenen Yoni- u
 nd Lingamtypen aus der indianischen Liebeslehre vor.&nbsp\;\n\nWir laden e
 uch ein\, euch als Paar anzumelden\, dann übst du die Griffe an Deiner Pa
 rtner:in\, oder du meldest dich alleine an\, dann werden wir in einem Wahl
 verfahren einen Partner oder eine Partnerin für die Übungen für dich fi
 nden (wir setzen voraus\, dass du in der Lage bist\, auch mit Personen\, d
 ie dir nicht vertraut sind\, intime Erfahrungen zu teilen).\n\n&nbsp\;\n\n
 \nWir - Nirmala Held (HP Psych. Traumatherapie und Sexualberatung) - und J
 J Gruber (Erwachsenenbildung)\nladen DICH sehr herzlich ein\, diesen Tag m
 it uns zu verbringen.\n\nAssistenz-Team:&nbsp\;\n\n&nbsp\;\n\nSeminarzeite
 n:\n\nSamstag: 11:00 bis 22:00 Uhr\n\nSonntag: 10:00 bis 18:00 Uhr\n\n&nbs
 p\;\n\nDieses Seminar ist nur für Menschen mit Erfahrung geeignet.(sollte
 st du unsicher sein halte gerne Rücksprache mit uns)\n\nDie Gruppe ist of
 fen für Frauen\, Männer\, Divers\, Paare\n\nMomentan sind nur noch Buchu
 ngen für Frauen und Paare möglich!\n\n&nbsp\;\n\nFrühbucherpreis bis 25
 .10.2024\n\n&nbsp\;
ATTACH;FMTTYPE=image/jpeg:https://www.insidetouch.de/wp-content/uploads/20
 23/11/handarbeit_meet_handwerk_700_700.jpg
CATEGORIES:Handarbeitsabend,Handwerkerabend,offener Workshop,Workshop
LOCATION:Das Loft - Triftern\, nähe Pfarrkichen\, Triftern\, Bayern\, 8437
 1\, Deutschland
X-APPLE-STRUCTURED-LOCATION;VALUE=URI;X-ADDRESS=nähe Pfarrkichen\, Trifter
 n\, Bayern\, 84371\, Deutschland;X-APPLE-RADIUS=100;X-TITLE=Das Loft - Tri
 ftern:geo:0,0
END:VEVENT
BEGIN:VTIMEZONE
TZID:Europe/Vienna
X-LIC-LOCATION:Europe/Vienna
BEGIN:STANDARD
DTSTART:20241027T020000
TZOFFSETFROM:+0200
TZOFFSETTO:+0100
TZNAME:CET
END:STANDARD
END:VTIMEZONE
END:VCALENDAR