BEGIN:VCALENDAR
VERSION:2.0
PRODID:-//wp-events-plugin.com//7.2.3.1//EN
TZID:Europe/Vienna
X-WR-TIMEZONE:Europe/Vienna
BEGIN:VEVENT
UID:57@insidetouch.de
DTSTART;TZID=Europe/Vienna;VALUE=DATE:20240901
DTEND;TZID=Europe/Vienna;VALUE=DATE:20240908
DTSTAMP:20240810T115137Z
URL:https://www.insidetouch.de/events/gemeinsam-zu-mir-selbsterfahrungs-re
 ise/
SUMMARY:Gemeinsam zu mir - Selbsterfahrungs-Reise
DESCRIPTION:"Gemeinsam zu mir" - Selbsterfahrungs-Woche in Kroatien\nEine W
 oche Luxus pur&nbsp\;für Dich\, Deine Seele\, Dein Wachstum&nbsp\;in der 
 Villa Ananda in Istrien/Kroatien.\nIm Spannungsfeld zwischen der eigenen E
 ntwicklung\, Individualisierung und Selbstverwirklichung einerseits und de
 m Wunsch nach Gemeinschaft und Zugehörigkeit andererseits\, werden wir im
 mer wieder mit unseren ureigensten Themen konfrontiert.\nBin ich in der La
 ge für mich zu sorgen\, für meine Wünsche und Bedürfnisse einzustehen\
 , Selbstfürsorge zu betreiben und kann trotzdem ein Teil einer Gemeinscha
 ft sein? Oder missachte ich meine Grenzen und verliere mich in der Aufgabe
  die Gemeinschaft zu stärken?\nGemeinsam zu mir\, ist eine Woche in der e
 s viele Möglichkeiten geben wird in diesem Spannungsfeld zu üben. Die An
 gst etwas zu verpassen wenn ich mich aus der Gruppe nehme um für mich zu 
 sorgen\, die Freude gemeinsam etwas zu schaffen und zu erleben\, sind nur 
 zwei Beispiele für die Vielfalt an Erfahrungen die Du in dieser Woche mac
 hen kannst.\nWir werden gemeinsame Morgenmeditationen erleben\, den Sonnen
 aufgang bewundern oder Essen zubereiten\, aber auch immer wieder jeder fü
 r sich alleine Übungen machen die Dich ein Stück näher zu Dir bringen w
 erden.\nBring die Bereitschaft mit\, Dich auf Neues einzulassen\, die Neug
 ierde täglich eine Überraschung zu erleben und durch die Verbindung in d
 er Gemeinschaft Momente des Glücks zu erleben.\n\nDiese Woche Luxus in Is
 trien\, gibt Dir Impulse\, den nächsten Schritt am Weg zu Dir selbst zu g
 ehen.\nFreu Dich auf Erlebnisse unter der Sonne Istriens\, die Du so schne
 ll nicht vergessen wirst!\nWir werden uns in diesem Seminar liebevoll erfo
 rschen und uns unseren Themen widmen\, mit Methoden aus der Körper- und G
 estaltarbeit\,&nbsp\; aus dem Neo-Tantra und auch einem&nbsp\; "Special"- 
 Angebot. Wir freuen uns auf viel Freude und Leichtigkeit!\nDurch die klein
 e Gruppengröße von nur 14-17 Teilnehmer wirst du sehr individuell und in
 tensiv von uns betreut. Es ist Raum für deine ganz eigenen wertvollen Pro
 zesse und auch für gehaltene\, liebevolle Erfahrungen in der Gruppe.\nDer
  Blick auf die Gruppe und Deine Prozesse ist natürlich von meiner trauma-
 therapeutischen Erfahrung geprägt.\nEs wird viel Zeit geben zum integrier
 en\, vertiefen\, schwimmen\, spazieren\, lecker Essen\, die Gegend erkunde
 n\, lesen\, spielen\, in die Sauna gehen…. Einfach SEIN!!!\nWir legen gr
 oßen Wert auf Gemeinschaftsprozesse und dass du dich in die Gemeinschaft 
 einbringst (durch dein Sein\, aber auch durch Aufgaben wie kochen\, die du
  zum Wohle Aller übernimmst)\nWir freuen uns\, wenn DU dabei bist!\n&nbsp
 \;\n\nZusätzlich zum Selbsterfahrungs-Seminar ist folgendes im Preis enth
 alten:\n\n* Übernachtung mit reichhaltigem Frühstück (von uns zubereite
 t)\n\n* sowie Wasser\, Säfte\, Tee und Kaffee ganztags\n\n* ein Mittagssn
 ack\, den du dir selber zubereiten kannst\n\n* sowie ein gemeinschaftlich 
 zubereitetes Abendessen\n\nNicht enthalten: alkoholische Getränke und ein
  Abendessen im Restaurant (optional)\n\n&nbsp\;\n\nDie Zimmer vergeben wir
  in der Reihenfolge der Anmeldung.&nbsp\;\n\nEs besteht kein Anspruch auf 
 ein bestimmtes Zimmer\, du kannst deinen Zimmerwunsch aber gerne buchen\, 
 wir setzen uns dann mit Dir in Verbindung ob wir deinen Wunsch berücksich
 tigen können.\nFrühbucherpreis gilt bis 3 Monate vor Seminarbeginn.\n\nD
 as Seminar beginnt am Sonntag um 18:30 Uhr mit dem Abendessen und endet am
  Samstag um 14:30 Uhr. Eine Verlängerung bis Sonntag Vormittag (10:00 Uhr
 ) mit einem Aufpreis von 40\,-€\, ohne Seminarprogramm und Verpflegung\,
  ist möglich.\n\nDieses Seminar ist für Einsteiger:innen geeignet\n\nWir
  achten nicht auf ein ausgewogenes Mann-Frau-Verhältnis\, da wir davon au
 sgehen\, dass das Universum dafür sorgt\, dass genau die richtigen Mensch
 en miteinander diese Zeit verbringen werden.\n\nVideo: Wir freuen uns auf 
 Dich in Istrien!\n\nHier gehts zum Seminarhaus Villa Ananda\n\nWir empfehl
 en den Abschluss eine Seminarversicherung\, Informationen dazu findest Du 
 hier: Seminarversicherung\n\nAssistenz:&nbsp\;\n\nFrühbucherpreis bis 01.
 06.2023\n\n&nbsp\;\n\n!!Das Seminar ist momentan ausgebucht!!
ATTACH;FMTTYPE=image/jpeg:https://www.insidetouch.de/wp-content/uploads/20
 23/10/offen_istrien_700_700.jpg
CATEGORIES:Ferienworkshops,offene Ferienwoche
LOCATION:Villa Ananda Istrien\, Mali Kosi 5H\, Labin - Kroatien\, 52220\, K
 roatien
X-APPLE-STRUCTURED-LOCATION;VALUE=URI;X-ADDRESS=Mali Kosi 5H\, Labin - Kroa
 tien\, 52220\, Kroatien;X-APPLE-RADIUS=100;X-TITLE=Villa Ananda Istrien:ge
 o:0,0
END:VEVENT
BEGIN:VTIMEZONE
TZID:Europe/Vienna
X-LIC-LOCATION:Europe/Vienna
BEGIN:DAYLIGHT
DTSTART:20240331T030000
TZOFFSETFROM:+0100
TZOFFSETTO:+0200
TZNAME:CEST
END:DAYLIGHT
END:VTIMEZONE
END:VCALENDAR