BEGIN:VCALENDAR
VERSION:2.0
PRODID:-//wp-events-plugin.com//7.2.3.1//EN
TZID:Europe/Vienna
X-WR-TIMEZONE:Europe/Vienna
BEGIN:VEVENT
UID:122@insidetouch.de
DTSTART;TZID=Europe/Vienna;VALUE=DATE:20250608
DTEND;TZID=Europe/Vienna;VALUE=DATE:20250615
DTSTAMP:20250518T134412Z
URL:https://www.insidetouch.de/events/gemeinsam-zu-mir-selbsterfahrungs-re
 ise-2/
SUMMARY:Gemeinsam zu mir - Selbsterfahrungs-Reise
DESCRIPTION:"Gemeinsam zu mir" - Selbsterfahrungs-Woche in Kroatien\nEine W
 oche Luxus pur&nbsp\;für Dich\, Deine Seele\, Dein Wachstum&nbsp\;in der 
 Villa Ananda in Istrien/Kroatien.\nIm Spannungsfeld zwischen der eigenen E
 ntwicklung\, Individualisierung und Selbstverwirklichung einerseits und de
 m Wunsch nach Gemeinschaft und Zugehörigkeit andererseits\, werden wir im
 mer wieder mit unseren ureigensten Themen konfrontiert.\nBin ich in der La
 ge für mich zu sorgen\, für meine Wünsche und Bedürfnisse einzustehen\
 , Selbstfürsorge zu betreiben und kann trotzdem ein Teil einer Gemeinscha
 ft sein? Oder missachte ich meine Grenzen und verliere mich in der Aufgabe
  die Gemeinschaft zu stärken?\n"Gemeinsam zu mir" ist eine Woche in der e
 s viele Möglichkeiten geben wird in diesem Spannungsfeld zu üben. Die An
 gst etwas zu verpassen\, wenn ich mich aus der Gruppe nehme\, um für mich
  zu sorgen\, oder die Freude gemeinsam etwas zu schaffen und zu erleben\, 
 sind nur zwei Beispiele für die Vielfalt an Erfahrungen die Du in dieser 
 Woche machen kannst.\nWir werden gemeinsame bewegte Morgenmeditationen erl
 eben\, den Sonnenaufgang bewundern oder Essen zubereiten\, aber auch immer
  wieder jeder für sich alleine Erfahrungsräume schaffen\, die Dich ein S
 tück näher zu Dir selbst bringen werden.\nBring die Bereitschaft mit\, D
 ich auf Neues einzulassen\, die Neugierde täglich eine Überraschung zu e
 rleben und durch die Verbindung in der Gemeinschaft Momente des Glücks zu
  erleben.\n\nDiese Woche Luxus in Istrien\, gibt Dir Impulse\, den nächst
 en Schritt am Weg zu Dir selbst zu gehen.\nFreu Dich auf Erlebnisse unter 
 der Sonne Istriens\, die Du so schnell nicht vergessen wirst!\nWir werden 
 uns in diesem Seminar liebevoll erforschen und uns unseren Themen widmen\,
  mit Methoden aus der Körper- und Gestaltarbeit\,&nbsp\; aus dem Neo-Tant
 ra und auch einem&nbsp\; "Special"- Angebot. Wir freuen uns auf viel Freud
 e und Leichtigkeit!\nDurch die kleine Gruppengröße von nur 14-17 Teilneh
 mer wirst du sehr individuell und intensiv von uns betreut. Es ist Raum f
 ür deine ganz eigenen wertvollen Prozesse und auch für gehaltene\, liebe
 volle Erfahrungen in der Gruppe.\nDer Blick auf die Gruppe und Deine Proze
 sse ist natürlich von meiner trauma-therapeutischen Erfahrung geprägt.\n
 Es wird viel Zeit geben zum integrieren\, vertiefen\, schwimmen\, spaziere
 n\, lecker Essen\, die Gegend erkunden\, lesen\, spielen\, in die Sauna ge
 hen…. Einfach SEIN!!!\nWir legen großen Wert auf Gemeinschaftsprozesse 
 und dass du dich in die Gemeinschaft einbringst (durch dein Sein\, aber au
 ch durch Aufgaben wie kochen\, die du zum Wohle Aller übernimmst)\nWir fr
 euen uns\, wenn DU dabei bist!\n&nbsp\;\n\nZusätzlich zum Selbsterfahrung
 s-Seminar ist folgendes im Preis enthalten:\n\n* Übernachtung mit reichha
 ltigem Frühstücksbuffet (von uns zubereitet)\n\n* sowie Wasser\, Säfte\
 , Tee und Kaffee ganztags\n\n* ein Mittagssnack\, den du dir selber zubere
 iten kannst\n\n* sowie ein gemeinschaftlich zubereitetes Abendessen\n\nNic
 ht enthalten: alkoholische Getränke und ein Abendessen im Restaurant (opt
 ional)\n\n&nbsp\;\n\nDie Zimmer vergeben wir in der Reihenfolge der Anmeld
 ung.&nbsp\;\n\nEs besteht kein Anspruch auf ein bestimmtes Zimmer\, du kan
 nst deinen Zimmerwunsch aber gerne buchen\, wir setzen uns dann mit Dir in
  Verbindung ob wir deinen Wunsch berücksichtigen können.\nFrühbucherpre
 is gilt bis 3 Monate vor Seminarbeginn.\n\nDas Seminar beginnt am Sonntag 
 um 18:30 Uhr mit dem Abendessen und dauert bis Samstag 14:00 Uhr. Wir wün
 schen uns dass du verbindlich bis zum Ende des Seminars bleiben kannst. Ei
 ne Verlängerung bis Sonntag Vormittag (10:00 Uhr) mit einem Aufpreis von 
 45\,-€\, ohne Seminarprogramm und Verpflegung (Reste-Essen)\, ist mögli
 ch.\n\n&nbsp\;\n\nDieses Seminar ist auch für Menschen ohne Vorerfahrung 
 geeignet. (bist du unsicher? Dann schreib uns gerne ein email: nirmala@ins
 idetouch.de). Mit Menschen die wir nicht kennen\, gibt es vorab einen Kenn
 enlerntermin über Zoom.\n\nWir achten nicht auf ein ausgewogenes Mann-Fra
 u-Verhältnis\, da wir davon ausgehen\, dass das Universum dafür sorgt\, 
 dass genau die richtigen Menschen miteinander diese Zeit verbringen werden
 . Wir&nbsp\;heißen Menschen aller Geschlechtsidentitäten\, Körperformen
  und sexuellen Orientierungen&nbsp\;zwischen 18 und 99 sehr willkommen.&nb
 sp\;\n\n&nbsp\;\n\nDieses Seminar ist für dich geeignet\, wenn du….\n\n
 - authentische Begegnungen suchst und bereit bist dich wahrhaftig zu zeige
 n\n\n- Freude daran hast\, Neues an dir und anderen zu entdecken\n\n- bere
 it bist\, dich mit deinen Gefühlen und Schatten auseinanderzusetzen\n\n- 
 Lust auf gemeinschaftliches Erleben hast\n\n- ein grundsätzliches Einvers
 tändnis hast mit Menschen aller Geschlechter forschen zu wollen\n\n&nbsp\
 ;\n\nDieses Seminar ist nicht das Richtige für dich\, wenn du….\n\n- 
 „nur“ auf der Suche nach schnellem Sex\, zielorientiertem Körperkonta
 kt oder einer Partner:in bist\n\n- dich nicht auf Neues einlassen möchtes
 t\n\n- wenn du keine ausreichende Selbstregulationsfähigkeit besitzt oder
  dich sehr schwer tust Deine Grenzen wahrzunehmen und diese zu setzen\n\n-
  unter keinen Umständen Menschen gleichen oder eines anderen Geschlechts 
 berühren willst\,&nbsp\;\n\n- dich nicht mit deinen inneren Themen und Sc
 hatten auseinandersetzen möchtest\n\n- weißt oder vermutest\, dass du sc
 hwere (sexuelle) Traumata hast\, oder an einer schwerwiegenden psychischen
  Erkrankung leidest\n\n&nbsp\;\n\nWir - Nirmala Held (HP Psych. Traumather
 apie und Sexualberatung) -\n\nund JJ Gruber (Erwachsenenbildung) laden DIC
 H sehr herzlich ein\, diese Woche mit uns zu verbringen!\n\nAssistenz: Kat
 hrin H.\, Nina K.\n\n&nbsp\;\n\nVideo: Wir freuen uns auf Dich in Istrien!
 \n\nHier gehts zum Seminarhaus Villa Ananda\n\nWir empfehlen den Abschluss
  eine Seminarversicherung\, Informationen dazu findest Du hier: Seminarver
 sicherung\n\nFrühbucherpreis bis 09.03.2025\n\n&nbsp\;
ATTACH;FMTTYPE=image/jpeg:https://www.insidetouch.de/wp-content/uploads/20
 23/10/offen_istrien_700_700.jpg
CATEGORIES:Ferienworkshops,offene Ferienwoche
LOCATION:Villa Ananda Istrien\, Mali Kosi 5H\, Labin - Kroatien\, 52220\, K
 roatien
X-APPLE-STRUCTURED-LOCATION;VALUE=URI;X-ADDRESS=Mali Kosi 5H\, Labin - Kroa
 tien\, 52220\, Kroatien;X-APPLE-RADIUS=100;X-TITLE=Villa Ananda Istrien:ge
 o:0,0
END:VEVENT
BEGIN:VTIMEZONE
TZID:Europe/Vienna
X-LIC-LOCATION:Europe/Vienna
BEGIN:DAYLIGHT
DTSTART:20250330T030000
TZOFFSETFROM:+0100
TZOFFSETTO:+0200
TZNAME:CEST
END:DAYLIGHT
END:VTIMEZONE
END:VCALENDAR