BEGIN:VCALENDAR
VERSION:2.0
PRODID:-//wp-events-plugin.com//7.2.3.1//EN
TZID:Europe/Vienna
X-WR-TIMEZONE:Europe/Vienna
BEGIN:VEVENT
UID:257@insidetouch.de
DTSTART;TZID=Europe/Vienna;VALUE=DATE:20260227
DTEND;TZID=Europe/Vienna;VALUE=DATE:20260302
DTSTAMP:20251213T083930Z
URL:https://www.insidetouch.de/events/frauen-6-monats-gruppe-2026-schweste
 rnbande/
SUMMARY:Frauen-5-Monats-Gruppe 2026 Schwestern:Bande 
DESCRIPTION:Wir werden von Februar bis Juli 2026 vier intensive Wochenenden
  und zwei Online-Termine miteinander verbringen.\nDie Gruppe ist offen fü
 r Frauen.\n\nDieses Seminar ist für dich geeignet\, wenn du….\n\n- auth
 entische Begegnungen suchst und bereit bist dich authentisch zu zeigen\n\n
 - Freude daran hast\, Neues an dir und anderen zu entdecken\n\n- bereit bi
 st\, dich mit deinen Gefühlen und Schatten auseinanderzusetzen\n\n- Lust 
 auf gemeinschaftliches Erleben hast\n\n&nbsp\;\n\nDieses Seminar ist nicht
  das Richtige für dich\, wenn du….\n\n- dich nicht auf Neues einlassen 
 möchtest\n\n- wenn du keine ausreichende Selbstregulationsfähigkeit besi
 tzt oder dich sehr schwer tust Deine Grenzen wahrzunehmen und diese zu set
 zen\n\n- unter keinen Umständen Menschen gleichen Geschlechts berühren w
 illst\,&nbsp\;\n\n- dich nicht mit deinen inneren Themen und Schatten ause
 inandersetzen möchtest\n\n- weißt oder vermutest\, dass du schwere (sexu
 elle) Traumata hast\, oder an einer schwerwiegenden psychischen Erkrankung
  leidest\n\n&nbsp\;\nDie Termine:\n4 Wochenenden und zwei Online-Termine\n
 \n 	27. Februar bis 01. März 2026 im runden Haus in Hemau\n 	30. März 20
 26 online\n 	24. bis 26. April 2026 im runden Haus in Hemau\n 	23. Mai 202
 6 Handarbeitsabend online\n 	25. bis 28. Juni 2026 im GroßWiesenHof in Be
 rg bei Neumarkt (Donnerstag 18:30 bis 22:00\, Freitag 11:00 bis 21:30)\n 	
 24. bis 26. Juli 2026 im runden Haus in Hemau\n\nFreitag 18:30 bis 22:00&n
 bsp\; &nbsp\;Samstag: 10:00 bis 22:00 Uhr&nbsp\; &nbsp\; Sonntag: 09:30 bi
 s 15:30 Uhr\n\nOnline: 19:00 bis 21:00/21:30 Uhr\n\n&nbsp\;\nDer Ort:\n"Da
 s runde Haus" in 93155 Hemau https://www.rundes-haus.de/\n\n"GroßWiesenHo
 f - Oase am Wald" in 92348 Berg bei Neumarkt&nbsp\; https://www.grosswiese
 nhof.de/\n\n&nbsp\;\nDie Kosten:\nWir haben ganz bewusst nach einer Mögli
 chkeit gesucht\, eine Intensiv-Gruppe anzubieten\, die für alle Interesse
 ntinnen gut erschwinglich ist – und freuen uns sehr\, dass wir sie gefun
 den haben.\nFür die Verpflegung sorgen wir gemeinsam vor Ort\, indem jede
  Frau etwas mitbringt. Einmal werden wir am GroßWiesenHof bekocht\, diese
 s Essen ist bereits im Preis enthalten. An manchen Tagen bestellen wir auf
  Wunsch zusätzlich etwas\, die Kosten dafür teilen wir dann einfach unte
 r allen auf.\nUns ist wichtig\, dass alle Frauen am langen Wochenende im J
 uni auch vor Ort übernachten\, damit wir die gemeinsame Zeit in der Grupp
 e wirklich intensiv genießen können. Deshalb wünschen wir uns eine verb
 indliche Übernachtung aller Teilnehmerinnen am GroßWiesenHof. Dort kanns
 t du deine Unterkunft direkt bei Birgit buchen (info@grosswiesenhof.de). E
 s gibt auch die Möglichkeit\, für 15 € pro Nacht im Seminarraum oder i
 m Camper zu übernachten.\nIn Hemau und Umgebung findest du gemütliche Pe
 nsionen und Ferienwohnungen – bitte beachte\, dass im Runden Haus in Hem
 au leider keine Übernachtung im Seminarraum möglich ist. Buche deine Unt
 erkunft bitte selbständig. Zusammen mit den weiteren Infos und der Mitfah
 rliste schicken wir dir dann auch eine Übersicht\, wer Interesse hat\, si
 ch eine Ferienwohnung oder ein Zimmer zu teilen.\n&nbsp\;\nPreis: 1.300\,-
 € / Frühbucherpreis bis 01.01.2026: 1150\,-€\n\n(Übernachtung und Ve
 rpflegung nicht im Preis enthalten)\n\nNach Rücksprache besteht auch die 
 Möglichkeit einer Ratenzahlung.\n\nEs besteht die Möglichkeit dass du ei
 ne Frau mit geringen finanziellen Mitteln durch den Kauf eines Schwester-\
 , Support-\, oder Little-Help Tickets unterstützt. Wir werden die Tickets
  nach eigenem Ermessen an Frauen mit Bedarf vergeben. Sollte dein Ticket n
 icht abgerufen werden\, erstatten wir dir das Geld vor Seminarbeginn zurü
 ck.&nbsp\;\n\nSolltest du Interesse an einem der Unterstützerinnen Ticket
 s haben\, weil deine finanziellen Mittel momentan beschränkt sind\, dann 
 meld dich gerne\, wir werden dir mitteilen ob eines der Tickets für dich 
 zur Verfügung steht.&nbsp\;\n\n&nbsp\;\nDeine Wegbegleiterinnen:\nNirmala
  Sabine Held\, Heilpraktikerin für Psychotherapie Traumatherapie (Somatic
  Experiencing ® und Somatische Emotionale Integration SEI ® (Modul 1 und
  2)\, Sexualberatung\n\nArunima Ursula Peter\, Dipl.-Sozialpädagogin (FH)
  Systemische Beraterin\, Systemische Supervisorin\, Somatische Emotionale 
 Integration SEI ® (Modul 1 und 2)\n\nAssistentin: Kathrin H. und Christin
 e F.\n\nDieses Seminar ist für Einsteigerinnen geeignet\n\n&nbsp\;\nWir e
 mpfehlen den Abschluss einer Seminarversicherung\nInfo's dazu findest du h
 ier:&nbsp\;Seminarversicherung
ATTACH;FMTTYPE=image/jpeg:https://www.insidetouch.de/wp-content/uploads/20
 23/10/frauenjahresgruppe_700_700.jpg
CATEGORIES:Frauen Jahresgruppe,Frauen Seminare,offener Workshop,Workshop
LOCATION:"Das Runde Haus" in Hemau\,  Gewerbering Ost 5b\, Hemau\, Bayern\,
  93155\, Deutschland
X-APPLE-STRUCTURED-LOCATION;VALUE=URI;X-ADDRESS= Gewerbering Ost 5b\, Hemau
 \, Bayern\, 93155\, Deutschland;X-APPLE-RADIUS=100;X-TITLE=\"Das Runde Hau
 s\" in Hemau:geo:0,0
END:VEVENT
BEGIN:VTIMEZONE
TZID:Europe/Vienna
X-LIC-LOCATION:Europe/Vienna
BEGIN:STANDARD
DTSTART:20251026T020000
TZOFFSETFROM:+0200
TZOFFSETTO:+0100
TZNAME:CET
END:STANDARD
END:VTIMEZONE
END:VCALENDAR