BEGIN:VCALENDAR
VERSION:2.0
PRODID:-//wp-events-plugin.com//7.2.3.1//EN
TZID:Europe/Vienna
X-WR-TIMEZONE:Europe/Vienna
BEGIN:VEVENT
UID:117@insidetouch.de
DTSTART;TZID=Europe/Vienna:20250221T183000
DTEND;TZID=Europe/Vienna:20250223T153000
DTSTAMP:20250215T165325Z
URL:https://www.insidetouch.de/events/frauen-6-monats-gruppe-2025-schweste
 rnbande/
SUMMARY:Frauen-6-Monats-Gruppe 2025 Schwestern:Bande 
DESCRIPTION:Wir werden von Februar bis Juli 2025 vier intensive Wochenenden
  miteinander verbringen.\nDie Gruppe ist offen für Frauen und solche die 
 sich als weiblich lesen.\n\nDieses Seminar ist für dich geeignet\, wenn d
 u….\n\n- authentische Begegnungen suchst und bereit bist dich authentisc
 h zu zeigen\n\n- Freude daran hast\, Neues an dir und anderen zu entdecken
 \n\n- bereit bist\, dich mit deinen Gefühlen und Schatten auseinanderzuse
 tzen\n\n- Lust auf gemeinschaftliches Erleben hast\n\n&nbsp\;\n\nDieses Se
 minar ist nicht das Richtige für dich\, wenn du….\n\n- dich nicht auf N
 eues einlassen möchtest\n\n- wenn du keine ausreichende Selbstregulations
 fähigkeit besitzt oder dich sehr schwer tust Deine Grenzen wahrzunehmen u
 nd diese zu setzen\n\n- unter keinen Umständen Menschen gleichen Geschlec
 hts berühren willst\,&nbsp\;\n\n- dich nicht mit deinen inneren Themen un
 d Schatten auseinandersetzen möchtest\n\n- weißt oder vermutest\, dass d
 u schwere (sexuelle) Traumata hast\, oder an einer schwerwiegenden psychis
 chen Erkrankung leidest\n\n&nbsp\;\nDie Termine:\nDie Termine: 4 Wochenend
 en von Freitag 18:30 bis Sonntag 15:30 Uhr\n\n 	21. bis 23. Februar 2025\n
  	11. bis 13. April 2025\n 	23. bis 25. Mai 2025\n 	25. Juni 2025 von 19:0
 0 - 21:30 Uhr Handarbeitsabend online\n 	25. bis 27. Juli 2025\n\nDer Ort:
 \n„Omas Refugium“ in 93173 Wenzenbach (Nähe Regensburg)\nDie Kosten:\
 nsehr bewusst haben wir nach einer Möglichkeit gesucht eine Intensiv-Grup
 pe anzubieten\, die für alle Interessentinnen erschwinglich ist.\n\nWir v
 erpflegen uns vor Ort selbst.\nÜbernachtungsmöglichkeiten kannst du in u
 mliegenden Hotels und Ferienwohnungen buchen.\nGegen eine Spende\, in selb
 stgewählter Höhe\, ist es auch&nbsp\;möglich im Seminarraum zu übernac
 hten.\n\nPreis: 1.100\,-€ / Frühbucherpreis bis 15.12.2024: 990\,-€\n
 \nWiederholerinnen-Rabatt gilt bis 01.12.2024\n\nNach Rücksprache besteht
  auch die Möglichkeit einer Ratenzahlung.\n\nEs besteht die Möglichkeit 
 dass du eine Frau mit geringen finanziellen Mitteln durch den Kauf eines S
 chwester-\, Support-\, oder Little-Help Tickets unterstützt. Wir werden d
 ie Tickets nach eigenem Ermessen an Wiederholerinnen vergeben. Sollte dein
  Ticket nicht abgerufen werden\, erstatten wir dir das Geld zum Ende der A
 ktion am 01.12.24 zurück.&nbsp\;\n\nSolltest du Interesse an einem der Un
 terstützerinnen Tickets haben\, weil deine finanziellen Mittel momentan b
 eschränkt sind\, ann meld dich gerne\, wir werden dir mitteilen ob eines 
 der Tickets für dich zur Verfügung steht.&nbsp\;\nDeine Wegbegleiterinne
 n:\nNirmala Sabine Held\, Heilpraktikerin für Psychotherapie Traumatherap
 ie (Somatic Experiencing ® und Somatische Emotionale Integration SEI ® (
 Modul 1 und 2)\, Sexualberatung\n\nCo-Leitung\nArunima Ursula Peter\, Dipl
 .-Sozialpädagogin (FH) Systemische Beraterin\, Systemische Supervisorin\,
  Somatische Emotionale Integration SEI ® (Modul 1 und 2)\n\nAssistentin: 
 Kathrin H. und Fanny R.\n\nDieses Seminar ist für Einsteigerinnen geeigne
 t\nWir empfehlen den Abschluss einer Seminarversicherung\nInfo's dazu find
 est du hier:&nbsp\;Seminarversicherung
ATTACH;FMTTYPE=image/jpeg:https://www.insidetouch.de/wp-content/uploads/20
 23/10/frauenjahresgruppe_700_700.jpg
CATEGORIES:Frauen Jahresgruppe,Frauen Seminare,offener Workshop,Workshop
LOCATION:Insidetouch - Wenzenbach\, genaue Adresse wird bei Anmeldung bekan
 nt gegeben\, Wenzenbach\, 93173\, Deutschland
X-APPLE-STRUCTURED-LOCATION;VALUE=URI;X-ADDRESS=genaue Adresse wird bei Anm
 eldung bekannt gegeben\, Wenzenbach\, 93173\, Deutschland;X-APPLE-RADIUS=1
 00;X-TITLE=Insidetouch - Wenzenbach:geo:0,0
END:VEVENT
BEGIN:VTIMEZONE
TZID:Europe/Vienna
X-LIC-LOCATION:Europe/Vienna
BEGIN:STANDARD
DTSTART:20241027T020000
TZOFFSETFROM:+0200
TZOFFSETTO:+0100
TZNAME:CET
END:STANDARD
END:VTIMEZONE
END:VCALENDAR