BEGIN:VCALENDAR
VERSION:2.0
PRODID:-//wp-events-plugin.com//7.2.3.1//EN
TZID:Europe/Vienna
X-WR-TIMEZONE:Europe/Vienna
BEGIN:VEVENT
UID:62@insidetouch.de
DTSTART;TZID=Europe/Vienna:20240713T110000
DTEND;TZID=Europe/Vienna:20240713T213000
DTSTAMP:20240620T065341Z
URL:https://www.insidetouch.de/events/die-magie-der-bewussten-beruehrung/
SUMMARY:Die Magie der bewussten Berührung
DESCRIPTION:Namaste - ich ehre Deinen Körper als Tempel Deiner Seele.\n\n\
 nWir werden uns an diesem Tag mit viel Freude und Neugierde unserem eigene
 n Körper nähern\, bei uns ankommen\, um dann Präsenz und Unterschiedlic
 hkeit in Berührungsqualitäten zu erfahren.\nBerührung die unter die Hau
 t geht.\nDies ist die Voraussetzung\, um in eine innere Grundhaltung von V
 erehrung und Respekt für mein Gegenüber zu kommen. Wir werden einige wen
 ige Massagegriffe aus der Tantramassage lernen (ohne Yoni- und Lingamberü
 hrung)\, die wir dann in sinnlich-fliessenden Verehrungsritualen ausprobie
 ren können.\n\n&nbsp\;\n\n\nWir - Nirmala Held (HP Psych Traumatherapie u
 nd Sexualberatung) -\n\nund JJ Gruber (Erwachsenenbildung) laden DICH sehr
  herzlich ein\, diesen Tag mit uns zu verbringen.\n\nAssistenz-Team: Fanny
  R.\, Arunima P.\n\n&nbsp\;\n\nDieses Seminar ist für Einsteiger:innen ge
 eignet\n\nDie Gruppe ist offen für Frauen\, Männer\, Divers\, Paare\n\nF
 rühbucher-Rabatt bis 01.06.2024\n\n&nbsp\;\n\n&nbsp\;
ATTACH;FMTTYPE=image/jpeg:https://www.insidetouch.de/wp-content/uploads/20
 23/10/magie_700_700.jpg
CATEGORIES:offener Workshop,Workshop
LOCATION:Das Loft - Triftern\, nähe Pfarrkichen\, Triftern\, Bayern\, 8437
 1\, Deutschland
X-APPLE-STRUCTURED-LOCATION;VALUE=URI;X-ADDRESS=nähe Pfarrkichen\, Trifter
 n\, Bayern\, 84371\, Deutschland;X-APPLE-RADIUS=100;X-TITLE=Das Loft - Tri
 ftern:geo:0,0
END:VEVENT
BEGIN:VTIMEZONE
TZID:Europe/Vienna
X-LIC-LOCATION:Europe/Vienna
BEGIN:DAYLIGHT
DTSTART:20240331T030000
TZOFFSETFROM:+0100
TZOFFSETTO:+0200
TZNAME:CEST
END:DAYLIGHT
END:VTIMEZONE
END:VCALENDAR