BEGIN:VCALENDAR
VERSION:2.0
PRODID:-//wp-events-plugin.com//7.2.3.1//EN
TZID:Europe/Vienna
X-WR-TIMEZONE:Europe/Vienna
BEGIN:VEVENT
UID:273@insidetouch.de
DTSTART;TZID=Europe/Vienna;VALUE=DATE:20260328
DTEND;TZID=Europe/Vienna;VALUE=DATE:20260330
DTSTAMP:20260327T175824Z
URL:https://www.insidetouch.de/events/die-jungen-wilden-feelings-on/
SUMMARY:Die Jungen Wilden - Feelings on
DESCRIPTION:Ein Format für junge Menschen von 18 - ca. 38 Jahre (keine har
 te Altersgrenze)\nDie Jungen Wilden – Feelings on – Echt\, lebendig\, 
 du\nWut\, Angst\, Freude\, Trauer\, Scham … mal ehrlich: Wann hast du da
 s letzte Mal wirklich gespürt\, was in dir abgeht? Unser Alltag rast oft 
 so schnell vorbei\, dass kaum Platz für echte Gefühle bleibt – und gen
 au das kann deinen Flow\, deine Lust und deine Beziehungen ziemlich durche
 inanderbringen.\nIn diesem Wochenend-Workshop gehen wir auf eine kunterbun
 te Reise durch dein Gefühls-Universum. Wir schauen\, welche Emotionen du 
 früh gelernt oder lieber verdrängt hast – und üben\, sie bewusst zu f
 ühlen.\nDu darfst:\n\n\n 	\nFeelings spüren &amp\; ausleben – bring Fr
 eude\, Wut\, Trauer oder Scham in Bewegung und erlebe sie richtig.\n\n 	\n
 Gedanken\, Gefühle &amp\; Körperempfindungen auseinanderhalten – um zu
  checken\, was gerade wirklich in dir los ist.\n\n 	\nNähe &amp\; Begegnu
 ng genießen – spielerische Kontaktübungen und liebevoller Austausch\, 
 wenn du magst.\n\n\nAlles ist eine Einladung\, kein Muss – du entscheide
 st selbst\, bei welchen Übungen\, Austauschrunden oder Bewegungsimpulsen 
 du dabei bist.\nWenn du Lust hast\, deinen Feelings wieder richtig auf die
  Spur zu kommen\, den Alltag intensiver zu spüren und dabei ordentlich le
 bendig zu sein – dann sei dabei bei Feelings on!\nDie Methoden stammen a
 us Neo-Tantra\, Körperarbeit und Traumatherapie – alles\, was dich dabe
 i unterstützt\, wieder mehr Flow\, Lebendigkeit und Lebensfreude zu spür
 en.\n&nbsp\;\nSeminarzeiten:\n\nSamstag von 11:00 Uhr – ca. 22:00 Uhr\nS
 onntag von 10:00 Uhr bis 18:00 Uhr\n\n&nbsp\;\n\nWir - Nirmala Held (HP Ps
 ych Traumatherapie und Sexualberatung) -\n\nund JJ Gruber (Erwachsenenbild
 ung) laden DICH sehr herzlich ein\, diesen Tag mit uns zu verbringen.\n\nA
 ssistenz-Team: Fanny R. und Paul H.\n\nDieses Seminar ist für Einsteiger:
 innen geeignet\n\nDie Gruppe ist offen für Frauen\, Männer\, Divers im A
 lter von 18 bis ca. 38 Jahren (keine harte Altersgrenze)\n\nFrühbucher bi
 s 14.02.2026
ATTACH;FMTTYPE=image/jpeg:https://www.insidetouch.de/wp-content/uploads/20
 23/10/junge_wilde_700_700.jpg
CATEGORIES:offener Workshop,Single,Workshop
LOCATION:Das Loft - Triftern\, nähe Pfarrkichen\, Triftern\, Bayern\, 8437
 1\, Deutschland
X-APPLE-STRUCTURED-LOCATION;VALUE=URI;X-ADDRESS=nähe Pfarrkichen\, Trifter
 n\, Bayern\, 84371\, Deutschland;X-APPLE-RADIUS=100;X-TITLE=Das Loft - Tri
 ftern:geo:0,0
END:VEVENT
BEGIN:VTIMEZONE
TZID:Europe/Vienna
X-LIC-LOCATION:Europe/Vienna
BEGIN:STANDARD
DTSTART:20251026T020000
TZOFFSETFROM:+0200
TZOFFSETTO:+0100
TZNAME:CET
END:STANDARD
BEGIN:DAYLIGHT
DTSTART:20260329T030000
TZOFFSETFROM:+0100
TZOFFSETTO:+0200
TZNAME:CEST
END:DAYLIGHT
END:VTIMEZONE
END:VCALENDAR