BEGIN:VCALENDAR
VERSION:2.0
PRODID:-//wp-events-plugin.com//7.2.3.1//EN
TZID:Europe/Vienna
X-WR-TIMEZONE:Europe/Vienna
BEGIN:VEVENT
UID:130@insidetouch.de
DTSTART;TZID=Europe/Vienna;VALUE=DATE:20251206
DTEND;TZID=Europe/Vienna;VALUE=DATE:20251208
DTSTAMP:20251204T205252Z
URL:https://www.insidetouch.de/events/die-jungen-wilden-exploring-intimacy
 /
SUMMARY:Die Jungen Wilden - Exploring Intimacy
DESCRIPTION:Ein Format für junge Menschen von 18 - ca. 38 Jahre (keine har
 te Altersgrenze)\n\n&nbsp\;\n\n- Du glaubst Sexualität ist angeboren?\n\n
 - Du glaubst dein Partner wird schon wissen was du brauchst?\n\n- Du glaub
 st das mit dem Sex\, wird sich schon fügen mit der Zeit?\n\nUnsere Sexual
 ität ist\, wie so vieles in unserem Leben\, sehr oft eine Ansammlung von 
 Irrtümern\, Glaubenssätzen und der Hoffnung\, wenn ich den oder die Rich
 tige gefunden habe\, dann passt das alles!\n\nStudien zeigen\, dass junge 
 Menschen heutzutage sowohl weniger Sex haben\, als auch weniger Lust versp
 üren als noch vor 30 Jahren.\n\nWoran liegt das? Die Gründe dafür sind 
 wohl vielfältig. - Unlust? Nicht Wissen was ich selber will? Glauben wiss
 en zu müssen was der andere will? Stress in unseren vollen Leben? Perform
 ance-Druck?\n\n&nbsp\;\n\nWir wollen uns an diesen beiden Tag der Frage wi
 dmen: "Welche Sexualität möchte ich leben?" "Wie sieht die Sexualität a
 us\, die es wert ist\, von mir gewollt zu werden?" Welche Faktoren unterst
 ützen mich dabei eine erfüllte Sexualität zu leben?\n\nWir laden dich d
 azu ein\, herauszufinden\, was du persönlich brauchst\, um dich in deiner
  Sexualität und Intimität sowohl mit dir selbst als auch mit anderen woh
 lzufühlen.\n\nWie geht der Weg vom Performance-Sex zu sinnlich-fließende
 r Intimität? Wir werden uns Zeit nehmen diese Qualität näher zu erkunde
 n\, sie zu fühlen und ein bisschen damit zu experimentieren.\n\nAlles ist
  eine Einladung... du entscheidest welche Übungsstrukturen du mit der Gru
 ppe machst und wo du lieber für dich alleine forschst.\n\n&nbsp\;\n\nIn d
 iesem Seminar geht es nicht um sexuelle Handlungen oder Nacktheit\, sonder
 n vielmehr um die Erforschung und Entwicklung unserer eigenen Bedürfnisse
  und Vorlieben in einem unterstützenden Umfeld.\n\nSeminarzeiten:\n\nSams
 tag von 11:00 Uhr – ca. 22:00 Uhr\nSonntag von 10:00 Uhr bis 18:00 Uhr\n
 \n&nbsp\;\n\nWir - Nirmala Held (HP Psych Traumatherapie und Sexualberatun
 g) -\n\nund JJ Gruber (Erwachsenenbildung) laden DICH sehr herzlich ein\, 
 diesen Tag mit uns zu verbringen.\n\nAssistenz-Team: Fanny R. und Paul H.\
 n\n&nbsp\;\n\nDieses Seminar ist für Einsteiger:innen geeignet\n\nDie Gru
 ppe ist offen für Frauen\, Männer\, Divers im Alter von 18 bis ca. 38 Ja
 hren (keine harte Altersgrenze)\n\nFrühbucher bis 01.11.2025\n\n&nbsp\;\n
 \n&nbsp\;Marina&nbsp\;aus&nbsp\;Straubing&nbsp\;schrieb am&nbsp\;25. März
  2025&nbsp\;\n\n\nDie jungen Wilden März 2025.\n\nUnfassbar\, was an eine
 m Wochenende\, an nur zwei Tagen\, passieren kann.\n\nBei diesem Seminar h
 ab ich mich sicher gefühlt. Sicher\, um zu fühlen. Sicher genug\, um mei
 nen Schmerz zu zeigen\, mit meiner Traurigkeit und meiner Angst da zu sein
 . Und ich hab mich sicher genug gefühlt\, um Lust zuzulassen und meine Le
 bendigkeit fließen zu lassen.\n\nIch hab viel gelernt und ich hab wieder 
 einige meiner Muster erkennen dürfen.\nIch habe viele unfassbar tolle Men
 schen kennen gelernt. Einige werden sicherlich über das Seminar hinaus me
 in Leben weiterhin bereichern. Dafür bin ich unendlich dankbar.\n\nDieses
  Seminar ist ein Geschenk an alle\, die sich mehr mit sich selbst beschäf
 tigen möchten und echte\, tiefe Begegnungen erleben möchten.\n\n
ATTACH;FMTTYPE=image/jpeg:https://www.insidetouch.de/wp-content/uploads/20
 23/10/junge_wilde_700_700.jpg
CATEGORIES:offener Workshop,Single,Workshop
LOCATION:Das Loft - Triftern\, nähe Pfarrkichen\, Triftern\, Bayern\, 8437
 1\, Deutschland
X-APPLE-STRUCTURED-LOCATION;VALUE=URI;X-ADDRESS=nähe Pfarrkichen\, Trifter
 n\, Bayern\, 84371\, Deutschland;X-APPLE-RADIUS=100;X-TITLE=Das Loft - Tri
 ftern:geo:0,0
END:VEVENT
BEGIN:VTIMEZONE
TZID:Europe/Vienna
X-LIC-LOCATION:Europe/Vienna
BEGIN:STANDARD
DTSTART:20251026T020000
TZOFFSETFROM:+0200
TZOFFSETTO:+0100
TZNAME:CET
END:STANDARD
END:VTIMEZONE
END:VCALENDAR