BEGIN:VCALENDAR
VERSION:2.0
PRODID:-//wp-events-plugin.com//7.2.3.1//EN
TZID:Europe/Vienna
X-WR-TIMEZONE:Europe/Vienna
BEGIN:VEVENT
UID:128@insidetouch.de
DTSTART;TZID=Europe/Vienna;VALUE=DATE:20250322
DTEND;TZID=Europe/Vienna;VALUE=DATE:20250324
DTSTAMP:20241214T190857Z
URL:https://www.insidetouch.de/events/die-jungen-wilden-achtsam-selbstbest
 immt-und-neugierig/
SUMMARY:Die Jungen Wilden - Achtsam\, Selbstbestimmt und Neugierig
DESCRIPTION:Hast du manchmal das Gefühl\, dass Party machen allein dich ni
 cht erfüllt?\n\nFühlst du dich manchmal verloren inmitten deiner Freunde
 sgruppe?\n\nFällt es dir schwer\, dich selbst gut zu spüren und dich sel
 bst zu feiern?\n\nSehnst du dich nach Liebe und Beziehung\, doch es kommen
  immer nur die „Falschen“ in dein Leben?\n\nFühlst du dich in deiner 
 Sexualität unter Druck gesetzt und wüsstest gern\, wie du diese entspann
 ter leben kannst?\n\nStellst du dir manchmal die Frage: "Wer zur Hölle bi
 n ich eigentlich?"\n\nWenn du dich in einer\, oder auch in all diesen Frag
 en wiedererkennst\, könntest du genau richtig sein bei den "jungen Wilden
 "!\n\n&nbsp\;\n\nWir nehmen uns zwei Tage Zeit\, um uns selbst besser kenn
 enzulernen und sowohl eine liebevolle Verbindung zu uns selbst als auch zu
  den anderen Teilnehmenden aufzubauen.\n\nWie finden wir den Weg zu unsere
 m wahren\, authentischen "Ich"? Und damit auch zu einem berührenden "Du"?
  Wie sagen wir klipp und klar "Nein"\, um dann ein ehrliches "Ja" leben zu
  können?\n\nGemeinsam erforschen wir\, wie wir in Beziehung zu anderen Me
 nschen leben wollen. Wie wir erfüllende Liebesbeziehungen finden und in d
 iesen auf Augenhöhe leben können. Und\, wie es uns gelingt\, unsere Sexu
 alität entspannt und selbstbestimmt zu entdecken und zu (er)leben.\n\nBei
  diesem Workshop ist alles eine Einladung\, d.h. du kannst immer wieder ne
 u entscheiden bei welchen Übungsstrukturen\, Austauschrunden\, Bewegungse
 inheiten und Selbstentdeckungsmomenten du mitmachen magst.&nbsp\;\n\nDich 
 erwarten Ansätze aus dem Neo-Tantra und der Körpertherapie.\n\n„Die ju
 ngen Wilden“ ist ein Wochenende fernab von Gruppensex mit Räucherstäbc
 hen\, speziell für junge Menschen\nim Alter von 18 bis 38 (keine harte Al
 tersgrenze).\n&nbsp\;\n\nWir - Nirmala Held (HP Psych. Traumatherapie und 
 Sexualberatung) -\n\nund JJ Gruber (Erwachsenenbildung) laden DICH sehr he
 rzlich ein\, diesen Tag mit uns zu verbringen.\n\nAssistenz-Team: Fanny R.
 \, Paul H.\n\n&nbsp\;\n\nSeminarzeiten:\n\nSamstag: 11:00 bis 22:00 Uhr\n\
 nSonntag: 10:00 bis 18:00 Uhr\n\nBei finanziell schwieriger Lage\, sprich 
 uns gerne an.\n\n&nbsp\;\n\nDieses Seminar ist für Einsteiger*innen geeig
 net\n\nDie Gruppe ist offen für Frauen\, Männer\, Divers\, Paare\n\nFrü
 hbucher bis 15.02.2025\n\n&nbsp\;
ATTACH;FMTTYPE=image/jpeg:https://www.insidetouch.de/wp-content/uploads/20
 23/10/junge_wilde_700_700.jpg
CATEGORIES:offener Workshop,von 18 bis Ende 30 Jahre,Workshop
LOCATION:Das Loft - Triftern\, nähe Pfarrkichen\, Triftern\, Bayern\, 8437
 1\, Deutschland
X-APPLE-STRUCTURED-LOCATION;VALUE=URI;X-ADDRESS=nähe Pfarrkichen\, Trifter
 n\, Bayern\, 84371\, Deutschland;X-APPLE-RADIUS=100;X-TITLE=Das Loft - Tri
 ftern:geo:0,0
END:VEVENT
BEGIN:VTIMEZONE
TZID:Europe/Vienna
X-LIC-LOCATION:Europe/Vienna
BEGIN:STANDARD
DTSTART:20241027T020000
TZOFFSETFROM:+0200
TZOFFSETTO:+0100
TZNAME:CET
END:STANDARD
END:VTIMEZONE
END:VCALENDAR