BEGIN:VCALENDAR
VERSION:2.0
PRODID:-//wp-events-plugin.com//7.2.3.1//EN
TZID:Europe/Vienna
X-WR-TIMEZONE:Europe/Vienna
BEGIN:VEVENT
UID:139@insidetouch.de
DTSTART;TZID=Europe/Vienna;VALUE=DATE:20261001
DTEND;TZID=Europe/Vienna;VALUE=DATE:20261005
DTSTAMP:20251014T200755Z
URL:https://www.insidetouch.de/events/das-grosse-finale/
SUMMARY:Das große Finale
DESCRIPTION:\n\n\n\n\n\nEin Frauen-Workshop für Aha- und O-Erlebnisse\nWen
 n Du das Thema „O“(rgasmus) eher als Druck oder Anstrengung erlebst un
 d es trotz allem Wollen oft nicht klappt\, dann könnte dieses Seminar gen
 au das Richtige für Dich sein. Im geschützten kleinen Kreis von Frauen (
 maximal 14 Teilnehmerinnen) mit ähnlichen Erfahrungen wollen wir unsere S
 exualität und den sexuellen Höhepunkt in den Mittelpunkt stellen und neh
 men uns bewusst Zeit\, um mit unserem Lusterleben in Kontakt zu kommen.\n\
 nDer Orgasmus ist ein natürlicher und wichtiger Teil des weiblichen Sexua
 llebens und wir möchten einen Raum schaffen\, in dem Frauen offen über i
 hre Erfahrungen\, Wünsche und Fragen sprechen können. Durch theoretische
 n Input wollen wir mehr Wohlwollen für unsere eigene&nbsp\;(sexuelle) Ent
 wicklungsgeschichte entstehen lassen und vielleicht auch&nbsp\;verstehen\,
  warum Kontrollverlust und Expansion bedrohlich wirken können.\n\nIn acht
 samen praktischen Übungen erforschen wir dann\, wie sich diese neuen Erke
 nntnisse als Körpererfahrung etablieren lassen und wie wir unseren innere
 n&nbsp\;Raum erweitern können. Wir wollen unserem ganz eigenen Lustempfin
 den folgen\, so&nbsp\;dass mehr Hingabe und Vergnügen gelingen kann. Alle
  Übungen sind eine Einladung und werden achtsam und kompetent eingeführt
  und&nbsp\;begleitet.\n\n\n\n\n\n\n\n\n\n\n\n\n\nSeminarvoraussetzungen\n\
 n\n\n\n\nDas Seminar richtet sich an Frauen jeden Alters und jeder sexuell
 en Orientierung\, die mehr über ihre Sexualität erfahren möchten – un
 abhängig von Vorkenntnissen oder Erfahrungen. Es ist ein geschützter Rau
 m\, in dem jede Frau sich wohlfühlen und offen sprechen kann.\n\n\n\nSemi
 narleitung:\nBirgit Schmidberger&nbsp\;&amp\;&nbsp\;Nirmala Held\nSeminaro
 rt:\n\n\n\n\n\n\n\nBegegnungsRaum Apfelgarten\nwww.begegnungsraum-apfelgar
 ten.de\nLandstraße 20\n88339 Bad Waldsee\nTelefon 07524/914707\ncmb.schmi
 dberger@t-online.de | nirmala@insidetouch.de\n\n\n\n\n\nBuchung: https://w
 ww.bewusster-lieben.de/frauen/das-grosse-finale/\n\n\n\nFragen&nbsp\; an: 
 &nbsp\;info@bewusster-lieben.de\n\nJutta&nbsp\;aus&nbsp\;München&nbsp\;sc
 hrieb am&nbsp\;12. März 2025&nbsp\;\n"Das große Finale - von Aha und O-E
 rlebnissen"\nEs war ein sehr gehaltvolles\, abwechslungsreiches\, berühre
 ndes und inspirierendes Seminar in einer\nGruppe wundervoller Frauen. Medi
 tationen\, Wahrnehmungs- und Selbsterforschungsübungen (tlw.\nauch in der
  Natur) Selbstreflexion\, Partnerübungen\, theoretische Inputs\, Tanzen 
 … ein bunter\nBlumenstrauß\, um sich dem Thema von allen Seiten zu näh
 ern. Ich bin dankbar für den Mut der\nbeiden Trainerinnen\, ein Seminar z
 u diesem wohl intimsten aller Themen zu entwickeln und für den\nMut der a
 nderen Frauen\, sich dort anzumelden und ihre Erfahrungen und Gefühle so 
 offen zu teilen.\nNirmala und Birgit haben ein wundervolles Seminar konzip
 iert und es großartig (an)geleitet mit hoher\nProfessionalität\, ganz vi
 el Einfühlungsvermögen und großer Begeisterung für das Thema. Sie habe
 n\neinen Raum geschaffen\, in dem von der ersten Minute an eine Akzeptanz 
 für das So-Sein jeder Frau\nspürbar war und diesen liebevoll die ganze Z
 eit über gehalten. Hilfreich und besonders finde ich auch\,\ndass die bei
 den Trainerinnen ihren eigenen Weg zu ihrem Frausein an den Stellen eingeb
 racht haben\,\nwo es gut passte. Ich habe das als sehr authentisch und erm
 utigend wahrgenommen. Und außerdem\nergänzen sich die beiden ganz wunder
 bar in ihren jeweils ganz besonderen Fähigkeiten und mit ihren\nunterschi
 edlichen Persönlichkeiten.\n\n\n\n\n\n\n\n
ATTACH;FMTTYPE=image/jpeg:https://www.insidetouch.de/wp-content/uploads/20
 23/10/plaisir_concave_700_700.jpg
CATEGORIES:Frauen Seminare,Frauen Wochenendworkshops
END:VEVENT
BEGIN:VTIMEZONE
TZID:Europe/Vienna
X-LIC-LOCATION:Europe/Vienna
BEGIN:DAYLIGHT
DTSTART:20260329T030000
TZOFFSETFROM:+0100
TZOFFSETTO:+0200
TZNAME:CEST
END:DAYLIGHT
END:VTIMEZONE
END:VCALENDAR