BEGIN:VCALENDAR
VERSION:2.0
PRODID:-//wp-events-plugin.com//7.2.3.1//EN
TZID:Europe/Vienna
X-WR-TIMEZONE:Europe/Vienna
BEGIN:VEVENT
UID:133@insidetouch.de
DTSTART;TZID=Europe/Vienna;VALUE=DATE:20250405
DTEND;TZID=Europe/Vienna;VALUE=DATE:20250407
DTSTAMP:20250403T095345Z
URL:https://www.insidetouch.de/events/darum-pruefe-wer-sich-ewig-bindet-un
 sere-bindungsmuster-im-chaos-der-liebe/
SUMMARY:Darum prüfe wer sich ewig bindet - unsere Bindungsmuster im Chaos 
 der Liebe
DESCRIPTION:Warum wir in (Liebes-) Beziehungen kleben\, klammern oder kurz 
 mal weg sind...\n\nHast du das Gefühl\, immer wieder auf die „Falschen
 “ zu stoßen? Obwohl du dir sehnlichst eine glückliche Beziehung wünsc
 hst\, scheint es einfach nicht zu klappen? Findest du ständig neue Gründ
 e\, warum das bei ihm oder ihr "gar nicht geht"?\n\nWarum beeinflussen mei
 ne Eltern mein Liebesleben?\n\nIn diesem Seminar geht es darum\, wie unser
 e Bindungserfahrungen aus der Kindheit einen tiefen Einfluss auf unsere (L
 iebes-)Beziehungen im Erwachsenenalter haben. Diese frühen Erfahrungen si
 nd in unserem impliziten Gedächtnis gespeichert und prägen (meist unbewu
 sst) unser Bindungs-Verhalten und unsere Erwartungen als Erwachsene. Bindu
 ngsmuster sind dabei besonders stabil und verändern sich nicht von selbst
 \, wenn wir nicht aktiv an ihnen arbeiten.\n\nAn diesem Wochenende erforsc
 hen wir\, welche frühen Bindungsmuster uns begleiten und wie wir sie in u
 nseren heutigen Beziehungen immer noch leben. Wir experimentieren mit neue
 n\, korrigierenden Bindungserfahrungen und erforschen\, wie wir mit mehr B
 ewusstsein Veränderung schaffen können. So werden wir immer sicherer im 
 Beziehungs-Kontakt mit anderen – und öffnen die Tür für erfüllte\, a
 uthentische Verbindungen.\n\n&nbsp\;\n\nWenn Du Lust hast\, Dich neu zu en
 tdecken und einen Blick hinter die eigenen Muster und Prägungen zu werfen
 \, dann erwarten Dich berührende Tage in jeder Hinsicht.\nLass uns (selbe
 r und einander) kennenlernen!\n\nDie Inhalte sind Angebote an Dich\, Du en
 tscheidest jedes mal worauf Du Dich einlassen möchtest und wo Du nicht mi
 tmachst. Du erhältst Unterstützung durch uns und durch die Gruppe und ha
 ndelst immer nach dem Motto...\n\nAlles ist willkommen\, alles darf da sei
 n!\n\n&nbsp\;\n\nDer Blick auf die Gruppe und Deine Prozesse ist natürlic
 h von meiner trauma-therapeutischen Erfahrung geprägt.\n\n&nbsp\;\n\nSemi
 narzeiten:\n\nSamstag von 11:00 Uhr - 21:30 Uhr\nSonntag von 10:00 Uhr bis
  18:00 Uhr\n\n&nbsp\;\n\nWir - Nirmala Held (HP Psych Traumatherapie und S
 exualberatung) -\n\nund JJ Gruber (Erwachsenenbildung) laden DICH sehr her
 zlich ein\, diesen Tag mit uns zu verbringen.\n\nAssistenz-Team: Jojo W. u
 nd Werner B.&nbsp\;\n\n&nbsp\;\n\nDieses Seminar ist auch für Menschen oh
 ne Vorerfahrung geeignet\n\nDie Gruppe ist offen für Frauen\, Männer\, D
 ivers\, Paare\n\nFrühbucher bis 22.02.2025
ATTACH;FMTTYPE=image/jpeg:https://www.insidetouch.de/wp-content/uploads/20
 23/10/single_700_700.jpg
CATEGORIES:offener Workshop,Workshop
LOCATION:Das Loft - Triftern\, nähe Pfarrkichen\, Triftern\, Bayern\, 8437
 1\, Deutschland
X-APPLE-STRUCTURED-LOCATION;VALUE=URI;X-ADDRESS=nähe Pfarrkichen\, Trifter
 n\, Bayern\, 84371\, Deutschland;X-APPLE-RADIUS=100;X-TITLE=Das Loft - Tri
 ftern:geo:0,0
END:VEVENT
BEGIN:VTIMEZONE
TZID:Europe/Vienna
X-LIC-LOCATION:Europe/Vienna
BEGIN:DAYLIGHT
DTSTART:20250330T030000
TZOFFSETFROM:+0100
TZOFFSETTO:+0200
TZNAME:CEST
END:DAYLIGHT
END:VTIMEZONE
END:VCALENDAR