BEGIN:VCALENDAR
VERSION:2.0
PRODID:-//wp-events-plugin.com//7.2.3.1//EN
TZID:Europe/Vienna
X-WR-TIMEZONE:Europe/Vienna
BEGIN:VEVENT
UID:260@insidetouch.de
DTSTART;TZID=Europe/Vienna;VALUE=DATE:20260110
DTEND;TZID=Europe/Vienna;VALUE=DATE:20260112
DTSTAMP:20251221T122939Z
URL:https://www.insidetouch.de/events/darum-pruefe-wer-sich-ewig-bindet-un
 sere-bindungsmuster-im-chaos-der-liebe-4/
SUMMARY:Darum prüfe wer sich ewig bindet - unsere Bindungsmuster im Chaos 
 der Liebe
DESCRIPTION:Warum wir in (Liebes-) Beziehungen kleben\, klammern oder kurz 
 mal weg sind...\nHast du das Gefühl\, immer wieder auf die „Falschen“
  zu stoßen? Obwohl du dir sehnlichst eine glückliche Beziehung wünschst
 \, scheint es einfach nicht zu klappen? Findest du ständig neue Gründe\,
  warum das bei ihm oder ihr "gar nicht geht"?\n\nWarum beeinflussen meine 
 Eltern mein Liebesleben?\n\nIn diesem Seminar geht es darum\, wie unsere B
 indungserfahrungen aus der Kindheit einen tiefen Einfluss auf unsere (Lieb
 es-)Beziehungen im Erwachsenenalter haben. Diese frühen Erfahrungen sind 
 in unserem impliziten Gedächtnis gespeichert und prägen (meist unbewusst
 ) unser Bindungs-Verhalten und unsere Erwartungen als Erwachsene. Bindungs
 muster sind dabei besonders stabil und verändern sich nicht von selbst\, 
 wenn wir nicht aktiv an ihnen arbeiten.\n\nAn diesem Wochenende erforschen
  wir\, welche frühen Bindungsmuster uns begleiten und wie wir sie in unse
 ren heutigen Beziehungen immer noch leben. Wir experimentieren mit neuen\,
  korrigierenden Bindungserfahrungen und erforschen\, wie wir mit mehr Bewu
 sstsein Veränderung schaffen können. So werden wir immer sicherer im Bez
 iehungs-Kontakt mit anderen – und öffnen die Tür für erfüllte\, auth
 entische Verbindungen.\n\nWenn Du Lust hast\, Dich neu zu entdecken und ei
 nen Blick hinter die eigenen Muster und Prägungen zu werfen\, dann erwart
 en Dich berührende Tage in jeder Hinsicht.\nLass uns (selber und einander
 ) kennenlernen!\n\nDie Inhalte sind Angebote an Dich\, Du entscheidest jed
 es mal worauf Du Dich einlassen möchtest und wo Du nicht mitmachst. Du er
 hältst Unterstützung durch uns und durch die Gruppe und handelst immer n
 ach dem Motto...\n\nAlles ist willkommen\, alles darf da sein!\n\nDer Blic
 k auf die Gruppe und Deine Prozesse ist natürlich von meiner trauma-thera
 peutischen Erfahrung geprägt.\n\n&nbsp\;\n\nSeminarzeiten:\n\nSamstag von
  11:00 Uhr - 22:00 Uhr\nSonntag von 10:00 Uhr bis 18:30 Uhr\n\n&nbsp\;\n\n
 Wir - Nirmala Held (HP Psych Traumatherapie und Sexualberatung) -\n\nund J
 J Gruber (Erwachsenenbildung) laden DICH sehr herzlich ein\, diesen Tag mi
 t uns zu verbringen.\n\nAssistenz-Team: Paul H. und Sabrina E.&nbsp\;\n\n&
 nbsp\;\n\nDieses Seminar ist auch für Menschen ohne Vorerfahrung geeignet
 \n\nDie Gruppe ist offen für Frauen\, Männer\, Divers\, Paare\n\nFrühbu
 cher bis 29.11.2025\, dann 260\,-€
ATTACH;FMTTYPE=image/jpeg:https://www.insidetouch.de/wp-content/uploads/20
 23/10/single_700_700.jpg
CATEGORIES:offener Workshop,Workshop
LOCATION:GroßWiesenHof\, Großwiesenhof 1\, Berg bei Neumarkt\, Bayern\, 9
 2348\, Deutschland
X-APPLE-STRUCTURED-LOCATION;VALUE=URI;X-ADDRESS=Großwiesenhof 1\, Berg bei
  Neumarkt\, Bayern\, 92348\, Deutschland;X-APPLE-RADIUS=100;X-TITLE=GroßW
 iesenHof:geo:0,0
END:VEVENT
BEGIN:VTIMEZONE
TZID:Europe/Vienna
X-LIC-LOCATION:Europe/Vienna
BEGIN:STANDARD
DTSTART:20251026T020000
TZOFFSETFROM:+0200
TZOFFSETTO:+0100
TZNAME:CET
END:STANDARD
END:VTIMEZONE
END:VCALENDAR